Workbook

Sheet Genera Atc y Atd
A3: NUMERO DE ATENDIDOS Y ATENCIONES AL ESTABLECIMIENTO POR SEXO
A5: Periodo: Enero - 2026
A6: Diresa/Red/M.Red/EE.SS: AREQUIPA/AREQUIPA CAYLLOMA/MARITZA CAMPOS DIAZ/TODOS LOS EE.SS
A9: 1. Según Etapa de Vida:
A11: GRUPO ETAREO | B11: ATENDIDOS | E11: ATENCIONES
B12: TOTAL | C12: F | D12: M | E12: TOTAL | F12: F | G12: M
A14: TOTAL GENERAL | B14: 11290 | C14: 7495 | D14: 3795 | E14: 21157 | F14: 14271 | G14: 6886
A15: < 01 mes | B15: 236 | C15: 108 | D15: 128 | E15: 870 | F15: 392 | G15: 478
A16: 01 a 11 meses | B16: 937 | C16: 460 | D16: 477 | E16: 1705 | F16: 828 | G16: 877
A17: 01 a 04 años | B17: 1401 | C17: 682 | D17: 719 | E17: 2204 | F17: 1088 | G17: 1116
A18: 05 a 11 años | B18: 669 | C18: 323 | D18: 346 | E18: 1095 | F18: 474 | G18: 621
A19: 12 a 17 años | B19: 634 | C19: 393 | D19: 241 | E19: 1208 | F19: 733 | G19: 475
A20: 18 a 29 años | B20: 2210 | C20: 1723 | D20: 487 | E20: 4414 | F20: 3588 | G20: 826
A21: 30 a 59 años | B21: 3961 | C21: 3025 | D21: 936 | E21: 7436 | F21: 5831 | G21: 1605
A22: 60 años a más | B22: 1242 | C22: 781 | D22: 461 | E22: 2225 | F22: 1337 | G22: 888
A29: NUMERO DE ATENDIDOS Y ATENCIONES AL ESTABLECIMIENTO POR SEXO
A31: Periodo: Enero - 2026
A32: Diresa/Red/M.Red/EE.SS: AREQUIPA/AREQUIPA CAYLLOMA/MARITZA CAMPOS DIAZ/I-4 - 000001237 - MARITZA CAMPOS DIAZ - ZAMACOLA
A35: 1. Según Etapa de Vida:
A37: GRUPO ETAREO | B37: ATENDIDOS | E37: ATENCIONES
B38: TOTAL | C38: F | D38: M | E38: TOTAL | F38: F | G38: M
A40: TOTAL GENERAL | B40: 4902 | C40: 3241 | D40: 1661 | E40: 9261 | F40: 6183 | G40: 3078
A41: < 01 mes | B41: 117 | C41: 52 | D41: 65 | E41: 543 | F41: 243 | G41: 300
A42: 01 a 11 meses | B42: 210 | C42: 119 | D42: 91 | E42: 390 | F42: 218 | G42: 172
A43: 01 a 04 años | B43: 425 | C43: 223 | D43: 202 | E43: 668 | F43: 376 | G43: 292
A44: 05 a 11 años | B44: 275 | C44: 148 | D44: 127 | E44: 443 | F44: 207 | G44: 236
A45: 12 a 17 años | B45: 300 | C45: 200 | D45: 100 | E45: 541 | F45: 320 | G45: 221
A46: 18 a 29 años | B46: 1078 | C46: 771 | D46: 307 | E46: 2171 | F46: 1644 | G46: 527
A47: 30 a 59 años | B47: 1845 | C47: 1316 | D47: 529 | E47: 3372 | F47: 2487 | G47: 885
A48: 60 años a más | B48: 652 | C48: 412 | D48: 240 | E48: 1133 | F48: 688 | G48: 445
A61: NUMERO DE ATENDIDOS Y ATENCIONES AL ESTABLECIMIENTO POR SEXO
A63: Periodo: Enero - 2026
A64: Diresa/Red/M.Red/EE.SS: AREQUIPA/AREQUIPA CAYLLOMA/MARITZA CAMPOS DIAZ/I-2 - 000001247 - PUESTO DE SALUD CIUDAD MUNICIPAL
A67: 1. Según Etapa de Vida:
A69: GRUPO ETAREO | B69: ATENDIDOS | E69: ATENCIONES
B70: TOTAL | C70: F | D70: M | E70: TOTAL | F70: F | G70: M
A72: TOTAL GENERAL | B72: 2992 | C72: 2034 | D72: 958 | E72: 5411 | F72: 3813 | G72: 1598
A73: < 01 mes | B73: 53 | C73: 29 | D73: 24 | E73: 154 | F73: 81 | G73: 73
A74: 01 a 11 meses | B74: 336 | C74: 171 | D74: 165 | E74: 610 | F74: 316 | G74: 294
A75: 01 a 04 años | B75: 417 | C75: 199 | D75: 218 | E75: 624 | F75: 289 | G75: 335
A76: 05 a 11 años | B76: 176 | C76: 80 | D76: 96 | E76: 295 | F76: 127 | G76: 168
A77: 12 a 17 años | B77: 156 | C77: 87 | D77: 69 | E77: 310 | F77: 196 | G77: 114
A78: 18 a 29 años | B78: 515 | C78: 432 | D78: 83 | E78: 1013 | F78: 888 | G78: 125
A79: 30 a 59 años | B79: 1012 | C79: 823 | D79: 189 | E79: 1873 | F79: 1587 | G79: 286
A80: 60 años a más | B80: 327 | C80: 213 | D80: 114 | E80: 532 | F80: 329 | G80: 203
A89: NUMERO DE ATENDIDOS Y ATENCIONES AL ESTABLECIMIENTO POR SEXO
A91: Periodo: Enero - 2026
A92: Diresa/Red/M.Red/EE.SS: AREQUIPA/AREQUIPA CAYLLOMA/MARITZA CAMPOS DIAZ/I-2 - 000001251 - PUESTO DE SALUD NAZARENO
A95: 1. Según Etapa de Vida:
A97: GRUPO ETAREO | B97: ATENDIDOS | E97: ATENCIONES
B98: TOTAL | C98: F | D98: M | E98: TOTAL | F98: F | G98: M
A100: TOTAL GENERAL | B100: 1659 | C100: 1050 | D100: 609 | E100: 2945 | F100: 1879 | G100: 1066
A101: < 01 mes | B101: 40 | C101: 16 | D101: 24 | E101: 105 | F101: 39 | G101: 66
A102: 01 a 11 meses | B102: 208 | C102: 80 | D102: 128 | E102: 378 | F102: 138 | G102: 240
A103: 01 a 04 años | B103: 310 | C103: 153 | D103: 157 | E103: 492 | F103: 235 | G103: 257
A104: 05 a 11 años | B104: 85 | C104: 35 | D104: 50 | E104: 113 | F104: 48 | G104: 65
A105: 12 a 17 años | B105: 73 | C105: 38 | D105: 35 | E105: 124 | F105: 65 | G105: 59
A106: 18 a 29 años | B106: 256 | C106: 203 | D106: 53 | E106: 428 | F106: 355 | G106: 73
A107: 30 a 59 años | B107: 539 | C107: 432 | D107: 107 | E107: 1010 | F107: 819 | G107: 191
A108: 60 años a más | B108: 148 | C108: 93 | D108: 55 | E108: 295 | F108: 180 | G108: 115
A119: NUMERO DE ATENDIDOS Y ATENCIONES AL ESTABLECIMIENTO POR SEXO
A121: Periodo: Enero - 2026
A122: Diresa/Red/M.Red/EE.SS: AREQUIPA/AREQUIPA CAYLLOMA/MARITZA CAMPOS DIAZ/I-2 - 000011023 - PUESTO DE SALUD PERUARBO
A125: 1. Según Etapa de Vida:
A127: GRUPO ETAREO | B127: ATENDIDOS | E127: ATENCIONES
B128: TOTAL | C128: F | D128: M | E128: TOTAL | F128: F | G128: M
A130: TOTAL GENERAL | B130: 1737 | C130: 1170 | D130: 567 | E130: 3540 | F130: 2396 | G130: 1144
A131: < 01 mes | B131: 26 | C131: 11 | D131: 15 | E131: 68 | F131: 29 | G131: 39
A132: 01 a 11 meses | B132: 183 | C132: 90 | D132: 93 | E132: 327 | F132: 156 | G132: 171
A133: 01 a 04 años | B133: 249 | C133: 107 | D133: 142 | E133: 420 | F133: 188 | G133: 232
A134: 05 a 11 años | B134: 133 | C134: 60 | D134: 73 | E134: 244 | F134: 92 | G134: 152
A135: 12 a 17 años | B135: 105 | C135: 68 | D135: 37 | E135: 233 | F135: 152 | G135: 81
A136: 18 a 29 años | B136: 361 | C136: 317 | D136: 44 | E136: 802 | F136: 701 | G136: 101
A137: 30 a 59 años | B137: 565 | C137: 454 | D137: 111 | E137: 1181 | F137: 938 | G137: 243
A138: 60 años a más | B138: 115 | C138: 63 | D138: 52 | E138: 265 | F138: 140 | G138: 125

Sheet FEBRERO
A3: NUMERO DE ATENDIDOS Y ATENCIONES AL ESTABLECIMIENTO POR SEXO
A5: Periodo: Febrero - 2026
A6: Diresa/Red/M.Red/EE.SS: AREQUIPA/AREQUIPA CAYLLOMA/MARITZA CAMPOS DIAZ/TODOS LOS EE.SS
A9: 1. Según Etapa de Vida:
A11: GRUPO ETAREO | B11: ATENDIDOS | E11: ATENCIONES
B12: TOTAL | C12: F | D12: M | E12: TOTAL | F12: F | G12: M
A14: TOTAL GENERAL | B14: 5631 | C14: 3536 | D14: 2095 | E14: 18149 | F14: 12056 | G14: 6093
A15: < 01 mes | B15: 152 | C15: 79 | D15: 73 | E15: 627 | F15: 309 | G15: 318
A16: 01 a 11 meses | B16: 250 | C16: 109 | D16: 141 | E16: 1607 | F16: 751 | G16: 856
A17: 01 a 04 años | B17: 781 | C17: 336 | D17: 445 | E17: 1916 | F17: 883 | G17: 1033
A18: 05 a 11 años | B18: 375 | C18: 192 | D18: 183 | E18: 787 | F18: 379 | G18: 408
A19: 12 a 17 años | B19: 380 | C19: 215 | D19: 165 | E19: 1224 | F19: 706 | G19: 518
A20: 18 a 29 años | B20: 1067 | C20: 772 | D20: 295 | E20: 3852 | F20: 3152 | G20: 700
A21: 30 a 59 años | B21: 2128 | C21: 1548 | D21: 580 | E21: 6508 | F21: 4994 | G21: 1514
A22: 60 años a más | B22: 498 | C22: 285 | D22: 213 | E22: 1628 | F22: 882 | G22: 746
A25: NUMERO DE ATENDIDOS Y ATENCIONES AL ESTABLECIMIENTO POR SEXO
A27: Periodo: Febrero - 2026
A28: Diresa/Red/M.Red/EE.SS: AREQUIPA/AREQUIPA CAYLLOMA/MARITZA CAMPOS DIAZ/I-4 - 000001237 - MARITZA CAMPOS DIAZ - ZAMACOLA
A31: 1. Según Etapa de Vida:
A33: GRUPO ETAREO | B33: ATENDIDOS | E33: ATENCIONES
B34: TOTAL | C34: F | D34: M | E34: TOTAL | F34: F | G34: M
A36: TOTAL GENERAL | B36: 2627 | C36: 1604 | D36: 1023 | E36: 8044 | F36: 5127 | G36: 2917
A37: < 01 mes | B37: 75 | C37: 40 | D37: 35 | E37: 326 | F37: 160 | G37: 166
A38: 01 a 11 meses | B38: 88 | C38: 36 | D38: 52 | E38: 385 | F38: 184 | G38: 201
A39: 01 a 04 años | B39: 228 | C39: 91 | D39: 137 | E39: 520 | F39: 236 | G39: 284
A40: 05 a 11 años | B40: 151 | C40: 67 | D40: 84 | E40: 325 | F40: 154 | G40: 171
A41: 12 a 17 años | B41: 162 | C41: 92 | D41: 70 | E41: 615 | F41: 341 | G41: 274
A42: 18 a 29 años | B42: 540 | C42: 362 | D42: 178 | E42: 1875 | F42: 1423 | G42: 452
A43: 30 a 59 años | B43: 1119 | C43: 782 | D43: 337 | E43: 3104 | F43: 2191 | G43: 913
A44: 60 años a más | B44: 264 | C44: 134 | D44: 130 | E44: 894 | F44: 438 | G44: 456
A50: NUMERO DE ATENDIDOS Y ATENCIONES AL ESTABLECIMIENTO POR SEXO
A52: Periodo: Febrero - 2026
A53: Diresa/Red/M.Red/EE.SS: AREQUIPA/AREQUIPA CAYLLOMA/MARITZA CAMPOS DIAZ/I-2 - 000001247 - PUESTO DE SALUD CIUDAD MUNICIPAL
A56: 1. Según Etapa de Vida:
A58: GRUPO ETAREO | B58: ATENDIDOS | E58: ATENCIONES
B59: TOTAL | C59: F | D59: M | E59: TOTAL | F59: F | G59: M
A61: TOTAL GENERAL | B61: 1219 | C61: 802 | D61: 417 | E61: 4161 | F61: 2925 | G61: 1236
A62: < 01 mes | B62: 30 | C62: 13 | D62: 17 | E62: 116 | F62: 58 | G62: 58
A63: 01 a 11 meses | B63: 80 | C63: 36 | D63: 44 | E63: 560 | F63: 286 | G63: 274
A64: 01 a 04 años | B64: 194 | C64: 79 | D64: 115 | E64: 532 | F64: 235 | G64: 297
A65: 05 a 11 años | B65: 87 | C65: 50 | D65: 37 | E65: 154 | F65: 78 | G65: 76
A66: 12 a 17 años | B66: 86 | C66: 43 | D66: 43 | E66: 230 | F66: 126 | G66: 104
A67: 18 a 29 años | B67: 253 | C67: 213 | D67: 40 | E67: 865 | F67: 778 | G67: 87
A68: 30 a 59 años | B68: 403 | C68: 315 | D68: 88 | E68: 1419 | F68: 1196 | G68: 223
A69: 60 años a más | B69: 86 | C69: 53 | D69: 33 | E69: 285 | F69: 168 | G69: 117
A76: NUMERO DE ATENDIDOS Y ATENCIONES AL ESTABLECIMIENTO POR SEXO
A78: Periodo: Febrero - 2026
A79: Diresa/Red/M.Red/EE.SS: AREQUIPA/AREQUIPA CAYLLOMA/MARITZA CAMPOS DIAZ/I-2 - 000001251 - PUESTO DE SALUD NAZARENO
A82: 1. Según Etapa de Vida:
A84: GRUPO ETAREO | B84: ATENDIDOS | E84: ATENCIONES
B85: TOTAL | C85: F | D85: M | E85: TOTAL | F85: F | G85: M
A87: TOTAL GENERAL | B87: 914 | C87: 590 | D87: 324 | E87: 2749 | F87: 1861 | G87: 888
A88: < 01 mes | B88: 20 | C88: 11 | D88: 9 | E88: 101 | F88: 46 | G88: 55
A89: 01 a 11 meses | B89: 36 | C89: 18 | D89: 18 | E89: 329 | F89: 135 | G89: 194
A90: 01 a 04 años | B90: 209 | C90: 99 | D90: 110 | E90: 461 | F90: 222 | G90: 239
A91: 05 a 11 años | B91: 71 | C91: 45 | D91: 26 | E91: 118 | F91: 72 | G91: 46
A92: 12 a 17 años | B92: 54 | C92: 39 | D92: 15 | E92: 142 | F92: 99 | G92: 43
A93: 18 a 29 años | B93: 134 | C93: 95 | D93: 39 | E93: 444 | F93: 373 | G93: 71
A94: 30 a 59 años | B94: 299 | C94: 219 | D94: 80 | E94: 919 | F94: 748 | G94: 171
A95: 60 años a más | B95: 91 | C95: 64 | D95: 27 | E95: 235 | F95: 166 | G95: 69
A102: NUMERO DE ATENDIDOS Y ATENCIONES AL ESTABLECIMIENTO POR SEXO
A104: Periodo: Febrero - 2026
A105: Diresa/Red/M.Red/EE.SS: AREQUIPA/AREQUIPA CAYLLOMA/MARITZA CAMPOS DIAZ/I-2 - 000011023 - PUESTO DE SALUD PERUARBO
A108: 1. Según Etapa de Vida:
A110: GRUPO ETAREO | B110: ATENDIDOS | E110: ATENCIONES
B111: TOTAL | C111: F | D111: M | E111: TOTAL | F111: F | G111: M
A113: TOTAL GENERAL | B113: 871 | C113: 540 | D113: 331 | E113: 3195 | F113: 2143 | G113: 1052
A114: < 01 mes | B114: 27 | C114: 15 | D114: 12 | E114: 84 | F114: 45 | G114: 39
A115: 01 a 11 meses | B115: 46 | C115: 19 | D115: 27 | E115: 333 | F115: 146 | G115: 187
A116: 01 a 04 años | B116: 150 | C116: 67 | D116: 83 | E116: 403 | F116: 190 | G116: 213
A117: 05 a 11 años | B117: 66 | C117: 30 | D117: 36 | E117: 190 | F117: 75 | G117: 115
A118: 12 a 17 años | B118: 78 | C118: 41 | D118: 37 | E118: 237 | F118: 140 | G118: 97
A119: 18 a 29 años | B119: 140 | C119: 102 | D119: 38 | E119: 668 | F119: 578 | G119: 90
A120: 30 a 59 años | B120: 307 | C120: 232 | D120: 75 | E120: 1066 | F120: 859 | G120: 207
A121: 60 años a más | B121: 57 | C121: 34 | D121: 23 | E121: 214 | F121: 110 | G121: 104

Sheet MARZO
A3: NUMERO DE ATENDIDOS Y ATENCIONES AL ESTABLECIMIENTO POR SEXO
A5: Periodo: Marzo - 2026
A6: Diresa/Red/M.Red/EE.SS: AREQUIPA/AREQUIPA CAYLLOMA/MARITZA CAMPOS DIAZ/TODOS LOS EE.SS
A9: 1. Según Etapa de Vida:
A11: GRUPO ETAREO | B11: ATENDIDOS | E11: ATENCIONES
B12: TOTAL | C12: F | D12: M | E12: TOTAL | F12: F | G12: M
A14: TOTAL GENERAL | B14: 5910 | C14: 3726 | D14: 2184 | E14: 22150 | F14: 14844 | G14: 7306
A15: < 01 mes | B15: 196 | C15: 79 | D15: 117 | E15: 857 | F15: 340 | G15: 517
A16: 01 a 11 meses | B16: 143 | C16: 56 | D16: 87 | E16: 1851 | F16: 890 | G16: 961
A17: 01 a 04 años | B17: 619 | C17: 295 | D17: 324 | E17: 2131 | F17: 1033 | G17: 1098
A18: 05 a 11 años | B18: 457 | C18: 214 | D18: 243 | E18: 1052 | F18: 515 | G18: 537
A19: 12 a 17 años | B19: 367 | C19: 209 | D19: 158 | E19: 1200 | F19: 725 | G19: 475
A20: 18 a 29 años | B20: 1215 | C20: 855 | D20: 360 | E20: 4602 | F20: 3694 | G20: 908
A21: 30 a 59 años | B21: 2259 | C21: 1635 | D21: 624 | E21: 8002 | F21: 6213 | G21: 1789
A22: 60 años a más | B22: 654 | C22: 383 | D22: 271 | E22: 2455 | F22: 1434 | G22: 1021
A24: NUMERO DE ATENDIDOS Y ATENCIONES AL ESTABLECIMIENTO POR SEXO
A26: Periodo: Marzo - 2026
A27: Diresa/Red/M.Red/EE.SS: AREQUIPA/AREQUIPA CAYLLOMA/MARITZA CAMPOS DIAZ/I-4 - 000001237 - MARITZA CAMPOS DIAZ - ZAMACOLA
A30: 1. Según Etapa de Vida:
A32: GRUPO ETAREO | B32: ATENDIDOS | E32: ATENCIONES
B33: TOTAL | C33: F | D33: M | E33: TOTAL | F33: F | G33: M
A35: TOTAL GENERAL | B35: 2895 | C35: 1785 | D35: 1110 | E35: 10133 | F35: 6612 | G35: 3521
A36: < 01 mes | B36: 109 | C36: 42 | D36: 67 | E36: 547 | F36: 202 | G36: 345
A37: 01 a 11 meses | B37: 74 | C37: 27 | D37: 47 | E37: 411 | F37: 198 | G37: 213
A38: 01 a 04 años | B38: 211 | C38: 110 | D38: 101 | E38: 621 | F38: 303 | G38: 318
A39: 05 a 11 años | B39: 195 | C39: 86 | D39: 109 | E39: 464 | F39: 207 | G39: 257
A40: 12 a 17 años | B40: 196 | C40: 113 | D40: 83 | E40: 687 | F40: 400 | G40: 287
A41: 18 a 29 años | B41: 691 | C41: 474 | D41: 217 | E41: 2460 | F41: 1900 | G41: 560
A42: 30 a 59 años | B42: 1096 | C42: 743 | D42: 353 | E42: 3655 | F42: 2649 | G42: 1006
A43: 60 años a más | B43: 323 | C43: 190 | D43: 133 | E43: 1288 | F43: 753 | G43: 535
A48: NUMERO DE ATENDIDOS Y ATENCIONES AL ESTABLECIMIENTO POR SEXO
A50: Periodo: Marzo - 2026
A51: Diresa/Red/M.Red/EE.SS: AREQUIPA/AREQUIPA CAYLLOMA/MARITZA CAMPOS DIAZ/I-2 - 000001247 - PUESTO DE SALUD CIUDAD MUNICIPAL
A54: 1. Según Etapa de Vida:
A56: GRUPO ETAREO | B56: ATENDIDOS | E56: ATENCIONES
B57: TOTAL | C57: F | D57: M | E57: TOTAL | F57: F | G57: M
A59: TOTAL GENERAL | B59: 1141 | C59: 752 | D59: 389 | E59: 4647 | F59: 3233 | G59: 1414
A60: < 01 mes | B60: 38 | C60: 16 | D60: 22 | E60: 139 | F60: 52 | G60: 87
A61: 01 a 11 meses | B61: 36 | C61: 15 | D61: 21 | E61: 626 | F61: 317 | G61: 309
A62: 01 a 04 años | B62: 148 | C62: 80 | D62: 68 | E62: 531 | F62: 284 | G62: 247
A63: 05 a 11 años | B63: 91 | C63: 45 | D63: 46 | E63: 177 | F63: 92 | G63: 85
A64: 12 a 17 años | B64: 43 | C64: 19 | D64: 24 | E64: 141 | F64: 85 | G64: 56
A65: 18 a 29 años | B65: 211 | C65: 160 | D65: 51 | E65: 882 | F65: 746 | G65: 136
A66: 30 a 59 años | B66: 431 | C66: 338 | D66: 93 | E66: 1643 | F66: 1367 | G66: 276
A67: 60 años a más | B67: 143 | C67: 79 | D67: 64 | E67: 508 | F67: 290 | G67: 218
A72: NUMERO DE ATENDIDOS Y ATENCIONES AL ESTABLECIMIENTO POR SEXO
A74: Periodo: Marzo - 2026
A75: Diresa/Red/M.Red/EE.SS: AREQUIPA/AREQUIPA CAYLLOMA/MARITZA CAMPOS DIAZ/I-2 - 000001251 - PUESTO DE SALUD NAZARENO
A78: 1. Según Etapa de Vida:
A80: GRUPO ETAREO | B80: ATENDIDOS | E80: ATENCIONES
B81: TOTAL | C81: F | D81: M | E81: TOTAL | F81: F | G81: M
A83: TOTAL GENERAL | B83: 968 | C83: 622 | D83: 346 | E83: 3601 | F83: 2455 | G83: 1146
A84: < 01 mes | B84: 23 | C84: 11 | D84: 12 | E84: 64 | F84: 33 | G84: 31
A85: 01 a 11 meses | B85: 10 | C85: 3 | D85: 7 | E85: 434 | F85: 190 | G85: 244
A86: 01 a 04 años | B86: 136 | C86: 59 | D86: 77 | E86: 516 | F86: 244 | G86: 272
A87: 05 a 11 años | B87: 83 | C87: 43 | D87: 40 | E87: 176 | F87: 100 | G87: 76
A88: 12 a 17 años | B88: 61 | C88: 38 | D88: 23 | E88: 150 | F88: 95 | G88: 55
A89: 18 a 29 años | B89: 160 | C89: 112 | D89: 48 | E89: 551 | F89: 456 | G89: 95
A90: 30 a 59 años | B90: 384 | C90: 287 | D90: 97 | E90: 1335 | F90: 1099 | G90: 236
A91: 60 años a más | B91: 111 | C91: 69 | D91: 42 | E91: 375 | F91: 238 | G91: 137
A97: NUMERO DE ATENDIDOS Y ATENCIONES AL ESTABLECIMIENTO POR SEXO
A99: Periodo: Marzo - 2026
A100: Diresa/Red/M.Red/EE.SS: AREQUIPA/AREQUIPA CAYLLOMA/MARITZA CAMPOS DIAZ/I-2 - 000011023 - PUESTO DE SALUD PERUARBO
A103: 1. Según Etapa de Vida:
A105: GRUPO ETAREO | B105: ATENDIDOS | E105: ATENCIONES
B106: TOTAL | C106: F | D106: M | E106: TOTAL | F106: F | G106: M
A108: TOTAL GENERAL | B108: 906 | C108: 567 | D108: 339 | E108: 3769 | F108: 2544 | G108: 1225
A109: < 01 mes | B109: 26 | C109: 10 | D109: 16 | E109: 107 | F109: 53 | G109: 54
A110: 01 a 11 meses | B110: 23 | C110: 11 | D110: 12 | E110: 380 | F110: 185 | G110: 195
A111: 01 a 04 años | B111: 124 | C111: 46 | D111: 78 | E111: 463 | F111: 202 | G111: 261
A112: 05 a 11 años | B112: 88 | C112: 40 | D112: 48 | E112: 235 | F112: 116 | G112: 119
A113: 12 a 17 años | B113: 67 | C113: 39 | D113: 28 | E113: 222 | F113: 145 | G113: 77
A114: 18 a 29 años | B114: 153 | C114: 109 | D114: 44 | E114: 709 | F114: 592 | G114: 117
A115: 30 a 59 años | B115: 348 | C115: 267 | D115: 81 | E115: 1369 | F115: 1098 | G115: 271
A116: 60 años a más | B116: 77 | C116: 45 | D116: 32 | E116: 284 | F116: 153 | G116: 131

Sheet 1er  tri
A3: NUMERO DE ATENDIDOS Y ATENCIONES AL ESTABLECIMIENTO POR SEXO
A5: Periodo: Enero - marzo 2026
A6: Diresa/Red/M.Red/EE.SS: AREQUIPA/AREQUIPA CAYLLOMA/MARITZA CAMPOS DIAZ/TODOS LOS EE.SS
L7: REPORTE: Atendidos Atenciones | P7: Desde: 01/01/2026 | R7: Hasta: 31/03/2026
L8: Red: AREQUIPA CAYLLOMA | P8: Departam: Todos
A9: 1. Según Etapa de Vida: | L9: Microred: MARITZA CAMPOS DIAZ | P9: Provincia: Todos
L10: Establec: Todos | P10: Distrito: Todos
A11: GRUPO ETAREO | B11: ATENDIDOS | E11: ATENCIONES
B12: TOTAL | C12: F | D12: M | E12: TOTAL | F12: F | G12: M | L12: grupo_etareo | M12: TOTAL_atendidos | N12: atendidos_femenino | O12: atendidos_masculino | P12: TOTAL_atenciones | Q12: atenciones_femenino | R12: atenciones_masculino
L13: <1 mes | M13: 556 | N13: 250 | O13: 306 | P13: 2389 | Q13: 1056 | R13: 1333
A14: TOTAL GENERAL | B14: =+'Genera Atc y Atd'!B14+FEBRERO!B14+MARZO!B14 -> 22831 | C14: =+'Genera Atc y Atd'!C14+FEBRERO!C14+MARZO!C14 -> 14757 | D14: =+'Genera Atc y Atd'!D14+FEBRERO!D14+MARZO!D14 -> 8074 | E14: =+'Genera Atc y Atd'!E14+FEBRERO!E14+MARZO!E14 -> 61456 | F14: =+'Genera Atc y Atd'!F14+FEBRERO!F14+MARZO!F14 -> 41171 | G14: =+'Genera Atc y Atd'!G14+FEBRERO!G14+MARZO!G14 -> 20285 | L14: 1 a 11 meses | M14: 1305 | N14: 613 | O14: 692 | P14: 5344 | Q14: 2550 | R14: 2794
A15: < 01 mes | B15: =+'Genera Atc y Atd'!B15+FEBRERO!B15+MARZO!B15 -> 584 | C15: =+'Genera Atc y Atd'!C15+FEBRERO!C15+MARZO!C15 -> 266 | D15: =+'Genera Atc y Atd'!D15+FEBRERO!D15+MARZO!D15 -> 318 | E15: =+'Genera Atc y Atd'!E15+FEBRERO!E15+MARZO!E15 -> 2354 | F15: =+'Genera Atc y Atd'!F15+FEBRERO!F15+MARZO!F15 -> 1041 | G15: =+'Genera Atc y Atd'!G15+FEBRERO!G15+MARZO!G15 -> 1313 | L15: 1 a 4 años | M15: 2790 | N15: 1309 | O15: 1481 | P15: 6377 | Q15: 3069 | R15: 3308
A16: 01 a 11 meses | B16: =+'Genera Atc y Atd'!B16+FEBRERO!B16+MARZO!B16 -> 1330 | C16: =+'Genera Atc y Atd'!C16+FEBRERO!C16+MARZO!C16 -> 625 | D16: =+'Genera Atc y Atd'!D16+FEBRERO!D16+MARZO!D16 -> 705 | E16: =+'Genera Atc y Atd'!E16+FEBRERO!E16+MARZO!E16 -> 5163 | F16: =+'Genera Atc y Atd'!F16+FEBRERO!F16+MARZO!F16 -> 2469 | G16: =+'Genera Atc y Atd'!G16+FEBRERO!G16+MARZO!G16 -> 2694 | L16: 5 a 11 años | M16: 1513 | N16: 732 | O16: 781 | P16: 2954 | Q16: 1377 | R16: 1577
A17: 01 a 04 años | B17: =+'Genera Atc y Atd'!B17+FEBRERO!B17+MARZO!B17 -> 2801 | C17: =+'Genera Atc y Atd'!C17+FEBRERO!C17+MARZO!C17 -> 1313 | D17: =+'Genera Atc y Atd'!D17+FEBRERO!D17+MARZO!D17 -> 1488 | E17: =+'Genera Atc y Atd'!E17+FEBRERO!E17+MARZO!E17 -> 6251 | F17: =+'Genera Atc y Atd'!F17+FEBRERO!F17+MARZO!F17 -> 3004 | G17: =+'Genera Atc y Atd'!G17+FEBRERO!G17+MARZO!G17 -> 3247 | L17: 12 a 17 años | M17: 1367 | N17: 807 | O17: 560 | P17: 3664 | Q17: 2184 | R17: 1480
A18: 05 a 11 años | B18: =+'Genera Atc y Atd'!B18+FEBRERO!B18+MARZO!B18 -> 1501 | C18: =+'Genera Atc y Atd'!C18+FEBRERO!C18+MARZO!C18 -> 729 | D18: =+'Genera Atc y Atd'!D18+FEBRERO!D18+MARZO!D18 -> 772 | E18: =+'Genera Atc y Atd'!E18+FEBRERO!E18+MARZO!E18 -> 2934 | F18: =+'Genera Atc y Atd'!F18+FEBRERO!F18+MARZO!F18 -> 1368 | G18: =+'Genera Atc y Atd'!G18+FEBRERO!G18+MARZO!G18 -> 1566 | L18: 18 a 29 años | M18: 4530 | N18: 3380 | O18: 1150 | P18: 13001 | Q18: 10557 | R18: 2444
A19: 12 a 17 años | B19: =+'Genera Atc y Atd'!B19+FEBRERO!B19+MARZO!B19 -> 1381 | C19: =+'Genera Atc y Atd'!C19+FEBRERO!C19+MARZO!C19 -> 817 | D19: =+'Genera Atc y Atd'!D19+FEBRERO!D19+MARZO!D19 -> 564 | E19: =+'Genera Atc y Atd'!E19+FEBRERO!E19+MARZO!E19 -> 3632 | F19: =+'Genera Atc y Atd'!F19+FEBRERO!F19+MARZO!F19 -> 2164 | G19: =+'Genera Atc y Atd'!G19+FEBRERO!G19+MARZO!G19 -> 1468 | L19: 30 a 59 años | M19: 8439 | N19: 6278 | O19: 2161 | P19: 22202 | Q19: 17246 | R19: 4956
A20: 18 a 29 años | B20: =+'Genera Atc y Atd'!B20+FEBRERO!B20+MARZO!B20 -> 4492 | C20: =+'Genera Atc y Atd'!C20+FEBRERO!C20+MARZO!C20 -> 3350 | D20: =+'Genera Atc y Atd'!D20+FEBRERO!D20+MARZO!D20 -> 1142 | E20: =+'Genera Atc y Atd'!E20+FEBRERO!E20+MARZO!E20 -> 12868 | F20: =+'Genera Atc y Atd'!F20+FEBRERO!F20+MARZO!F20 -> 10434 | G20: =+'Genera Atc y Atd'!G20+FEBRERO!G20+MARZO!G20 -> 2434 | L20: 60 a mas | M20: 2412 | N20: 1460 | O20: 952 | P20: 6353 | Q20: 3683 | R20: 2670
A21: 30 a 59 años | B21: =+'Genera Atc y Atd'!B21+FEBRERO!B21+MARZO!B21 -> 8348 | C21: =+'Genera Atc y Atd'!C21+FEBRERO!C21+MARZO!C21 -> 6208 | D21: =+'Genera Atc y Atd'!D21+FEBRERO!D21+MARZO!D21 -> 2140 | E21: =+'Genera Atc y Atd'!E21+FEBRERO!E21+MARZO!E21 -> 21946 | F21: =+'Genera Atc y Atd'!F21+FEBRERO!F21+MARZO!F21 -> 17038 | G21: =+'Genera Atc y Atd'!G21+FEBRERO!G21+MARZO!G21 -> 4908 | L21: TOTAL | M21: =SUM(M13:M20) -> 22912 | N21: =SUM(N13:N20) -> 14829 | O21: =SUM(O13:O20) -> 8083 | P21: =SUM(P13:P20) -> 62284 | Q21: =SUM(Q13:Q20) -> 41722 | R21: =SUM(R13:R20) -> 20562
A22: 60 años a más | B22: =+'Genera Atc y Atd'!B22+FEBRERO!B22+MARZO!B22 -> 2394 | C22: =+'Genera Atc y Atd'!C22+FEBRERO!C22+MARZO!C22 -> 1449 | D22: =+'Genera Atc y Atd'!D22+FEBRERO!D22+MARZO!D22 -> 945 | E22: =+'Genera Atc y Atd'!E22+FEBRERO!E22+MARZO!E22 -> 6308 | F22: =+'Genera Atc y Atd'!F22+FEBRERO!F22+MARZO!F22 -> 3653 | G22: =+'Genera Atc y Atd'!G22+FEBRERO!G22+MARZO!G22 -> 2655
A29: NUMERO DE ATENDIDOS Y ATENCIONES AL ESTABLECIMIENTO POR SEXO
A31: Periodo: Enero - 2026
A32: Diresa/Red/M.Red/EE.SS: AREQUIPA/AREQUIPA CAYLLOMA/MARITZA CAMPOS DIAZ/I-4 - 000001237 - MARITZA CAMPOS DIAZ - ZAMACOLA
A35: 1. Según Etapa de Vida:
A37: GRUPO ETAREO | B37: ATENDIDOS | E37: ATENCIONES
B38: TOTAL | C38: F | D38: M | E38: TOTAL | F38: F | G38: M
A40: TOTAL GENERAL | B40: =+'Genera Atc y Atd'!B40+FEBRERO!B36+MARZO!B35 -> 10424 | C40: =+'Genera Atc y Atd'!C40+FEBRERO!C36+MARZO!C35 -> 6630 | D40: =+'Genera Atc y Atd'!D40+FEBRERO!D36+MARZO!D35 -> 3794 | E40: =+'Genera Atc y Atd'!E40+FEBRERO!E36+MARZO!E35 -> 27438 | F40: =+'Genera Atc y Atd'!F40+FEBRERO!F36+MARZO!F35 -> 17922 | G40: =+'Genera Atc y Atd'!G40+FEBRERO!G36+MARZO!G35 -> 9516
A41: < 01 mes | B41: =+'Genera Atc y Atd'!B41+FEBRERO!B37+MARZO!B36 -> 301 | C41: =+'Genera Atc y Atd'!C41+FEBRERO!C37+MARZO!C36 -> 134 | D41: =+'Genera Atc y Atd'!D41+FEBRERO!D37+MARZO!D36 -> 167 | E41: =+'Genera Atc y Atd'!E41+FEBRERO!E37+MARZO!E36 -> 1416 | F41: =+'Genera Atc y Atd'!F41+FEBRERO!F37+MARZO!F36 -> 605 | G41: =+'Genera Atc y Atd'!G41+FEBRERO!G37+MARZO!G36 -> 811
A42: 01 a 11 meses | B42: =+'Genera Atc y Atd'!B42+FEBRERO!B38+MARZO!B37 -> 372 | C42: =+'Genera Atc y Atd'!C42+FEBRERO!C38+MARZO!C37 -> 182 | D42: =+'Genera Atc y Atd'!D42+FEBRERO!D38+MARZO!D37 -> 190 | E42: =+'Genera Atc y Atd'!E42+FEBRERO!E38+MARZO!E37 -> 1186 | F42: =+'Genera Atc y Atd'!F42+FEBRERO!F38+MARZO!F37 -> 600 | G42: =+'Genera Atc y Atd'!G42+FEBRERO!G38+MARZO!G37 -> 586
A43: 01 a 04 años | B43: =+'Genera Atc y Atd'!B43+FEBRERO!B39+MARZO!B38 -> 864 | C43: =+'Genera Atc y Atd'!C43+FEBRERO!C39+MARZO!C38 -> 424 | D43: =+'Genera Atc y Atd'!D43+FEBRERO!D39+MARZO!D38 -> 440 | E43: =+'Genera Atc y Atd'!E43+FEBRERO!E39+MARZO!E38 -> 1809 | F43: =+'Genera Atc y Atd'!F43+FEBRERO!F39+MARZO!F38 -> 915 | G43: =+'Genera Atc y Atd'!G43+FEBRERO!G39+MARZO!G38 -> 894
A44: 05 a 11 años | B44: =+'Genera Atc y Atd'!B44+FEBRERO!B40+MARZO!B39 -> 621 | C44: =+'Genera Atc y Atd'!C44+FEBRERO!C40+MARZO!C39 -> 301 | D44: =+'Genera Atc y Atd'!D44+FEBRERO!D40+MARZO!D39 -> 320 | E44: =+'Genera Atc y Atd'!E44+FEBRERO!E40+MARZO!E39 -> 1232 | F44: =+'Genera Atc y Atd'!F44+FEBRERO!F40+MARZO!F39 -> 568 | G44: =+'Genera Atc y Atd'!G44+FEBRERO!G40+MARZO!G39 -> 664
A45: 12 a 17 años | B45: =+'Genera Atc y Atd'!B45+FEBRERO!B41+MARZO!B40 -> 658 | C45: =+'Genera Atc y Atd'!C45+FEBRERO!C41+MARZO!C40 -> 405 | D45: =+'Genera Atc y Atd'!D45+FEBRERO!D41+MARZO!D40 -> 253 | E45: =+'Genera Atc y Atd'!E45+FEBRERO!E41+MARZO!E40 -> 1843 | F45: =+'Genera Atc y Atd'!F45+FEBRERO!F41+MARZO!F40 -> 1061 | G45: =+'Genera Atc y Atd'!G45+FEBRERO!G41+MARZO!G40 -> 782
A46: 18 a 29 años | B46: =+'Genera Atc y Atd'!B46+FEBRERO!B42+MARZO!B41 -> 2309 | C46: =+'Genera Atc y Atd'!C46+FEBRERO!C42+MARZO!C41 -> 1607 | D46: =+'Genera Atc y Atd'!D46+FEBRERO!D42+MARZO!D41 -> 702 | E46: =+'Genera Atc y Atd'!E46+FEBRERO!E42+MARZO!E41 -> 6506 | F46: =+'Genera Atc y Atd'!F46+FEBRERO!F42+MARZO!F41 -> 4967 | G46: =+'Genera Atc y Atd'!G46+FEBRERO!G42+MARZO!G41 -> 1539
A47: 30 a 59 años | B47: =+'Genera Atc y Atd'!B47+FEBRERO!B43+MARZO!B42 -> 4060 | C47: =+'Genera Atc y Atd'!C47+FEBRERO!C43+MARZO!C42 -> 2841 | D47: =+'Genera Atc y Atd'!D47+FEBRERO!D43+MARZO!D42 -> 1219 | E47: =+'Genera Atc y Atd'!E47+FEBRERO!E43+MARZO!E42 -> 10131 | F47: =+'Genera Atc y Atd'!F47+FEBRERO!F43+MARZO!F42 -> 7327 | G47: =+'Genera Atc y Atd'!G47+FEBRERO!G43+MARZO!G42 -> 2804
A48: 60 años a más | B48: =+'Genera Atc y Atd'!B48+FEBRERO!B44+MARZO!B43 -> 1239 | C48: =+'Genera Atc y Atd'!C48+FEBRERO!C44+MARZO!C43 -> 736 | D48: =+'Genera Atc y Atd'!D48+FEBRERO!D44+MARZO!D43 -> 503 | E48: =+'Genera Atc y Atd'!E48+FEBRERO!E44+MARZO!E43 -> 3315 | F48: =+'Genera Atc y Atd'!F48+FEBRERO!F44+MARZO!F43 -> 1879 | G48: =+'Genera Atc y Atd'!G48+FEBRERO!G44+MARZO!G43 -> 1436
A61: NUMERO DE ATENDIDOS Y ATENCIONES AL ESTABLECIMIENTO POR SEXO
A63: Periodo: Enero - 2026
A64: Diresa/Red/M.Red/EE.SS: AREQUIPA/AREQUIPA CAYLLOMA/MARITZA CAMPOS DIAZ/I-2 - 000001247 - PUESTO DE SALUD CIUDAD MUNICIPAL
A67: 1. Según Etapa de Vida:
A69: GRUPO ETAREO | B69: ATENDIDOS | E69: ATENCIONES
B70: TOTAL | C70: F | D70: M | E70: TOTAL | F70: F | G70: M
A72: TOTAL GENERAL | B72: =+'Genera Atc y Atd'!B72+FEBRERO!B61+MARZO!B59 -> 5352 | C72: =+'Genera Atc y Atd'!C72+FEBRERO!C61+MARZO!C59 -> 3588 | D72: =+'Genera Atc y Atd'!D72+FEBRERO!D61+MARZO!D59 -> 1764 | E72: =+'Genera Atc y Atd'!E72+FEBRERO!E61+MARZO!E59 -> 14219 | F72: =+'Genera Atc y Atd'!F72+FEBRERO!F61+MARZO!F59 -> 9971 | G72: =+'Genera Atc y Atd'!G72+FEBRERO!G61+MARZO!G59 -> 4248
A73: < 01 mes | B73: =+'Genera Atc y Atd'!B73+FEBRERO!B62+MARZO!B60 -> 121 | C73: =+'Genera Atc y Atd'!C73+FEBRERO!C62+MARZO!C60 -> 58 | D73: =+'Genera Atc y Atd'!D73+FEBRERO!D62+MARZO!D60 -> 63 | E73: =+'Genera Atc y Atd'!E73+FEBRERO!E62+MARZO!E60 -> 409 | F73: =+'Genera Atc y Atd'!F73+FEBRERO!F62+MARZO!F60 -> 191 | G73: =+'Genera Atc y Atd'!G73+FEBRERO!G62+MARZO!G60 -> 218
A74: 01 a 11 meses | B74: =+'Genera Atc y Atd'!B74+FEBRERO!B63+MARZO!B61 -> 452 | C74: =+'Genera Atc y Atd'!C74+FEBRERO!C63+MARZO!C61 -> 222 | D74: =+'Genera Atc y Atd'!D74+FEBRERO!D63+MARZO!D61 -> 230 | E74: =+'Genera Atc y Atd'!E74+FEBRERO!E63+MARZO!E61 -> 1796 | F74: =+'Genera Atc y Atd'!F74+FEBRERO!F63+MARZO!F61 -> 919 | G74: =+'Genera Atc y Atd'!G74+FEBRERO!G63+MARZO!G61 -> 877
A75: 01 a 04 años | B75: =+'Genera Atc y Atd'!B75+FEBRERO!B64+MARZO!B62 -> 759 | C75: =+'Genera Atc y Atd'!C75+FEBRERO!C64+MARZO!C62 -> 358 | D75: =+'Genera Atc y Atd'!D75+FEBRERO!D64+MARZO!D62 -> 401 | E75: =+'Genera Atc y Atd'!E75+FEBRERO!E64+MARZO!E62 -> 1687 | F75: =+'Genera Atc y Atd'!F75+FEBRERO!F64+MARZO!F62 -> 808 | G75: =+'Genera Atc y Atd'!G75+FEBRERO!G64+MARZO!G62 -> 879
A76: 05 a 11 años | B76: =+'Genera Atc y Atd'!B76+FEBRERO!B65+MARZO!B63 -> 354 | C76: =+'Genera Atc y Atd'!C76+FEBRERO!C65+MARZO!C63 -> 175 | D76: =+'Genera Atc y Atd'!D76+FEBRERO!D65+MARZO!D63 -> 179 | E76: =+'Genera Atc y Atd'!E76+FEBRERO!E65+MARZO!E63 -> 626 | F76: =+'Genera Atc y Atd'!F76+FEBRERO!F65+MARZO!F63 -> 297 | G76: =+'Genera Atc y Atd'!G76+FEBRERO!G65+MARZO!G63 -> 329
A77: 12 a 17 años | B77: =+'Genera Atc y Atd'!B77+FEBRERO!B66+MARZO!B64 -> 285 | C77: =+'Genera Atc y Atd'!C77+FEBRERO!C66+MARZO!C64 -> 149 | D77: =+'Genera Atc y Atd'!D77+FEBRERO!D66+MARZO!D64 -> 136 | E77: =+'Genera Atc y Atd'!E77+FEBRERO!E66+MARZO!E64 -> 681 | F77: =+'Genera Atc y Atd'!F77+FEBRERO!F66+MARZO!F64 -> 407 | G77: =+'Genera Atc y Atd'!G77+FEBRERO!G66+MARZO!G64 -> 274
A78: 18 a 29 años | B78: =+'Genera Atc y Atd'!B78+FEBRERO!B67+MARZO!B65 -> 979 | C78: =+'Genera Atc y Atd'!C78+FEBRERO!C67+MARZO!C65 -> 805 | D78: =+'Genera Atc y Atd'!D78+FEBRERO!D67+MARZO!D65 -> 174 | E78: =+'Genera Atc y Atd'!E78+FEBRERO!E67+MARZO!E65 -> 2760 | F78: =+'Genera Atc y Atd'!F78+FEBRERO!F67+MARZO!F65 -> 2412 | G78: =+'Genera Atc y Atd'!G78+FEBRERO!G67+MARZO!G65 -> 348
A79: 30 a 59 años | B79: =+'Genera Atc y Atd'!B79+FEBRERO!B68+MARZO!B66 -> 1846 | C79: =+'Genera Atc y Atd'!C79+FEBRERO!C68+MARZO!C66 -> 1476 | D79: =+'Genera Atc y Atd'!D79+FEBRERO!D68+MARZO!D66 -> 370 | E79: =+'Genera Atc y Atd'!E79+FEBRERO!E68+MARZO!E66 -> 4935 | F79: =+'Genera Atc y Atd'!F79+FEBRERO!F68+MARZO!F66 -> 4150 | G79: =+'Genera Atc y Atd'!G79+FEBRERO!G68+MARZO!G66 -> 785
A80: 60 años a más | B80: =+'Genera Atc y Atd'!B80+FEBRERO!B69+MARZO!B67 -> 556 | C80: =+'Genera Atc y Atd'!C80+FEBRERO!C69+MARZO!C67 -> 345 | D80: =+'Genera Atc y Atd'!D80+FEBRERO!D69+MARZO!D67 -> 211 | E80: =+'Genera Atc y Atd'!E80+FEBRERO!E69+MARZO!E67 -> 1325 | F80: =+'Genera Atc y Atd'!F80+FEBRERO!F69+MARZO!F67 -> 787 | G80: =+'Genera Atc y Atd'!G80+FEBRERO!G69+MARZO!G67 -> 538
A89: NUMERO DE ATENDIDOS Y ATENCIONES AL ESTABLECIMIENTO POR SEXO
A91: Periodo: Enero - 2026
A92: Diresa/Red/M.Red/EE.SS: AREQUIPA/AREQUIPA CAYLLOMA/MARITZA CAMPOS DIAZ/I-2 - 000001251 - PUESTO DE SALUD NAZARENO
A95: 1. Según Etapa de Vida:
A97: GRUPO ETAREO | B97: ATENDIDOS | E97: ATENCIONES
B98: TOTAL | C98: F | D98: M | E98: TOTAL | F98: F | G98: M
A100: TOTAL GENERAL | B100: =+'Genera Atc y Atd'!B100+FEBRERO!B87+MARZO!B83 -> 3541 | C100: =+'Genera Atc y Atd'!C100+FEBRERO!C87+MARZO!C83 -> 2262 | D100: =+'Genera Atc y Atd'!D100+FEBRERO!D87+MARZO!D83 -> 1279 | E100: =+'Genera Atc y Atd'!E100+FEBRERO!E87+MARZO!E83 -> 9295 | F100: =+'Genera Atc y Atd'!F100+FEBRERO!F87+MARZO!F83 -> 6195 | G100: =+'Genera Atc y Atd'!G100+FEBRERO!G87+MARZO!G83 -> 3100
A101: < 01 mes | B101: =+'Genera Atc y Atd'!B101+FEBRERO!B88+MARZO!B84 -> 83 | C101: =+'Genera Atc y Atd'!C101+FEBRERO!C88+MARZO!C84 -> 38 | D101: =+'Genera Atc y Atd'!D101+FEBRERO!D88+MARZO!D84 -> 45 | E101: =+'Genera Atc y Atd'!E101+FEBRERO!E88+MARZO!E84 -> 270 | F101: =+'Genera Atc y Atd'!F101+FEBRERO!F88+MARZO!F84 -> 118 | G101: =+'Genera Atc y Atd'!G101+FEBRERO!G88+MARZO!G84 -> 152
A102: 01 a 11 meses | B102: =+'Genera Atc y Atd'!B102+FEBRERO!B89+MARZO!B85 -> 254 | C102: =+'Genera Atc y Atd'!C102+FEBRERO!C89+MARZO!C85 -> 101 | D102: =+'Genera Atc y Atd'!D102+FEBRERO!D89+MARZO!D85 -> 153 | E102: =+'Genera Atc y Atd'!E102+FEBRERO!E89+MARZO!E85 -> 1141 | F102: =+'Genera Atc y Atd'!F102+FEBRERO!F89+MARZO!F85 -> 463 | G102: =+'Genera Atc y Atd'!G102+FEBRERO!G89+MARZO!G85 -> 678
A103: 01 a 04 años | B103: =+'Genera Atc y Atd'!B103+FEBRERO!B90+MARZO!B86 -> 655 | C103: =+'Genera Atc y Atd'!C103+FEBRERO!C90+MARZO!C86 -> 311 | D103: =+'Genera Atc y Atd'!D103+FEBRERO!D90+MARZO!D86 -> 344 | E103: =+'Genera Atc y Atd'!E103+FEBRERO!E90+MARZO!E86 -> 1469 | F103: =+'Genera Atc y Atd'!F103+FEBRERO!F90+MARZO!F86 -> 701 | G103: =+'Genera Atc y Atd'!G103+FEBRERO!G90+MARZO!G86 -> 768
A104: 05 a 11 años | B104: =+'Genera Atc y Atd'!B104+FEBRERO!B91+MARZO!B87 -> 239 | C104: =+'Genera Atc y Atd'!C104+FEBRERO!C91+MARZO!C87 -> 123 | D104: =+'Genera Atc y Atd'!D104+FEBRERO!D91+MARZO!D87 -> 116 | E104: =+'Genera Atc y Atd'!E104+FEBRERO!E91+MARZO!E87 -> 407 | F104: =+'Genera Atc y Atd'!F104+FEBRERO!F91+MARZO!F87 -> 220 | G104: =+'Genera Atc y Atd'!G104+FEBRERO!G91+MARZO!G87 -> 187
A105: 12 a 17 años | B105: =+'Genera Atc y Atd'!B105+FEBRERO!B92+MARZO!B88 -> 188 | C105: =+'Genera Atc y Atd'!C105+FEBRERO!C92+MARZO!C88 -> 115 | D105: =+'Genera Atc y Atd'!D105+FEBRERO!D92+MARZO!D88 -> 73 | E105: =+'Genera Atc y Atd'!E105+FEBRERO!E92+MARZO!E88 -> 416 | F105: =+'Genera Atc y Atd'!F105+FEBRERO!F92+MARZO!F88 -> 259 | G105: =+'Genera Atc y Atd'!G105+FEBRERO!G92+MARZO!G88 -> 157
A106: 18 a 29 años | B106: =+'Genera Atc y Atd'!B106+FEBRERO!B93+MARZO!B89 -> 550 | C106: =+'Genera Atc y Atd'!C106+FEBRERO!C93+MARZO!C89 -> 410 | D106: =+'Genera Atc y Atd'!D106+FEBRERO!D93+MARZO!D89 -> 140 | E106: =+'Genera Atc y Atd'!E106+FEBRERO!E93+MARZO!E89 -> 1423 | F106: =+'Genera Atc y Atd'!F106+FEBRERO!F93+MARZO!F89 -> 1184 | G106: =+'Genera Atc y Atd'!G106+FEBRERO!G93+MARZO!G89 -> 239
A107: 30 a 59 años | B107: =+'Genera Atc y Atd'!B107+FEBRERO!B94+MARZO!B90 -> 1222 | C107: =+'Genera Atc y Atd'!C107+FEBRERO!C94+MARZO!C90 -> 938 | D107: =+'Genera Atc y Atd'!D107+FEBRERO!D94+MARZO!D90 -> 284 | E107: =+'Genera Atc y Atd'!E107+FEBRERO!E94+MARZO!E90 -> 3264 | F107: =+'Genera Atc y Atd'!F107+FEBRERO!F94+MARZO!F90 -> 2666 | G107: =+'Genera Atc y Atd'!G107+FEBRERO!G94+MARZO!G90 -> 598
A108: 60 años a más | B108: =+'Genera Atc y Atd'!B108+FEBRERO!B95+MARZO!B91 -> 350 | C108: =+'Genera Atc y Atd'!C108+FEBRERO!C95+MARZO!C91 -> 226 | D108: =+'Genera Atc y Atd'!D108+FEBRERO!D95+MARZO!D91 -> 124 | E108: =+'Genera Atc y Atd'!E108+FEBRERO!E95+MARZO!E91 -> 905 | F108: =+'Genera Atc y Atd'!F108+FEBRERO!F95+MARZO!F91 -> 584 | G108: =+'Genera Atc y Atd'!G108+FEBRERO!G95+MARZO!G91 -> 321
A119: NUMERO DE ATENDIDOS Y ATENCIONES AL ESTABLECIMIENTO POR SEXO
A121: Periodo: Enero - 2026
A122: Diresa/Red/M.Red/EE.SS: AREQUIPA/AREQUIPA CAYLLOMA/MARITZA CAMPOS DIAZ/I-2 - 000011023 - PUESTO DE SALUD PERUARBO
A125: 1. Según Etapa de Vida:
A127: GRUPO ETAREO | B127: ATENDIDOS | E127: ATENCIONES
B128: TOTAL | C128: F | D128: M | E128: TOTAL | F128: F | G128: M
A130: TOTAL GENERAL | B130: =+'Genera Atc y Atd'!B130+FEBRERO!B113+MARZO!B108 -> 3514 | C130: =+'Genera Atc y Atd'!C130+FEBRERO!C113+MARZO!C108 -> 2277 | D130: =+'Genera Atc y Atd'!D130+FEBRERO!D113+MARZO!D108 -> 1237 | E130: =+'Genera Atc y Atd'!E130+FEBRERO!E113+MARZO!E108 -> 10504 | F130: =+'Genera Atc y Atd'!F130+FEBRERO!F113+MARZO!F108 -> 7083 | G130: =+'Genera Atc y Atd'!G130+FEBRERO!G113+MARZO!G108 -> 3421
A131: < 01 mes | B131: =+'Genera Atc y Atd'!B131+FEBRERO!B114+MARZO!B109 -> 79 | C131: =+'Genera Atc y Atd'!C131+FEBRERO!C114+MARZO!C109 -> 36 | D131: =+'Genera Atc y Atd'!D131+FEBRERO!D114+MARZO!D109 -> 43 | E131: =+'Genera Atc y Atd'!E131+FEBRERO!E114+MARZO!E109 -> 259 | F131: =+'Genera Atc y Atd'!F131+FEBRERO!F114+MARZO!F109 -> 127 | G131: =+'Genera Atc y Atd'!G131+FEBRERO!G114+MARZO!G109 -> 132
A132: 01 a 11 meses | B132: =+'Genera Atc y Atd'!B132+FEBRERO!B115+MARZO!B110 -> 252 | C132: =+'Genera Atc y Atd'!C132+FEBRERO!C115+MARZO!C110 -> 120 | D132: =+'Genera Atc y Atd'!D132+FEBRERO!D115+MARZO!D110 -> 132 | E132: =+'Genera Atc y Atd'!E132+FEBRERO!E115+MARZO!E110 -> 1040 | F132: =+'Genera Atc y Atd'!F132+FEBRERO!F115+MARZO!F110 -> 487 | G132: =+'Genera Atc y Atd'!G132+FEBRERO!G115+MARZO!G110 -> 553
A133: 01 a 04 años | B133: =+'Genera Atc y Atd'!B133+FEBRERO!B116+MARZO!B111 -> 523 | C133: =+'Genera Atc y Atd'!C133+FEBRERO!C116+MARZO!C111 -> 220 | D133: =+'Genera Atc y Atd'!D133+FEBRERO!D116+MARZO!D111 -> 303 | E133: =+'Genera Atc y Atd'!E133+FEBRERO!E116+MARZO!E111 -> 1286 | F133: =+'Genera Atc y Atd'!F133+FEBRERO!F116+MARZO!F111 -> 580 | G133: =+'Genera Atc y Atd'!G133+FEBRERO!G116+MARZO!G111 -> 706
A134: 05 a 11 años | B134: =+'Genera Atc y Atd'!B134+FEBRERO!B117+MARZO!B112 -> 287 | C134: =+'Genera Atc y Atd'!C134+FEBRERO!C117+MARZO!C112 -> 130 | D134: =+'Genera Atc y Atd'!D134+FEBRERO!D117+MARZO!D112 -> 157 | E134: =+'Genera Atc y Atd'!E134+FEBRERO!E117+MARZO!E112 -> 669 | F134: =+'Genera Atc y Atd'!F134+FEBRERO!F117+MARZO!F112 -> 283 | G134: =+'Genera Atc y Atd'!G134+FEBRERO!G117+MARZO!G112 -> 386
A135: 12 a 17 años | B135: =+'Genera Atc y Atd'!B135+FEBRERO!B118+MARZO!B113 -> 250 | C135: =+'Genera Atc y Atd'!C135+FEBRERO!C118+MARZO!C113 -> 148 | D135: =+'Genera Atc y Atd'!D135+FEBRERO!D118+MARZO!D113 -> 102 | E135: =+'Genera Atc y Atd'!E135+FEBRERO!E118+MARZO!E113 -> 692 | F135: =+'Genera Atc y Atd'!F135+FEBRERO!F118+MARZO!F113 -> 437 | G135: =+'Genera Atc y Atd'!G135+FEBRERO!G118+MARZO!G113 -> 255
A136: 18 a 29 años | B136: =+'Genera Atc y Atd'!B136+FEBRERO!B119+MARZO!B114 -> 654 | C136: =+'Genera Atc y Atd'!C136+FEBRERO!C119+MARZO!C114 -> 528 | D136: =+'Genera Atc y Atd'!D136+FEBRERO!D119+MARZO!D114 -> 126 | E136: =+'Genera Atc y Atd'!E136+FEBRERO!E119+MARZO!E114 -> 2179 | F136: =+'Genera Atc y Atd'!F136+FEBRERO!F119+MARZO!F114 -> 1871 | G136: =+'Genera Atc y Atd'!G136+FEBRERO!G119+MARZO!G114 -> 308
A137: 30 a 59 años | B137: =+'Genera Atc y Atd'!B137+FEBRERO!B120+MARZO!B115 -> 1220 | C137: =+'Genera Atc y Atd'!C137+FEBRERO!C120+MARZO!C115 -> 953 | D137: =+'Genera Atc y Atd'!D137+FEBRERO!D120+MARZO!D115 -> 267 | E137: =+'Genera Atc y Atd'!E137+FEBRERO!E120+MARZO!E115 -> 3616 | F137: =+'Genera Atc y Atd'!F137+FEBRERO!F120+MARZO!F115 -> 2895 | G137: =+'Genera Atc y Atd'!G137+FEBRERO!G120+MARZO!G115 -> 721
A138: 60 años a más | B138: =+'Genera Atc y Atd'!B138+FEBRERO!B121+MARZO!B116 -> 249 | C138: =+'Genera Atc y Atd'!C138+FEBRERO!C121+MARZO!C116 -> 142 | D138: =+'Genera Atc y Atd'!D138+FEBRERO!D121+MARZO!D116 -> 107 | E138: =+'Genera Atc y Atd'!E138+FEBRERO!E121+MARZO!E116 -> 763 | F138: =+'Genera Atc y Atd'!F138+FEBRERO!F121+MARZO!F116 -> 403 | G138: =+'Genera Atc y Atd'!G138+FEBRERO!G121+MARZO!G116 -> 360

Sheet ABRIL
A1: REPORTE: Atendidos Atenciones | E1: Desde: 01/04/2026 | G1: Hasta: 30/04/2026
A2: Red: AREQUIPA CAYLLOMA | E2: Departam: Todos
A3: Microred: MARITZA CAMPOS DIAZ | E3: Provincia: Todos
A4: Establec: Todos | E4: Distrito: Todos
A6: grupo_etareo | B6: TOTAL_atendidos | C6: atendidos_femenino | D6: atendidos_masculino | E6: TOTAL_atenciones | F6: atenciones_femenino | G6: atenciones_masculino
A7: <1 mes | B7: 160 | C7: 73 | D7: 87 | E7: 711 | F7: 310 | G7: 401
A8: 1 a 11 meses | B8: 116 | C8: 51 | D8: 65 | E8: 1842 | F8: 835 | G8: 1006
A9: 1 a 4 años | B9: 496 | C9: 236 | D9: 259 | E9: 2668 | F9: 1282 | G9: 1385
A10: 5 a 11 años | B10: 622 | C10: 280 | D10: 342 | E10: 2056 | F10: 976 | G10: 1080
A11: 12 a 17 años | B11: 390 | C11: 186 | D11: 204 | E11: 1790 | F11: 924 | G11: 866
A12: 18 a 29 años | B12: 1242 | C12: 856 | D12: 386 | E12: 5584 | F12: 4494 | G12: 1087
A13: 30 a 59 años | B13: 2208 | C13: 1515 | D13: 693 | E13: 9303 | F13: 6957 | G13: 2343
A14: 60 a mas | B14: 611 | C14: 341 | D14: 270 | E14: 2522 | F14: 1409 | G14: 1113
A15: TOTAL | B15: 5845 | C15: 3538 | D15: 2306 | E15: 26476 | F15: 17187 | G15: 9281
A19: REPORTE: Atendidos Atenciones | E19: Desde: 01/04/2026 | G19: Hasta: 30/04/2026
A20: Red: AREQUIPA CAYLLOMA | E20: Departam: Todos
A21: Microred: MARITZA CAMPOS DIAZ | E21: Provincia: Todos
A22: Establec: MARITZA CAMPOS DIAZ - ZAMACOLA | E22: Distrito: Todos
A24: grupo_etareo | B24: TOTAL_atendidos | C24: atendidos_femenino | D24: atendidos_masculino | E24: TOTAL_atenciones | F24: atenciones_femenino | G24: atenciones_masculino
A25: <1 mes | B25: 93 | C25: 45 | D25: 48 | E25: 430 | F25: 198 | G25: 232
A26: 1 a 11 meses | B26: 68 | C26: 31 | D26: 37 | E26: 412 | F26: 195 | G26: 216
A27: 1 a 4 años | B27: 245 | C27: 108 | D27: 136 | E27: 768 | F27: 374 | G27: 393
A28: 5 a 11 años | B28: 289 | C28: 140 | D28: 149 | E28: 824 | F28: 410 | G28: 414
A29: 12 a 17 años | B29: 179 | C29: 90 | D29: 89 | E29: 859 | F29: 434 | G29: 425
A30: 18 a 29 años | B30: 688 | C30: 455 | D30: 233 | E30: 2638 | F30: 2022 | G30: 616
A31: 30 a 59 años | B31: 1188 | C31: 784 | D31: 404 | E31: 4119 | F31: 2955 | G31: 1164
A32: 60 a mas | B32: 374 | C32: 209 | D32: 165 | E32: 1285 | F32: 730 | G32: 555
A33: TOTAL | B33: 3124 | C33: 1862 | D33: 1261 | E33: 11335 | F33: 7318 | G33: 4015
A38: REPORTE: Atendidos Atenciones | E38: Desde: 01/04/2026 | G38: Hasta: 30/04/2026
A39: Red: AREQUIPA CAYLLOMA | E39: Departam: Todos
A40: Microred: MARITZA CAMPOS DIAZ | E40: Provincia: Todos
A41: Establec: PUESTO DE SALUD CIUDAD MUNICIPAL | E41: Distrito: Todos
A43: grupo_etareo | B43: TOTAL_atendidos | C43: atendidos_femenino | D43: atendidos_masculino | E43: TOTAL_atenciones | F43: atenciones_femenino | G43: atenciones_masculino
A44: <1 mes | B44: 28 | C44: 11 | D44: 17 | E44: 111 | F44: 43 | G44: 68
A45: 1 a 11 meses | B45: 23 | C45: 9 | D45: 14 | E45: 612 | F45: 284 | G45: 328
A46: 1 a 4 años | B46: 102 | C46: 46 | D46: 56 | E46: 715 | F46: 351 | G46: 364
A47: 5 a 11 años | B47: 166 | C47: 74 | D47: 92 | E47: 357 | F47: 163 | G47: 194
A48: 12 a 17 años | B48: 57 | C48: 22 | D48: 35 | E48: 275 | F48: 146 | G48: 129
A49: 18 a 29 años | B49: 245 | C49: 194 | D49: 51 | E49: 1160 | F49: 1028 | G49: 132
A50: 30 a 59 años | B50: 469 | C50: 346 | D50: 123 | E50: 2106 | F50: 1635 | G50: 471
A51: 60 a mas | B51: 115 | C51: 65 | D51: 50 | E51: 535 | F51: 267 | G51: 268
A52: TOTAL | B52: 1205 | C52: 767 | D52: 438 | E52: 5871 | F52: 3917 | G52: 1954
A56: REPORTE: Atendidos Atenciones | E56: Desde: 01/04/2026 | G56: Hasta: 30/04/2026
A57: Red: AREQUIPA CAYLLOMA | E57: Departam: Todos
A58: Microred: MARITZA CAMPOS DIAZ | E58: Provincia: Todos
A59: Establec: PUESTO DE SALUD NAZARENO | E59: Distrito: Todos
A61: grupo_etareo | B61: TOTAL_atendidos | C61: atendidos_femenino | D61: atendidos_masculino | E61: TOTAL_atenciones | F61: atenciones_femenino | G61: atenciones_masculino
A62: <1 mes | B62: 15 | C62: 6 | D62: 9 | E62: 86 | F62: 32 | G62: 54
A63: 1 a 11 meses | B63: 12 | C63: 4 | D63: 8 | E63: 393 | F63: 168 | G63: 225
A64: 1 a 4 años | B64: 80 | C64: 43 | D64: 37 | E64: 595 | F64: 252 | G64: 343
A65: 5 a 11 años | B65: 79 | C65: 38 | D65: 41 | E65: 374 | F65: 189 | G65: 185
A66: 12 a 17 años | B66: 103 | C66: 55 | D66: 48 | E66: 363 | F66: 193 | G66: 170
A67: 18 a 29 años | B67: 176 | C67: 125 | D67: 51 | E67: 896 | F67: 749 | G67: 144
A68: 30 a 59 años | B68: 308 | C68: 221 | D68: 87 | E68: 1651 | F68: 1344 | G68: 304
A69: 60 a mas | B69: 90 | C69: 50 | D69: 40 | E69: 439 | F69: 278 | G69: 161
A70: TOTAL | B70: 863 | C70: 542 | D70: 321 | E70: 4797 | F70: 3205 | G70: 1586
A74: REPORTE: Atendidos Atenciones | E74: Desde: 01/04/2026 | G74: Hasta: 30/04/2026
A75: Red: AREQUIPA CAYLLOMA | E75: Departam: Todos
A76: Microred: MARITZA CAMPOS DIAZ | E76: Provincia: Todos
A77: Establec: PUESTO DE SALUD PERUARBO | E77: Distrito: Todos
A79: grupo_etareo | B79: TOTAL_atendidos | C79: atendidos_femenino | D79: atendidos_masculino | E79: TOTAL_atenciones | F79: atenciones_femenino | G79: atenciones_masculino
A80: <1 mes | B80: 24 | C80: 11 | D80: 13 | E80: 84 | F80: 37 | G80: 47
A81: 1 a 11 meses | B81: 13 | C81: 7 | D81: 6 | E81: 425 | F81: 188 | G81: 237
A82: 1 a 4 años | B82: 69 | C82: 39 | D82: 30 | E82: 590 | F82: 305 | G82: 285
A83: 5 a 11 años | B83: 88 | C83: 28 | D83: 60 | E83: 501 | F83: 214 | G83: 287
A84: 12 a 17 años | B84: 51 | C84: 19 | D84: 32 | E84: 293 | F84: 151 | G84: 142
A85: 18 a 29 años | B85: 133 | C85: 82 | D85: 51 | E85: 890 | F85: 695 | G85: 195
A86: 30 a 59 años | B86: 243 | C86: 164 | D86: 79 | E86: 1427 | F86: 1023 | G86: 404
A87: 60 a mas | B87: 32 | C87: 17 | D87: 15 | E87: 263 | F87: 134 | G87: 129
A88: TOTAL | B88: 653 | C88: 367 | D88: 286 | E88: 4473 | F88: 2747 | G88: 1726

Sheet MAYO
A1: REPORTE: Atendidos Atenciones | E1: Desde: 01/05/2026 | G1: Hasta: 31/05/2026
A2: Red: AREQUIPA CAYLLOMA | E2: Departam: Todos
A3: Microred: MARITZA CAMPOS DIAZ | E3: Provincia: Todos
A4: Establec: Todos | E4: Distrito: Todos
A6: grupo_etareo | B6: TOTAL_atendidos | C6: atendidos_femenino | D6: atendidos_masculino | E6: TOTAL_atenciones | F6: atenciones_femenino | G6: atenciones_masculino
A7: <1 mes | B7: 156 | C7: 34 | D7: 44 | E7: 688 | F7: 181 | G7: 245
A8: 1 a 11 meses | B8: 117 | C8: 15 | D8: 37 | E8: 1929 | F8: 817 | G8: 1010
A9: 1 a 4 años | B9: 520 | C9: 196 | D9: 200 | E9: 2622 | F9: 1186 | G9: 1236
A10: 5 a 11 años | B10: 875 | C10: 392 | D10: 345 | E10: 2833 | F10: 1284 | G10: 1225
A11: 12 a 17 años | B11: 444 | C11: 180 | D11: 175 | E11: 1617 | F11: 774 | G11: 590
A12: 18 a 29 años | B12: 1203 | C12: 593 | D12: 247 | E12: 5461 | F12: 4052 | G12: 764
A13: 30 a 59 años | B13: 2016 | C13: 1031 | D13: 485 | E13: 8877 | F13: 6114 | G13: 1829
A14: 60 a mas | B14: 544 | C14: 232 | D14: 198 | E14: 2605 | F14: 1423 | G14: 971
A15: TOTAL | B15: =SUM(B7:B14) -> 5875 | C15: =SUM(C7:C14) -> 2673 | D15: =SUM(D7:D14) -> 1731 | E15: =SUM(E7:E14) -> 26632 | F15: =SUM(F7:F14) -> 15831 | G15: =SUM(G7:G14) -> 7870
A18: REPORTE: Atendidos Atenciones | E18: Desde: 01/05/2026 | G18: Hasta: 31/05/2026
A19: Red: AREQUIPA CAYLLOMA | E19: Departam: Todos
A20: Microred: MARITZA CAMPOS DIAZ | E20: Provincia: Todos
A21: Establec: MARITZA CAMPOS DIAZ - ZAMACOLA | E21: Distrito: Todos
A23: grupo_etareo | B23: TOTAL_atendidos | C23: atendidos_femenino | D23: atendidos_masculino | E23: TOTAL_atenciones | F23: atenciones_femenino | G23: atenciones_masculino
A24: <1 mes | B24: 76 | C24: 21 | D24: 25 | E24: 413 | F24: 120 | G24: 134
A25: 1 a 11 meses | B25: 63 | C25: 9 | D25: 20 | E25: 424 | F25: 178 | G25: 201
A26: 1 a 4 años | B26: 257 | C26: 82 | D26: 103 | E26: 779 | F26: 316 | G26: 365
A27: 5 a 11 años | B27: 336 | C27: 135 | D27: 118 | E27: 907 | F27: 363 | G27: 379
A28: 12 a 17 años | B28: 257 | C28: 106 | D28: 93 | E28: 716 | F28: 317 | G28: 233
A29: 18 a 29 años | B29: 700 | C29: 340 | D29: 143 | E29: 2847 | F29: 2021 | G29: 432
A30: 30 a 59 años | B30: 1103 | C30: 545 | D30: 265 | E30: 3956 | F30: 2513 | G30: 949
A31: 60 a mas | B31: 341 | C31: 142 | D31: 118 | E31: 1354 | F31: 717 | G31: 512
A32: TOTAL | B32: =SUM(B24:B31) -> 3133 | C32: =SUM(C24:C31) -> 1380 | D32: =SUM(D24:D31) -> 885 | E32: =SUM(E24:E31) -> 11396 | F32: =SUM(F24:F31) -> 6545 | G32: =SUM(G24:G31) -> 3205
A37: REPORTE: Atendidos Atenciones | E37: Desde: 01/05/2026 | G37: Hasta: 31/05/2026
A38: Red: AREQUIPA CAYLLOMA | E38: Departam: Todos
A39: Microred: MARITZA CAMPOS DIAZ | E39: Provincia: Todos
A40: Establec: PUESTO DE SALUD CIUDAD MUNICIPAL | E40: Distrito: Todos
A42: grupo_etareo | B42: TOTAL_atendidos | C42: atendidos_femenino | D42: atendidos_masculino | E42: TOTAL_atenciones | F42: atenciones_femenino | G42: atenciones_masculino
A43: <1 mes | B43: 25 | C43: 2 | D43: 7 | E43: 84 | F43: 14 | G43: 45
A44: 1 a 11 meses | B44: 26 | C44: 3 | D44: 6 | E44: 569 | F44: 253 | G44: 290
A45: 1 a 4 años | B45: 97 | C45: 35 | D45: 37 | E45: 688 | F45: 301 | G45: 342
A46: 5 a 11 años | B46: 186 | C46: 82 | D46: 81 | E46: 834 | F46: 380 | G46: 381
A47: 12 a 17 años | B47: 47 | C47: 20 | D47: 21 | E47: 297 | F47: 159 | G47: 112
A48: 18 a 29 años | B48: 215 | C48: 106 | D48: 35 | E48: 1149 | F48: 915 | G48: 107
A49: 30 a 59 años | B49: 344 | C49: 174 | D49: 74 | E49: 2093 | F49: 1527 | G49: 343
A50: 60 a mas | B50: 80 | C50: 36 | D50: 31 | E50: 513 | F50: 283 | G50: 200
A51: TOTAL | B51: =SUM(B43:B50) -> 1020 | C51: =SUM(C43:C50) -> 458 | D51: =SUM(D43:D50) -> 292 | E51: =SUM(E43:E50) -> 6227 | F51: =SUM(F43:F50) -> 3832 | G51: =SUM(G43:G50) -> 1820
A56: REPORTE: Atendidos Atenciones | E56: Desde: 01/05/2026 | G56: Hasta: 31/05/2026
A57: Red: AREQUIPA CAYLLOMA | E57: Departam: Todos
A58: Microred: MARITZA CAMPOS DIAZ | E58: Provincia: Todos
A59: Establec: PUESTO DE SALUD NAZARENO | E59: Distrito: Todos
A61: grupo_etareo | B61: TOTAL_atendidos | C61: atendidos_femenino | D61: atendidos_masculino | E61: TOTAL_atenciones | F61: atenciones_femenino | G61: atenciones_masculino
A62: <1 mes | B62: 27 | C62: 6 | D62: 7 | E62: 98 | F62: 27 | G62: 32
A63: 1 a 11 meses | B63: 11 | C63: 2 | D63: 5 | E63: 442 | F63: 159 | G63: 270
A64: 1 a 4 años | B64: 75 | C64: 37 | D64: 27 | E64: 541 | F64: 273 | G64: 248
A65: 5 a 11 años | B65: 158 | C65: 89 | D65: 59 | E65: 414 | F65: 245 | G65: 153
A66: 12 a 17 años | B66: 104 | C66: 39 | D66: 48 | E66: 301 | F66: 136 | G66: 140
A67: 18 a 29 años | B67: 160 | C67: 78 | D67: 40 | E67: 750 | F67: 607 | G67: 87
A68: 30 a 59 años | B68: 310 | C68: 178 | D68: 83 | E68: 1442 | F68: 1129 | G68: 230
A69: 60 a mas | B69: 80 | C69: 44 | D69: 30 | E69: 435 | F69: 291 | G69: 126
A70: TOTAL | B70: =SUM(B62:B69) -> 925 | C70: =SUM(C62:C69) -> 473 | D70: =SUM(D62:D69) -> 299 | E70: =SUM(E62:E69) -> 4423 | F70: =SUM(F62:F69) -> 2867 | G70: =SUM(G62:G69) -> 1286
A76: REPORTE: Atendidos Atenciones | E76: Desde: 01/05/2026 | G76: Hasta: 31/05/2026
A77: Red: AREQUIPA CAYLLOMA | E77: Departam: Todos
A78: Microred: MARITZA CAMPOS DIAZ | E78: Provincia: Todos
A79: Establec: PUESTO DE SALUD PERUARBO | E79: Distrito: Todos
A81: grupo_etareo | B81: TOTAL_atendidos | C81: atendidos_femenino | D81: atendidos_masculino | E81: TOTAL_atenciones | F81: atenciones_femenino | G81: atenciones_masculino
A82: <1 mes | B82: 28 | C82: 5 | D82: 5 | E82: 93 | F82: 20 | G82: 34
A83: 1 a 11 meses | B83: 17 | C83: 1 | D83: 6 | E83: 494 | F83: 227 | G83: 249
A84: 1 a 4 años | B84: 91 | C84: 42 | D84: 33 | E84: 614 | F84: 296 | G84: 281
A85: 5 a 11 años | B85: 195 | C85: 86 | D85: 87 | E85: 678 | F85: 296 | G85: 312
A86: 12 a 17 años | B86: 36 | C86: 15 | D86: 13 | E86: 303 | F86: 162 | G86: 105
A87: 18 a 29 años | B87: 128 | C87: 69 | D87: 29 | E87: 715 | F87: 509 | G87: 138
A88: 30 a 59 años | B88: 259 | C88: 134 | D88: 63 | E88: 1386 | F88: 945 | G88: 307
A89: 60 a mas | B89: 43 | C89: 10 | D89: 19 | E89: 303 | F89: 132 | G89: 133
A90: TOTAL | B90: =SUM(B82:B89) -> 797 | C90: =SUM(C82:C89) -> 362 | D90: =SUM(D82:D89) -> 255 | E90: =SUM(E82:E89) -> 4586 | F90: =SUM(F82:F89) -> 2587 | G90: =SUM(G82:G89) -> 1559

Sheet JUNIO
A1: REPORTE: Atendidos Atenciones | E1: Desde: 01/06/2026 | G1: Hasta: 30/06/2026
A2: Red: AREQUIPA CAYLLOMA | E2: Departam: Todos
A3: Microred: MARITZA CAMPOS DIAZ | E3: Provincia: Todos
A4: Establec: Todos | E4: Distrito: Todos
A6: grupo_etareo | B6: TOTAL_atendidos | C6: atendidos_femenino | D6: atendidos_masculino | E6: TOTAL_atenciones | F6: atenciones_femenino | G6: atenciones_masculino
A7: <1 mes | B7: 147 | C7: 72 | D7: 75 | E7: 640 | F7: 333 | G7: 307
A8: 1 a 11 meses | B8: 100 | C8: 46 | D8: 54 | E8: 1755 | F8: 816 | G8: 939
A9: 1 a 4 años | B9: 392 | C9: 187 | D9: 205 | E9: 2848 | F9: 1378 | G9: 1470
A10: 5 a 11 años | B10: 686 | C10: 311 | D10: 375 | E10: 3172 | F10: 1528 | G10: 1644
A11: 12 a 17 años | B11: 385 | C11: 183 | D11: 202 | E11: 2007 | F11: 1048 | G11: 959
A12: 18 a 29 años | B12: 1040 | C12: 686 | D12: 354 | E12: 5057 | F12: 4082 | G12: 975
A13: 30 a 59 años | B13: 1738 | C13: 1186 | D13: 552 | E13: 8593 | F13: 6611 | G13: 1982
A14: 60 a mas | B14: 437 | C14: 242 | D14: 195 | E14: 2439 | F14: 1419 | G14: 1020
A15: TOTAL | B15: =SUM(B7:B14) -> 4925 | C15: =SUM(C7:C14) -> 2913 | D15: =SUM(D7:D14) -> 2012 | E15: =SUM(E7:E14) -> 26511 | F15: =SUM(F7:F14) -> 17215 | G15: =SUM(G7:G14) -> 9296
A21: REPORTE: Atendidos Atenciones | E21: Desde: 01/06/2026 | G21: Hasta: 30/06/2026
A22: Red: AREQUIPA CAYLLOMA | E22: Departam: Todos
A23: Microred: MARITZA CAMPOS DIAZ | E23: Provincia: Todos
A24: Establec: MARITZA CAMPOS DIAZ - ZAMACOLA | E24: Distrito: Todos
A26: grupo_etareo | B26: TOTAL_atendidos | C26: atendidos_femenino | D26: atendidos_masculino | E26: TOTAL_atenciones | F26: atenciones_femenino | G26: atenciones_masculino
A27: <1 mes | B27: 81 | C27: 43 | D27: 38 | E27: 395 | F27: 219 | G27: 176
A28: 1 a 11 meses | B28: 64 | C28: 27 | D28: 37 | E28: 461 | F28: 215 | G28: 246
A29: 1 a 4 años | B29: 189 | C29: 93 | D29: 96 | E29: 758 | F29: 371 | G29: 387
A30: 5 a 11 años | B30: 306 | C30: 135 | D30: 171 | E30: 834 | F30: 363 | G30: 471
A31: 12 a 17 años | B31: 193 | C31: 96 | D31: 97 | E31: 707 | F31: 385 | G31: 322
A32: 18 a 29 años | B32: 570 | C32: 370 | D32: 200 | E32: 2409 | F32: 1840 | G32: 569
A33: 30 a 59 años | B33: 929 | C33: 618 | D33: 311 | E33: 3655 | F33: 2600 | G33: 1055
A34: 60 a mas | B34: 260 | C34: 140 | D34: 120 | E34: 1222 | F34: 712 | G34: 510
A35: TOTAL | B35: =SUM(B27:B34) -> 2592 | C35: =SUM(C27:C34) -> 1522 | D35: =SUM(D27:D34) -> 1070 | E35: =SUM(E27:E34) -> 10441 | F35: =SUM(F27:F34) -> 6705 | G35: =SUM(G27:G34) -> 3736
A40: REPORTE: Atendidos Atenciones | E40: Desde: 01/06/2026 | G40: Hasta: 30/06/2026
A41: Red: AREQUIPA CAYLLOMA | E41: Departam: Todos
A42: Microred: MARITZA CAMPOS DIAZ | E42: Provincia: Todos
A43: Establec: PUESTO DE SALUD CIUDAD MUNICIPAL | E43: Distrito: Todos
A45: grupo_etareo | B45: TOTAL_atendidos | C45: atendidos_femenino | D45: atendidos_masculino | E45: TOTAL_atenciones | F45: atenciones_femenino | G45: atenciones_masculino
A46: <1 mes | B46: 19 | C46: 4 | D46: 15 | E46: 74 | F46: 27 | G46: 47
A47: 1 a 11 meses | B47: 18 | C47: 8 | D47: 10 | E47: 479 | F47: 222 | G47: 257
A48: 1 a 4 años | B48: 92 | C48: 43 | D48: 49 | E48: 683 | F48: 327 | G48: 356
A49: 5 a 11 años | B49: 144 | C49: 64 | D49: 80 | E49: 1037 | F49: 538 | G49: 499
A50: 12 a 17 años | B50: 63 | C50: 31 | D50: 32 | E50: 527 | F50: 270 | G50: 257
A51: 18 a 29 años | B51: 170 | C51: 120 | D51: 50 | E51: 1003 | F51: 864 | G51: 139
A52: 30 a 59 años | B52: 281 | C52: 185 | D52: 96 | E52: 1877 | F52: 1519 | G52: 358
A53: 60 a mas | B53: 71 | C53: 39 | D53: 32 | E53: 379 | F53: 187 | G53: 192
A54: TOTAL | B54: =SUM(B46:B53) -> 858 | C54: =SUM(C46:C53) -> 494 | D54: =SUM(D46:D53) -> 364 | E54: =SUM(E46:E53) -> 6059 | F54: =SUM(F46:F53) -> 3954 | G54: =SUM(G46:G53) -> 2105
A59: REPORTE: Atendidos Atenciones | E59: Desde: 01/06/2026 | G59: Hasta: 30/06/2026
A60: Red: AREQUIPA CAYLLOMA | E60: Departam: Todos
A61: Microred: MARITZA CAMPOS DIAZ | E61: Provincia: Todos
A62: Establec: PUESTO DE SALUD NAZARENO | E62: Distrito: Todos
A64: grupo_etareo | B64: TOTAL_atendidos | C64: atendidos_femenino | D64: atendidos_masculino | E64: TOTAL_atenciones | F64: atenciones_femenino | G64: atenciones_masculino
A65: <1 mes | B65: 28 | C65: 17 | D65: 11 | E65: 89 | F65: 52 | G65: 37
A66: 1 a 11 meses | B66: 6 | C66: 4 | D66: 2 | E66: 355 | F66: 160 | G66: 195
A67: 1 a 4 años | B67: 36 | C67: 14 | D67: 22 | E67: 620 | F67: 290 | G67: 330
A68: 5 a 11 años | B68: 80 | C68: 35 | D68: 45 | E68: 577 | F68: 278 | G68: 299
A69: 12 a 17 años | B69: 81 | C69: 36 | D69: 45 | E69: 412 | F69: 192 | G69: 220
A70: 18 a 29 años | B70: 137 | C70: 78 | D70: 59 | E70: 845 | F70: 715 | G70: 130
A71: 30 a 59 años | B71: 265 | C71: 190 | D71: 75 | E71: 1515 | F71: 1277 | G71: 238
A72: 60 a mas | B72: 64 | C72: 35 | D72: 29 | E72: 446 | F72: 302 | G72: 144
A73: TOTAL | B73: =SUM(B65:B72) -> 697 | C73: =SUM(C65:C72) -> 409 | D73: =SUM(D65:D72) -> 288 | E73: =SUM(E65:E72) -> 4859 | F73: =SUM(F65:F72) -> 3266 | G73: =SUM(G65:G72) -> 1593
A78: REPORTE: Atendidos Atenciones | E78: Desde: 01/06/2026 | G78: Hasta: 30/06/2026
A79: Red: AREQUIPA CAYLLOMA | E79: Departam: Todos
A80: Microred: MARITZA CAMPOS DIAZ | E80: Provincia: Todos
A81: Establec: PUESTO DE SALUD PERUARBO | E81: Distrito: Todos
A83: grupo_etareo | B83: TOTAL_atendidos | C83: atendidos_femenino | D83: atendidos_masculino | E83: TOTAL_atenciones | F83: atenciones_femenino | G83: atenciones_masculino
A84: <1 mes | B84: 19 | C84: 8 | D84: 11 | E84: 82 | F84: 35 | G84: 47
A85: 1 a 11 meses | B85: 12 | C85: 7 | D85: 5 | E85: 460 | F85: 219 | G85: 241
A86: 1 a 4 años | B86: 75 | C86: 37 | D86: 38 | E86: 787 | F86: 390 | G86: 397
A87: 5 a 11 años | B87: 156 | C87: 77 | D87: 79 | E87: 724 | F87: 349 | G87: 375
A88: 12 a 17 años | B88: 48 | C88: 20 | D88: 28 | E88: 361 | F88: 201 | G88: 160
A89: 18 a 29 años | B89: 163 | C89: 118 | D89: 45 | E89: 800 | F89: 663 | G89: 137
A90: 30 a 59 años | B90: 263 | C90: 193 | D90: 70 | E90: 1546 | F90: 1215 | G90: 331
A91: 60 a mas | B91: 42 | C91: 28 | D91: 14 | E91: 392 | F91: 218 | G91: 174
A92: TOTAL | B92: =SUM(B84:B91) -> 778 | C92: =SUM(C84:C91) -> 488 | D92: =SUM(D84:D91) -> 290 | E92: =SUM(E84:E91) -> 5152 | F92: =SUM(F84:F91) -> 3290 | G92: =SUM(G84:G91) -> 1862

Sheet 2DO TRI
A1: REPORTE: Atendidos Atenciones | E1: Desde: 01/04/2026 | G1: Hasta: 30/06/2026
A2: Red: AREQUIPA CAYLLOMA | E2: Departam: Todos
A3: Microred: MARITZA CAMPOS DIAZ | E3: Provincia: Todos
A4: Establec: Todos | E4: Distrito: Todos
A6: grupo_etareo | B6: TOTAL_atendidos | C6: atendidos_femenino | D6: atendidos_masculino | E6: TOTAL_atenciones | F6: atenciones_femenino | G6: atenciones_masculino
A7: <1 mes | B7: =+ABRIL!B7+MAYO!B7+JUNIO!B7 -> 463 | C7: =+ABRIL!C7+MAYO!C7+JUNIO!C7 -> 179 | D7: =+ABRIL!D7+MAYO!D7+JUNIO!D7 -> 206 | E7: =+ABRIL!E7+MAYO!E7+JUNIO!E7 -> 2039 | F7: =+ABRIL!F7+MAYO!F7+JUNIO!F7 -> 824 | G7: =+ABRIL!G7+MAYO!G7+JUNIO!G7 -> 953
A8: 1 a 11 meses | B8: =+ABRIL!B8+MAYO!B8+JUNIO!B8 -> 333 | C8: =+ABRIL!C8+MAYO!C8+JUNIO!C8 -> 112 | D8: =+ABRIL!D8+MAYO!D8+JUNIO!D8 -> 156 | E8: =+ABRIL!E8+MAYO!E8+JUNIO!E8 -> 5526 | F8: =+ABRIL!F8+MAYO!F8+JUNIO!F8 -> 2468 | G8: =+ABRIL!G8+MAYO!G8+JUNIO!G8 -> 2955
A9: 1 a 4 años | B9: =+ABRIL!B9+MAYO!B9+JUNIO!B9 -> 1408 | C9: =+ABRIL!C9+MAYO!C9+JUNIO!C9 -> 619 | D9: =+ABRIL!D9+MAYO!D9+JUNIO!D9 -> 664 | E9: =+ABRIL!E9+MAYO!E9+JUNIO!E9 -> 8138 | F9: =+ABRIL!F9+MAYO!F9+JUNIO!F9 -> 3846 | G9: =+ABRIL!G9+MAYO!G9+JUNIO!G9 -> 4091
A10: 5 a 11 años | B10: =+ABRIL!B10+MAYO!B10+JUNIO!B10 -> 2183 | C10: =+ABRIL!C10+MAYO!C10+JUNIO!C10 -> 983 | D10: =+ABRIL!D10+MAYO!D10+JUNIO!D10 -> 1062 | E10: =+ABRIL!E10+MAYO!E10+JUNIO!E10 -> 8061 | F10: =+ABRIL!F10+MAYO!F10+JUNIO!F10 -> 3788 | G10: =+ABRIL!G10+MAYO!G10+JUNIO!G10 -> 3949
A11: 12 a 17 años | B11: =+ABRIL!B11+MAYO!B11+JUNIO!B11 -> 1219 | C11: =+ABRIL!C11+MAYO!C11+JUNIO!C11 -> 549 | D11: =+ABRIL!D11+MAYO!D11+JUNIO!D11 -> 581 | E11: =+ABRIL!E11+MAYO!E11+JUNIO!E11 -> 5414 | F11: =+ABRIL!F11+MAYO!F11+JUNIO!F11 -> 2746 | G11: =+ABRIL!G11+MAYO!G11+JUNIO!G11 -> 2415
A12: 18 a 29 años | B12: =+ABRIL!B12+MAYO!B12+JUNIO!B12 -> 3485 | C12: =+ABRIL!C12+MAYO!C12+JUNIO!C12 -> 2135 | D12: =+ABRIL!D12+MAYO!D12+JUNIO!D12 -> 987 | E12: =+ABRIL!E12+MAYO!E12+JUNIO!E12 -> 16102 | F12: =+ABRIL!F12+MAYO!F12+JUNIO!F12 -> 12628 | G12: =+ABRIL!G12+MAYO!G12+JUNIO!G12 -> 2826
A13: 30 a 59 años | B13: =+ABRIL!B13+MAYO!B13+JUNIO!B13 -> 5962 | C13: =+ABRIL!C13+MAYO!C13+JUNIO!C13 -> 3732 | D13: =+ABRIL!D13+MAYO!D13+JUNIO!D13 -> 1730 | E13: =+ABRIL!E13+MAYO!E13+JUNIO!E13 -> 26773 | F13: =+ABRIL!F13+MAYO!F13+JUNIO!F13 -> 19682 | G13: =+ABRIL!G13+MAYO!G13+JUNIO!G13 -> 6154
A14: 60 a mas | B14: =+ABRIL!B14+MAYO!B14+JUNIO!B14 -> 1592 | C14: =+ABRIL!C14+MAYO!C14+JUNIO!C14 -> 815 | D14: =+ABRIL!D14+MAYO!D14+JUNIO!D14 -> 663 | E14: =+ABRIL!E14+MAYO!E14+JUNIO!E14 -> 7566 | F14: =+ABRIL!F14+MAYO!F14+JUNIO!F14 -> 4251 | G14: =+ABRIL!G14+MAYO!G14+JUNIO!G14 -> 3104
A15: TOTAL | B15: =SUM(B7:B14) -> 16645 | C15: =SUM(C7:C14) -> 9124 | D15: =SUM(D7:D14) -> 6049 | E15: =SUM(E7:E14) -> 79619 | F15: =SUM(F7:F14) -> 50233 | G15: =SUM(G7:G14) -> 26447
A21: REPORTE: Atendidos Atenciones | E21: Desde: 01/04/2026 | G21: Hasta: 30/06/2026
A22: Red: AREQUIPA CAYLLOMA | E22: Departam: Todos
A23: Microred: MARITZA CAMPOS DIAZ | E23: Provincia: Todos
A24: Establec: MARITZA CAMPOS DIAZ - ZAMACOLA | E24: Distrito: Todos
A26: grupo_etareo | B26: TOTAL_atendidos | C26: atendidos_femenino | D26: atendidos_masculino | E26: TOTAL_atenciones | F26: atenciones_femenino | G26: atenciones_masculino
A27: <1 mes | B27: =+ABRIL!B25+MAYO!B24+JUNIO!B27 -> 250 | C27: =+ABRIL!C25+MAYO!C24+JUNIO!C27 -> 109 | D27: =+ABRIL!D25+MAYO!D24+JUNIO!D27 -> 111 | E27: =+ABRIL!E25+MAYO!E24+JUNIO!E27 -> 1238 | F27: =+ABRIL!F25+MAYO!F24+JUNIO!F27 -> 537 | G27: =+ABRIL!G25+MAYO!G24+JUNIO!G27 -> 542
A28: 1 a 11 meses | B28: =+ABRIL!B26+MAYO!B25+JUNIO!B28 -> 195 | C28: =+ABRIL!C26+MAYO!C25+JUNIO!C28 -> 67 | D28: =+ABRIL!D26+MAYO!D25+JUNIO!D28 -> 94 | E28: =+ABRIL!E26+MAYO!E25+JUNIO!E28 -> 1297 | F28: =+ABRIL!F26+MAYO!F25+JUNIO!F28 -> 588 | G28: =+ABRIL!G26+MAYO!G25+JUNIO!G28 -> 663
A29: 1 a 4 años | B29: =+ABRIL!B27+MAYO!B26+JUNIO!B29 -> 691 | C29: =+ABRIL!C27+MAYO!C26+JUNIO!C29 -> 283 | D29: =+ABRIL!D27+MAYO!D26+JUNIO!D29 -> 335 | E29: =+ABRIL!E27+MAYO!E26+JUNIO!E29 -> 2305 | F29: =+ABRIL!F27+MAYO!F26+JUNIO!F29 -> 1061 | G29: =+ABRIL!G27+MAYO!G26+JUNIO!G29 -> 1145
A30: 5 a 11 años | B30: =+ABRIL!B28+MAYO!B27+JUNIO!B30 -> 931 | C30: =+ABRIL!C28+MAYO!C27+JUNIO!C30 -> 410 | D30: =+ABRIL!D28+MAYO!D27+JUNIO!D30 -> 438 | E30: =+ABRIL!E28+MAYO!E27+JUNIO!E30 -> 2565 | F30: =+ABRIL!F28+MAYO!F27+JUNIO!F30 -> 1136 | G30: =+ABRIL!G28+MAYO!G27+JUNIO!G30 -> 1264
A31: 12 a 17 años | B31: =+ABRIL!B29+MAYO!B28+JUNIO!B31 -> 629 | C31: =+ABRIL!C29+MAYO!C28+JUNIO!C31 -> 292 | D31: =+ABRIL!D29+MAYO!D28+JUNIO!D31 -> 279 | E31: =+ABRIL!E29+MAYO!E28+JUNIO!E31 -> 2282 | F31: =+ABRIL!F29+MAYO!F28+JUNIO!F31 -> 1136 | G31: =+ABRIL!G29+MAYO!G28+JUNIO!G31 -> 980
A32: 18 a 29 años | B32: =+ABRIL!B30+MAYO!B29+JUNIO!B32 -> 1958 | C32: =+ABRIL!C30+MAYO!C29+JUNIO!C32 -> 1165 | D32: =+ABRIL!D30+MAYO!D29+JUNIO!D32 -> 576 | E32: =+ABRIL!E30+MAYO!E29+JUNIO!E32 -> 7894 | F32: =+ABRIL!F30+MAYO!F29+JUNIO!F32 -> 5883 | G32: =+ABRIL!G30+MAYO!G29+JUNIO!G32 -> 1617
A33: 30 a 59 años | B33: =+ABRIL!B31+MAYO!B30+JUNIO!B33 -> 3220 | C33: =+ABRIL!C31+MAYO!C30+JUNIO!C33 -> 1947 | D33: =+ABRIL!D31+MAYO!D30+JUNIO!D33 -> 980 | E33: =+ABRIL!E31+MAYO!E30+JUNIO!E33 -> 11730 | F33: =+ABRIL!F31+MAYO!F30+JUNIO!F33 -> 8068 | G33: =+ABRIL!G31+MAYO!G30+JUNIO!G33 -> 3168
A34: 60 a mas | B34: =+ABRIL!B32+MAYO!B31+JUNIO!B34 -> 975 | C34: =+ABRIL!C32+MAYO!C31+JUNIO!C34 -> 491 | D34: =+ABRIL!D32+MAYO!D31+JUNIO!D34 -> 403 | E34: =+ABRIL!E32+MAYO!E31+JUNIO!E34 -> 3861 | F34: =+ABRIL!F32+MAYO!F31+JUNIO!F34 -> 2159 | G34: =+ABRIL!G32+MAYO!G31+JUNIO!G34 -> 1577
A35: TOTAL | B35: =SUM(B27:B34) -> 8849 | C35: =SUM(C27:C34) -> 4764 | D35: =SUM(D27:D34) -> 3216 | E35: =SUM(E27:E34) -> 33172 | F35: =SUM(F27:F34) -> 20568 | G35: =SUM(G27:G34) -> 10956
A40: REPORTE: Atendidos Atenciones | E40: Desde: 01/04/2026 | G40: Hasta: 30/06/2026
A41: Red: AREQUIPA CAYLLOMA | E41: Departam: Todos
A42: Microred: MARITZA CAMPOS DIAZ | E42: Provincia: Todos
A43: Establec: PUESTO DE SALUD CIUDAD MUNICIPAL | E43: Distrito: Todos
A45: grupo_etareo | B45: TOTAL_atendidos | C45: atendidos_femenino | D45: atendidos_masculino | E45: TOTAL_atenciones | F45: atenciones_femenino | G45: atenciones_masculino
A46: <1 mes | B46: =+ABRIL!B44+MAYO!B43+JUNIO!B46 -> 72 | C46: =+ABRIL!C44+MAYO!C43+JUNIO!C46 -> 17 | D46: =+ABRIL!D44+MAYO!D43+JUNIO!D46 -> 39 | E46: =+ABRIL!E44+MAYO!E43+JUNIO!E46 -> 269 | F46: =+ABRIL!F44+MAYO!F43+JUNIO!F46 -> 84 | G46: =+ABRIL!G44+MAYO!G43+JUNIO!G46 -> 160
A47: 1 a 11 meses | B47: =+ABRIL!B45+MAYO!B44+JUNIO!B47 -> 67 | C47: =+ABRIL!C45+MAYO!C44+JUNIO!C47 -> 20 | D47: =+ABRIL!D45+MAYO!D44+JUNIO!D47 -> 30 | E47: =+ABRIL!E45+MAYO!E44+JUNIO!E47 -> 1660 | F47: =+ABRIL!F45+MAYO!F44+JUNIO!F47 -> 759 | G47: =+ABRIL!G45+MAYO!G44+JUNIO!G47 -> 875
A48: 1 a 4 años | B48: =+ABRIL!B46+MAYO!B45+JUNIO!B48 -> 291 | C48: =+ABRIL!C46+MAYO!C45+JUNIO!C48 -> 124 | D48: =+ABRIL!D46+MAYO!D45+JUNIO!D48 -> 142 | E48: =+ABRIL!E46+MAYO!E45+JUNIO!E48 -> 2086 | F48: =+ABRIL!F46+MAYO!F45+JUNIO!F48 -> 979 | G48: =+ABRIL!G46+MAYO!G45+JUNIO!G48 -> 1062
A49: 5 a 11 años | B49: =+ABRIL!B47+MAYO!B46+JUNIO!B49 -> 496 | C49: =+ABRIL!C47+MAYO!C46+JUNIO!C49 -> 220 | D49: =+ABRIL!D47+MAYO!D46+JUNIO!D49 -> 253 | E49: =+ABRIL!E47+MAYO!E46+JUNIO!E49 -> 2228 | F49: =+ABRIL!F47+MAYO!F46+JUNIO!F49 -> 1081 | G49: =+ABRIL!G47+MAYO!G46+JUNIO!G49 -> 1074
A50: 12 a 17 años | B50: =+ABRIL!B48+MAYO!B47+JUNIO!B50 -> 167 | C50: =+ABRIL!C48+MAYO!C47+JUNIO!C50 -> 73 | D50: =+ABRIL!D48+MAYO!D47+JUNIO!D50 -> 88 | E50: =+ABRIL!E48+MAYO!E47+JUNIO!E50 -> 1099 | F50: =+ABRIL!F48+MAYO!F47+JUNIO!F50 -> 575 | G50: =+ABRIL!G48+MAYO!G47+JUNIO!G50 -> 498
A51: 18 a 29 años | B51: =+ABRIL!B49+MAYO!B48+JUNIO!B51 -> 630 | C51: =+ABRIL!C49+MAYO!C48+JUNIO!C51 -> 420 | D51: =+ABRIL!D49+MAYO!D48+JUNIO!D51 -> 136 | E51: =+ABRIL!E49+MAYO!E48+JUNIO!E51 -> 3312 | F51: =+ABRIL!F49+MAYO!F48+JUNIO!F51 -> 2807 | G51: =+ABRIL!G49+MAYO!G48+JUNIO!G51 -> 378
A52: 30 a 59 años | B52: =+ABRIL!B50+MAYO!B49+JUNIO!B52 -> 1094 | C52: =+ABRIL!C50+MAYO!C49+JUNIO!C52 -> 705 | D52: =+ABRIL!D50+MAYO!D49+JUNIO!D52 -> 293 | E52: =+ABRIL!E50+MAYO!E49+JUNIO!E52 -> 6076 | F52: =+ABRIL!F50+MAYO!F49+JUNIO!F52 -> 4681 | G52: =+ABRIL!G50+MAYO!G49+JUNIO!G52 -> 1172
A53: 60 a mas | B53: =+ABRIL!B51+MAYO!B50+JUNIO!B53 -> 266 | C53: =+ABRIL!C51+MAYO!C50+JUNIO!C53 -> 140 | D53: =+ABRIL!D51+MAYO!D50+JUNIO!D53 -> 113 | E53: =+ABRIL!E51+MAYO!E50+JUNIO!E53 -> 1427 | F53: =+ABRIL!F51+MAYO!F50+JUNIO!F53 -> 737 | G53: =+ABRIL!G51+MAYO!G50+JUNIO!G53 -> 660
A54: TOTAL | B54: =SUM(B46:B53) -> 3083 | C54: =SUM(C46:C53) -> 1719 | D54: =SUM(D46:D53) -> 1094 | E54: =SUM(E46:E53) -> 18157 | F54: =SUM(F46:F53) -> 11703 | G54: =SUM(G46:G53) -> 5879
A59: REPORTE: Atendidos Atenciones | E59: Desde: 01/04/2026 | G59: Hasta: 30/06/2026
A60: Red: AREQUIPA CAYLLOMA | E60: Departam: Todos
A61: Microred: MARITZA CAMPOS DIAZ | E61: Provincia: Todos
A62: Establec: PUESTO DE SALUD NAZARENO | E62: Distrito: Todos
A64: grupo_etareo | B64: TOTAL_atendidos | C64: atendidos_femenino | D64: atendidos_masculino | E64: TOTAL_atenciones | F64: atenciones_femenino | G64: atenciones_masculino
A65: <1 mes | B65: =+ABRIL!B62+MAYO!B62+JUNIO!B65 -> 70 | C65: =+ABRIL!C62+MAYO!C62+JUNIO!C65 -> 29 | D65: =+ABRIL!D62+MAYO!D62+JUNIO!D65 -> 27 | E65: =+ABRIL!E62+MAYO!E62+JUNIO!E65 -> 273 | F65: =+ABRIL!F62+MAYO!F62+JUNIO!F65 -> 111 | G65: =+ABRIL!G62+MAYO!G62+JUNIO!G65 -> 123
A66: 1 a 11 meses | B66: =+ABRIL!B63+MAYO!B63+JUNIO!B66 -> 29 | C66: =+ABRIL!C63+MAYO!C63+JUNIO!C66 -> 10 | D66: =+ABRIL!D63+MAYO!D63+JUNIO!D66 -> 15 | E66: =+ABRIL!E63+MAYO!E63+JUNIO!E66 -> 1190 | F66: =+ABRIL!F63+MAYO!F63+JUNIO!F66 -> 487 | G66: =+ABRIL!G63+MAYO!G63+JUNIO!G66 -> 690
A67: 1 a 4 años | B67: =+ABRIL!B64+MAYO!B64+JUNIO!B67 -> 191 | C67: =+ABRIL!C64+MAYO!C64+JUNIO!C67 -> 94 | D67: =+ABRIL!D64+MAYO!D64+JUNIO!D67 -> 86 | E67: =+ABRIL!E64+MAYO!E64+JUNIO!E67 -> 1756 | F67: =+ABRIL!F64+MAYO!F64+JUNIO!F67 -> 815 | G67: =+ABRIL!G64+MAYO!G64+JUNIO!G67 -> 921
A68: 5 a 11 años | B68: =+ABRIL!B65+MAYO!B65+JUNIO!B68 -> 317 | C68: =+ABRIL!C65+MAYO!C65+JUNIO!C68 -> 162 | D68: =+ABRIL!D65+MAYO!D65+JUNIO!D68 -> 145 | E68: =+ABRIL!E65+MAYO!E65+JUNIO!E68 -> 1365 | F68: =+ABRIL!F65+MAYO!F65+JUNIO!F68 -> 712 | G68: =+ABRIL!G65+MAYO!G65+JUNIO!G68 -> 637
A69: 12 a 17 años | B69: =+ABRIL!B66+MAYO!B66+JUNIO!B69 -> 288 | C69: =+ABRIL!C66+MAYO!C66+JUNIO!C69 -> 130 | D69: =+ABRIL!D66+MAYO!D66+JUNIO!D69 -> 141 | E69: =+ABRIL!E66+MAYO!E66+JUNIO!E69 -> 1076 | F69: =+ABRIL!F66+MAYO!F66+JUNIO!F69 -> 521 | G69: =+ABRIL!G66+MAYO!G66+JUNIO!G69 -> 530
A70: 18 a 29 años | B70: =+ABRIL!B67+MAYO!B67+JUNIO!B70 -> 473 | C70: =+ABRIL!C67+MAYO!C67+JUNIO!C70 -> 281 | D70: =+ABRIL!D67+MAYO!D67+JUNIO!D70 -> 150 | E70: =+ABRIL!E67+MAYO!E67+JUNIO!E70 -> 2491 | F70: =+ABRIL!F67+MAYO!F67+JUNIO!F70 -> 2071 | G70: =+ABRIL!G67+MAYO!G67+JUNIO!G70 -> 361
A71: 30 a 59 años | B71: =+ABRIL!B68+MAYO!B68+JUNIO!B71 -> 883 | C71: =+ABRIL!C68+MAYO!C68+JUNIO!C71 -> 589 | D71: =+ABRIL!D68+MAYO!D68+JUNIO!D71 -> 245 | E71: =+ABRIL!E68+MAYO!E68+JUNIO!E71 -> 4608 | F71: =+ABRIL!F68+MAYO!F68+JUNIO!F71 -> 3750 | G71: =+ABRIL!G68+MAYO!G68+JUNIO!G71 -> 772
A72: 60 a mas | B72: =+ABRIL!B69+MAYO!B69+JUNIO!B72 -> 234 | C72: =+ABRIL!C69+MAYO!C69+JUNIO!C72 -> 129 | D72: =+ABRIL!D69+MAYO!D69+JUNIO!D72 -> 99 | E72: =+ABRIL!E69+MAYO!E69+JUNIO!E72 -> 1320 | F72: =+ABRIL!F69+MAYO!F69+JUNIO!F72 -> 871 | G72: =+ABRIL!G69+MAYO!G69+JUNIO!G72 -> 431
A73: TOTAL | B73: =SUM(B65:B72) -> 2485 | C73: =SUM(C65:C72) -> 1424 | D73: =SUM(D65:D72) -> 908 | E73: =SUM(E65:E72) -> 14079 | F73: =SUM(F65:F72) -> 9338 | G73: =SUM(G65:G72) -> 4465
A78: REPORTE: Atendidos Atenciones | E78: Desde: 01/04/2026 | G78: Hasta: 30/06/2026
A79: Red: AREQUIPA CAYLLOMA | E79: Departam: Todos
A80: Microred: MARITZA CAMPOS DIAZ | E80: Provincia: Todos
A81: Establec: PUESTO DE SALUD PERUARBO | E81: Distrito: Todos
A83: grupo_etareo | B83: TOTAL_atendidos | C83: atendidos_femenino | D83: atendidos_masculino | E83: TOTAL_atenciones | F83: atenciones_femenino | G83: atenciones_masculino
A84: <1 mes | B84: =+ABRIL!B80+MAYO!B82+JUNIO!B84 -> 71 | C84: =+ABRIL!C80+MAYO!C82+JUNIO!C84 -> 24 | D84: =+ABRIL!D80+MAYO!D82+JUNIO!D84 -> 29 | E84: =+ABRIL!E80+MAYO!E82+JUNIO!E84 -> 259 | F84: =+ABRIL!F80+MAYO!F82+JUNIO!F84 -> 92 | G84: =+ABRIL!G80+MAYO!G82+JUNIO!G84 -> 128
A85: 1 a 11 meses | B85: =+ABRIL!B81+MAYO!B83+JUNIO!B85 -> 42 | C85: =+ABRIL!C81+MAYO!C83+JUNIO!C85 -> 15 | D85: =+ABRIL!D81+MAYO!D83+JUNIO!D85 -> 17 | E85: =+ABRIL!E81+MAYO!E83+JUNIO!E85 -> 1379 | F85: =+ABRIL!F81+MAYO!F83+JUNIO!F85 -> 634 | G85: =+ABRIL!G81+MAYO!G83+JUNIO!G85 -> 727
A86: 1 a 4 años | B86: =+ABRIL!B82+MAYO!B84+JUNIO!B86 -> 235 | C86: =+ABRIL!C82+MAYO!C84+JUNIO!C86 -> 118 | D86: =+ABRIL!D82+MAYO!D84+JUNIO!D86 -> 101 | E86: =+ABRIL!E82+MAYO!E84+JUNIO!E86 -> 1991 | F86: =+ABRIL!F82+MAYO!F84+JUNIO!F86 -> 991 | G86: =+ABRIL!G82+MAYO!G84+JUNIO!G86 -> 963
A87: 5 a 11 años | B87: =+ABRIL!B83+MAYO!B85+JUNIO!B87 -> 439 | C87: =+ABRIL!C83+MAYO!C85+JUNIO!C87 -> 191 | D87: =+ABRIL!D83+MAYO!D85+JUNIO!D87 -> 226 | E87: =+ABRIL!E83+MAYO!E85+JUNIO!E87 -> 1903 | F87: =+ABRIL!F83+MAYO!F85+JUNIO!F87 -> 859 | G87: =+ABRIL!G83+MAYO!G85+JUNIO!G87 -> 974
A88: 12 a 17 años | B88: =+ABRIL!B84+MAYO!B86+JUNIO!B88 -> 135 | C88: =+ABRIL!C84+MAYO!C86+JUNIO!C88 -> 54 | D88: =+ABRIL!D84+MAYO!D86+JUNIO!D88 -> 73 | E88: =+ABRIL!E84+MAYO!E86+JUNIO!E88 -> 957 | F88: =+ABRIL!F84+MAYO!F86+JUNIO!F88 -> 514 | G88: =+ABRIL!G84+MAYO!G86+JUNIO!G88 -> 407
A89: 18 a 29 años | B89: =+ABRIL!B85+MAYO!B87+JUNIO!B89 -> 424 | C89: =+ABRIL!C85+MAYO!C87+JUNIO!C89 -> 269 | D89: =+ABRIL!D85+MAYO!D87+JUNIO!D89 -> 125 | E89: =+ABRIL!E85+MAYO!E87+JUNIO!E89 -> 2405 | F89: =+ABRIL!F85+MAYO!F87+JUNIO!F89 -> 1867 | G89: =+ABRIL!G85+MAYO!G87+JUNIO!G89 -> 470
A90: 30 a 59 años | B90: =+ABRIL!B86+MAYO!B88+JUNIO!B90 -> 765 | C90: =+ABRIL!C86+MAYO!C88+JUNIO!C90 -> 491 | D90: =+ABRIL!D86+MAYO!D88+JUNIO!D90 -> 212 | E90: =+ABRIL!E86+MAYO!E88+JUNIO!E90 -> 4359 | F90: =+ABRIL!F86+MAYO!F88+JUNIO!F90 -> 3183 | G90: =+ABRIL!G86+MAYO!G88+JUNIO!G90 -> 1042
A91: 60 a mas | B91: =+ABRIL!B87+MAYO!B89+JUNIO!B91 -> 117 | C91: =+ABRIL!C87+MAYO!C89+JUNIO!C91 -> 55 | D91: =+ABRIL!D87+MAYO!D89+JUNIO!D91 -> 48 | E91: =+ABRIL!E87+MAYO!E89+JUNIO!E91 -> 958 | F91: =+ABRIL!F87+MAYO!F89+JUNIO!F91 -> 484 | G91: =+ABRIL!G87+MAYO!G89+JUNIO!G91 -> 436
A92: TOTAL | B92: =SUM(B84:B91) -> 2228 | C92: =SUM(C84:C91) -> 1217 | D92: =SUM(D84:D91) -> 831 | E92: =SUM(E84:E91) -> 14211 | F92: =SUM(F84:F91) -> 8624 | G92: =SUM(G84:G91) -> 5147

Sheet 1ER SEM
A1: REPORTE: Atendidos Atenciones | E1: Desde: 01/01/2026 | G1: Hasta: 30/06/2026
A2: Red: AREQUIPA CAYLLOMA | E2: Departam: Todos
A3: Microred: MARITZA CAMPOS DIAZ | E3: Provincia: Todos
A4: Establec: Todos | E4: Distrito: Todos
A6: grupo_etareo | B6: TOTAL_atendidos | C6: atendidos_femenino | D6: atendidos_masculino | E6: TOTAL_atenciones | F6: atenciones_femenino | G6: atenciones_masculino
A7: <1 mes | B7: 1015 | C7: 473 | D7: 542 | E7: 4433 | F7: 2035 | G7: 2398
A8: 1 a 11 meses | B8: 1638 | C8: 751 | D8: 887 | E8: 10888 | F8: 5065 | G8: 5823
A9: 1 a 4 años | B9: 4198 | C9: 1994 | D9: 2204 | E9: 14525 | F9: 7009 | G9: 7516
A10: 5 a 11 años | B10: 3696 | C10: 1783 | D10: 1913 | E10: 11015 | F10: 5313 | G10: 5702
A11: 12 a 17 años | B11: 2586 | C11: 1402 | D11: 1184 | E11: 9078 | F11: 5058 | G11: 4020
A12: 18 a 29 años | B12: 8013 | C12: 5716 | D12: 2297 | E12: 29110 | F12: 23582 | G12: 5528
A13: 30 a 59 años | B13: 14403 | C13: 10273 | D13: 4130 | E13: 48990 | F13: 37450 | G13: 11540
A14: 60 a mas | B14: 4004 | C14: 2330 | D14: 1674 | E14: 13914 | F14: 8034 | G14: 5880
A15: TOTAL | B15: =SUM(B7:B14) -> 39553 | C15: =SUM(C7:C14) -> 24722 | D15: =SUM(D7:D14) -> 14831 | E15: =SUM(E7:E14) -> 141953 | F15: =SUM(F7:F14) -> 93546 | G15: =SUM(G7:G14) -> 48407
A18: REPORTE: Atendidos Atenciones | E18: Desde: 01/01/2026 | G18: Hasta: 30/06/2026
A19: Red: AREQUIPA CAYLLOMA | E19: Departam: Todos
A20: Microred: MARITZA CAMPOS DIAZ | E20: Provincia: Todos
A21: Establec: MARITZA CAMPOS DIAZ - ZAMACOLA | E21: Distrito: Todos
A23: grupo_etareo | B23: TOTAL_atendidos | C23: atendidos_femenino | D23: atendidos_masculino | E23: TOTAL_atenciones | F23: atenciones_femenino | G23: atenciones_masculino
A24: <1 mes | B24: 541 | C24: 254 | D24: 287 | E24: 2663 | F24: 1235 | G24: 1428
A25: 1 a 11 meses | B25: 564 | C25: 260 | D25: 304 | E25: 2494 | F25: 1212 | G25: 1282
A26: 1 a 4 años | B26: 1555 | C26: 746 | D26: 809 | E26: 4127 | F26: 2025 | G26: 2102
A27: 5 a 11 años | B27: 1550 | C27: 747 | D27: 803 | E27: 3798 | F27: 1773 | G27: 2025
A28: 12 a 17 años | B28: 1262 | C28: 707 | D28: 555 | E28: 4125 | F28: 2281 | G28: 1844
A29: 18 a 29 años | B29: 4265 | C29: 2899 | D29: 1366 | E29: 14420 | F29: 11113 | G29: 3307
A30: 30 a 59 años | B30: 7278 | C30: 4936 | D30: 2342 | E30: 21883 | F30: 15667 | G30: 6216
A31: 60 a mas | B31: 2214 | C31: 1268 | D31: 946 | E31: 7174 | F31: 4100 | G31: 3074
A32: TOTAL | B32: =SUM(B24:B31) -> 19229 | C32: =SUM(C24:C31) -> 11817 | D32: =SUM(D24:D31) -> 7412 | E32: =SUM(E24:E31) -> 60684 | F32: =SUM(F24:F31) -> 39406 | G32: =SUM(G24:G31) -> 21278
A36: REPORTE: Atendidos Atenciones | E36: Desde: 01/01/2026 | G36: Hasta: 30/06/2026
A37: Red: AREQUIPA CAYLLOMA | E37: Departam: Todos
A38: Microred: MARITZA CAMPOS DIAZ | E38: Provincia: Todos
A39: Establec: PUESTO DE SALUD CIUDAD MUNICIPAL | E39: Distrito: Todos
A41: grupo_etareo | B41: TOTAL_atendidos | C41: atendidos_femenino | D41: atendidos_masculino | E41: TOTAL_atenciones | F41: atenciones_femenino | G41: atenciones_masculino
A42: <1 mes | B42: 188 | C42: 83 | D42: 105 | E42: 681 | F42: 297 | G42: 384
A43: 1 a 11 meses | B43: 511 | C43: 245 | D43: 266 | E43: 3469 | F43: 1690 | G43: 1779
A44: 1 a 4 años | B44: 1048 | C44: 493 | D44: 555 | E44: 3788 | F44: 1818 | G44: 1970
A45: 5 a 11 años | B45: 851 | C45: 409 | D45: 442 | E45: 2855 | F45: 1418 | G45: 1437
A46: 12 a 17 años | B46: 448 | C46: 222 | D46: 226 | E46: 1783 | F46: 996 | G46: 787
A47: 18 a 29 años | B47: 1608 | C47: 1266 | D47: 342 | E47: 6081 | F47: 5308 | G47: 773
A48: 30 a 59 años | B48: 2942 | C48: 2233 | D48: 709 | E48: 11018 | F48: 8970 | G48: 2048
A49: 60 a mas | B49: 822 | C49: 491 | D49: 331 | E49: 2752 | F49: 1534 | G49: 1218
A50: TOTAL | B50: =SUM(B42:B49) -> 8418 | C50: =SUM(C42:C49) -> 5442 | D50: =SUM(D42:D49) -> 2976 | E50: =SUM(E42:E49) -> 32427 | F50: =SUM(F42:F49) -> 22031 | G50: =SUM(G42:G49) -> 10396
A54: REPORTE: Atendidos Atenciones | E54: Desde: 01/01/2026 | G54: Hasta: 30/06/2026
A55: Red: AREQUIPA CAYLLOMA | E55: Departam: Todos
A56: Microred: MARITZA CAMPOS DIAZ | E56: Provincia: Todos
A57: Establec: PUESTO DE SALUD NAZARENO | E57: Distrito: Todos
A59: grupo_etareo | B59: TOTAL_atendidos | C59: atendidos_femenino | D59: atendidos_masculino | E59: TOTAL_atenciones | F59: atenciones_femenino | G59: atenciones_masculino
A60: <1 mes | B60: 145 | C60: 70 | D60: 75 | E60: 556 | F60: 255 | G60: 301
A61: 1 a 11 meses | B61: 278 | C61: 109 | D61: 169 | E61: 2362 | F61: 965 | G61: 1397
A62: 1 a 4 años | B62: 833 | C62: 409 | D62: 424 | E62: 3253 | F62: 1544 | G62: 1709
A63: 5 a 11 años | B63: 569 | C63: 297 | D63: 272 | E63: 1790 | F63: 951 | G63: 839
A64: 12 a 17 años | B64: 487 | C64: 261 | D64: 226 | E64: 1516 | F64: 807 | G64: 709
A65: 18 a 29 años | B65: 1060 | C65: 733 | D65: 327 | E65: 3995 | F65: 3349 | G65: 646
A66: 30 a 59 años | B66: 2195 | C66: 1625 | D66: 570 | E66: 8087 | F66: 6641 | G66: 1446
A67: 60 a mas | B67: 602 | C67: 367 | D67: 235 | E67: 2267 | F67: 1490 | G67: 777
A68: TOTAL | B68: =SUM(B60:B67) -> 6169 | C68: =SUM(C60:C67) -> 3871 | D68: =SUM(D60:D67) -> 2298 | E68: =SUM(E60:E67) -> 23826 | F68: =SUM(F60:F67) -> 16002 | G68: =SUM(G60:G67) -> 7824
A73: REPORTE: Atendidos Atenciones | E73: Desde: 01/01/2026 | G73: Hasta: 30/06/2026
A74: Red: AREQUIPA CAYLLOMA | E74: Departam: Todos
A75: Microred: MARITZA CAMPOS DIAZ | E75: Provincia: Todos
A76: Establec: PUESTO DE SALUD PERUARBO | E76: Distrito: Todos
A78: grupo_etareo | B78: TOTAL_atendidos | C78: atendidos_femenino | D78: atendidos_masculino | E78: TOTAL_atenciones | F78: atenciones_femenino | G78: atenciones_masculino
A79: <1 mes | B79: 141 | C79: 66 | D79: 75 | E79: 533 | F79: 248 | G79: 285
A80: 1 a 11 meses | B80: 285 | C80: 137 | D80: 148 | E80: 2563 | F80: 1198 | G80: 1365
A81: 1 a 4 años | B81: 762 | C81: 346 | D81: 416 | E81: 3357 | F81: 1622 | G81: 1735
A82: 5 a 11 años | B82: 726 | C82: 330 | D82: 396 | E82: 2572 | F82: 1171 | G82: 1401
A83: 12 a 17 años | B83: 389 | C83: 212 | D83: 177 | E83: 1654 | F83: 974 | G83: 680
A84: 18 a 29 años | B84: 1080 | C84: 818 | D84: 262 | E84: 4614 | F84: 3812 | G84: 802
A85: 30 a 59 años | B85: 1988 | C85: 1479 | D85: 509 | E85: 8002 | F85: 6172 | G85: 1830
A86: 60 a mas | B86: 366 | C86: 204 | D86: 162 | E86: 1721 | F86: 910 | G86: 811
A87: TOTAL | B87: =SUM(B79:B86) -> 5737 | C87: =SUM(C79:C86) -> 3592 | D87: =SUM(D79:D86) -> 2145 | E87: =SUM(E79:E86) -> 25016 | F87: =SUM(F79:F86) -> 16107 | G87: =SUM(G79:G86) -> 8909

Sheet JULIO
A2: REPORTE: Atendidos Atenciones | E2: Desde: 01/07/2026 | G2: Hasta: 31/07/2026
A3: Red: AREQUIPA CAYLLOMA | E3: Departam: Todos
A4: Microred: MARITZA CAMPOS DIAZ | E4: Provincia: Todos
A5: Establec: Todos | E5: Distrito: Todos
A7: grupo_etareo | B7: TOTAL_atendidos | C7: atendidos_femenino | D7: atendidos_masculino | E7: TOTAL_atenciones | F7: atenciones_femenino | G7: atenciones_masculino
A8: <1 mes | B8: 137 | C8: 64 | D8: 73 | E8: 553 | F8: 261 | G8: 292
A9: 1 a 11 meses | B9: 86 | C9: 38 | D9: 48 | E9: 1792 | F9: 822 | G9: 970
A10: 1 a 4 años | B10: 398 | C10: 190 | D10: 208 | E10: 2579 | F10: 1213 | G10: 1366
A11: 5 a 11 años | B11: 544 | C11: 284 | D11: 260 | E11: 3819 | F11: 2013 | G11: 1806
A12: 12 a 17 años | B12: 442 | C12: 249 | D12: 193 | E12: 3458 | F12: 1986 | G12: 1472
A13: 18 a 29 años | B13: 1074 | C13: 678 | D13: 396 | E13: 5413 | F13: 4288 | G13: 1125
A14: 30 a 59 años | B14: 1778 | C14: 1156 | D14: 622 | E14: 8601 | F14: 6573 | G14: 2028
A15: 60 a mas | B15: 466 | C15: 253 | D15: 213 | E15: 2457 | F15: 1443 | G15: 1014
A16: TOTAL | B16: =SUM(B8:B15) -> 4925 | C16: =SUM(C8:C15) -> 2912 | D16: =SUM(D8:D15) -> 2013 | E16: =SUM(E8:E15) -> 28672 | F16: =SUM(F8:F15) -> 18599 | G16: =SUM(G8:G15) -> 10073
A21: REPORTE: Atendidos Atenciones | E21: Desde: 01/07/2026 | G21: Hasta: 31/07/2026
A22: Red: AREQUIPA CAYLLOMA | E22: Departam: Todos
A23: Microred: MARITZA CAMPOS DIAZ | E23: Provincia: Todos
A24: Establec: MARITZA CAMPOS DIAZ - ZAMACOLA | E24: Distrito: Todos
A26: grupo_etareo | B26: TOTAL_atendidos | C26: atendidos_femenino | D26: atendidos_masculino | E26: TOTAL_atenciones | F26: atenciones_femenino | G26: atenciones_masculino
A27: <1 mes | B27: 71 | C27: 32 | D27: 39 | E27: 324 | F27: 155 | G27: 169
A28: 1 a 11 meses | B28: 36 | C28: 15 | D28: 21 | E28: 388 | F28: 189 | G28: 199
A29: 1 a 4 años | B29: 285 | C29: 138 | D29: 147 | E29: 916 | F29: 422 | G29: 494
A30: 5 a 11 años | B30: 292 | C30: 161 | D30: 131 | E30: 927 | F30: 498 | G30: 429
A31: 12 a 17 años | B31: 293 | C31: 162 | D31: 131 | E31: 1281 | F31: 740 | G31: 541
A32: 18 a 29 años | B32: 694 | C32: 426 | D32: 268 | E32: 2660 | F32: 1970 | G32: 690
A33: 30 a 59 años | B33: 1008 | C33: 634 | D33: 374 | E33: 3859 | F33: 2744 | G33: 1115
A34: 60 a mas | B34: 280 | C34: 162 | D34: 118 | E34: 1279 | F34: 774 | G34: 505
A35: TOTAL | B35: =SUM(B27:B34) -> 2959 | C35: =SUM(C27:C34) -> 1730 | D35: =SUM(D27:D34) -> 1229 | E35: =SUM(E27:E34) -> 11634 | F35: =SUM(F27:F34) -> 7492 | G35: =SUM(G27:G34) -> 4142
A39: REPORTE: Atendidos Atenciones | E39: Desde: 01/07/2026 | G39: Hasta: 31/07/2026
A40: Red: AREQUIPA CAYLLOMA | E40: Departam: Todos
A41: Microred: MARITZA CAMPOS DIAZ | E41: Provincia: Todos
A42: Establec: PUESTO DE SALUD CIUDAD MUNICIPAL | E42: Distrito: Todos
A44: grupo_etareo | B44: TOTAL_atendidos | C44: atendidos_femenino | D44: atendidos_masculino | E44: TOTAL_atenciones | F44: atenciones_femenino | G44: atenciones_masculino
A45: <1 mes | B45: 29 | C45: 16 | D45: 13 | E45: 89 | F45: 38 | G45: 51
A46: 1 a 11 meses | B46: 25 | C46: 11 | D46: 14 | E46: 515 | F46: 228 | G46: 287
A47: 1 a 4 años | B47: 25 | C47: 5 | D47: 20 | E47: 562 | F47: 249 | G47: 313
A48: 5 a 11 años | B48: 104 | C48: 52 | D48: 52 | E48: 1292 | F48: 675 | G48: 617
A49: 12 a 17 años | B49: 51 | C49: 24 | D49: 27 | E49: 969 | F49: 544 | G49: 425
A50: 18 a 29 años | B50: 145 | C50: 98 | D50: 47 | E50: 1154 | F50: 1003 | G50: 151
A51: 30 a 59 años | B51: 283 | C51: 183 | D51: 100 | E51: 1746 | F51: 1384 | G51: 362
A52: 60 a mas | B52: 35 | C52: 21 | D52: 14 | E52: 278 | F52: 152 | G52: 126
A53: TOTAL | B53: =SUM(B45:B52) -> 697 | C53: =SUM(C45:C52) -> 410 | D53: =SUM(D45:D52) -> 287 | E53: =SUM(E45:E52) -> 6605 | F53: =SUM(F45:F52) -> 4273 | G53: =SUM(G45:G52) -> 2332
A58: REPORTE: Atendidos Atenciones | E58: Desde: 01/07/2026 | G58: Hasta: 31/07/2026
A59: Red: AREQUIPA CAYLLOMA | E59: Departam: Todos
A60: Microred: MARITZA CAMPOS DIAZ | E60: Provincia: Todos
A61: Establec: PUESTO DE SALUD NAZARENO | E61: Distrito: Todos
A63: grupo_etareo | B63: TOTAL_atendidos | C63: atendidos_femenino | D63: atendidos_masculino | E63: TOTAL_atenciones | F63: atenciones_femenino | G63: atenciones_masculino
A64: <1 mes | B64: 18 | C64: 8 | D64: 10 | E64: 77 | F64: 41 | G64: 36
A65: 1 a 11 meses | B65: 12 | C65: 6 | D65: 6 | E65: 399 | F65: 178 | G65: 221
A66: 1 a 4 años | B66: 35 | C66: 18 | D66: 17 | E66: 460 | F66: 203 | G66: 257
A67: 5 a 11 años | B67: 78 | C67: 38 | D67: 40 | E67: 786 | F67: 432 | G67: 354
A68: 12 a 17 años | B68: 51 | C68: 35 | D68: 16 | E68: 612 | F68: 339 | G68: 273
A69: 18 a 29 años | B69: 111 | C69: 59 | D69: 52 | E69: 789 | F69: 663 | G69: 126
A70: 30 a 59 años | B70: 227 | C70: 152 | D70: 75 | E70: 1327 | F70: 1068 | G70: 259
A71: 60 a mas | B71: 52 | C71: 23 | D71: 29 | E71: 352 | F71: 228 | G71: 124
A72: TOTAL | B72: =SUM(B64:B71) -> 584 | C72: =SUM(C64:C71) -> 339 | D72: =SUM(D64:D71) -> 245 | E72: =SUM(E64:E71) -> 4802 | F72: =SUM(F64:F71) -> 3152 | G72: =SUM(G64:G71) -> 1650
A75: REPORTE: Atendidos Atenciones | E75: Desde: 01/07/2026 | G75: Hasta: 31/07/2026
A76: Red: AREQUIPA CAYLLOMA | E76: Departam: Todos
A77: Microred: MARITZA CAMPOS DIAZ | E77: Provincia: Todos
A78: Establec: PUESTO DE SALUD PERUARBO | E78: Distrito: Todos
A80: grupo_etareo | B80: TOTAL_atendidos | C80: atendidos_femenino | D80: atendidos_masculino | E80: TOTAL_atenciones | F80: atenciones_femenino | G80: atenciones_masculino
A81: <1 mes | B81: 19 | C81: 8 | D81: 11 | E81: 63 | F81: 27 | G81: 36
A82: 1 a 11 meses | B82: 13 | C82: 6 | D82: 7 | E82: 490 | F82: 227 | G82: 263
A83: 1 a 4 años | B83: 53 | C83: 29 | D83: 24 | E83: 641 | F83: 339 | G83: 302
A84: 5 a 11 años | B84: 70 | C84: 33 | D84: 37 | E84: 814 | F84: 408 | G84: 406
A85: 12 a 17 años | B85: 47 | C85: 28 | D85: 19 | E85: 596 | F85: 363 | G85: 233
A86: 18 a 29 años | B86: 124 | C86: 95 | D86: 29 | E86: 810 | F86: 652 | G86: 158
A87: 30 a 59 años | B87: 260 | C87: 187 | D87: 73 | E87: 1669 | F87: 1377 | G87: 292
A88: 60 a mas | B88: 99 | C88: 47 | D88: 52 | E88: 548 | F88: 289 | G88: 259
A89: TOTAL | B89: =SUM(B81:B88) -> 685 | C89: =SUM(C81:C88) -> 433 | D89: =SUM(D81:D88) -> 252 | E89: =SUM(E81:E88) -> 5631 | F89: =SUM(F81:F88) -> 3682 | G89: =SUM(G81:G88) -> 1949

Sheet AGOSTO
A1: REPORTE: Atendidos Atenciones | E1: Desde: 01/08/2026 | G1: Hasta: 31/08/2026
A2: Red: AREQUIPA CAYLLOMA | E2: Departam: Todos
A3: Microred: MARITZA CAMPOS DIAZ | E3: Provincia: Todos
A4: Establec: Todos | E4: Distrito: Todos
A6: grupo_etareo | B6: TOTAL_atendidos | C6: atendidos_femenino | D6: atendidos_masculino | E6: TOTAL_atenciones | F6: atenciones_femenino | G6: atenciones_masculino
A7: <1 mes | B7: 142 | C7: 62 | D7: 78 | E7: 500 | F7: 251 | G7: 247
A8: 1 a 11 meses | B8: 65 | C8: 30 | D8: 35 | E8: 1737 | F8: 822 | G8: 913
A9: 1 a 4 años | B9: 250 | C9: 113 | D9: 130 | E9: 2418 | F9: 1175 | G9: 1231
A10: 5 a 11 años | B10: 344 | C10: 162 | D10: 178 | E10: 2863 | F10: 1445 | G10: 1392
A11: 12 a 17 años | B11: 193 | C11: 73 | D11: 119 | E11: 2448 | F11: 1343 | G11: 1087
A12: 18 a 29 años | B12: 985 | C12: 609 | D12: 355 | E12: 5198 | F12: 4032 | G12: 1134
A13: 30 a 59 años | B13: 1579 | C13: 954 | D13: 585 | E13: 8606 | F13: 6167 | G13: 2379
A14: 60 a mas | B14: 375 | C14: 210 | D14: 156 | E14: 2554 | F14: 1580 | G14: 964
A18: REPORTE: Atendidos Atenciones | E18: Desde: 01/08/2026 | G18: Hasta: 31/08/2026
A19: Red: AREQUIPA CAYLLOMA | E19: Departam: Todos
A20: Microred: MARITZA CAMPOS DIAZ | E20: Provincia: Todos
A21: Establec: MARITZA CAMPOS DIAZ - ZAMACOLA | E21: Distrito: Todos
A23: grupo_etareo | B23: TOTAL_atendidos | C23: atendidos_femenino | D23: atendidos_masculino | E23: TOTAL_atenciones | F23: atenciones_femenino | G23: atenciones_masculino
A24: <1 mes | B24: 72 | C24: 33 | D24: 39 | E24: 311 | F24: 160 | G24: 151
A25: 1 a 11 meses | B25: 30 | C25: 13 | D25: 17 | E25: 331 | F25: 173 | G25: 158
A26: 1 a 4 años | B26: 133 | C26: 55 | D26: 73 | E26: 644 | F26: 322 | G26: 317
A27: 5 a 11 años | B27: 163 | C27: 74 | D27: 86 | E27: 556 | F27: 270 | G27: 282
A28: 12 a 17 años | B28: 65 | C28: 36 | D28: 28 | E28: 622 | F28: 336 | G28: 282
A29: 18 a 29 años | B29: 576 | C29: 379 | D29: 184 | E29: 2464 | F29: 1820 | G29: 624
A30: 30 a 59 años | B30: 815 | C30: 494 | D30: 300 | E30: 3515 | F30: 2460 | G30: 1033
A31: 60 a mas | B31: 192 | C31: 109 | D31: 80 | E31: 1053 | F31: 655 | G31: 395
A36: REPORTE: Atendidos Atenciones | E36: Desde: 01/08/2026 | G36: Hasta: 31/08/2026
A37: Red: AREQUIPA CAYLLOMA | E37: Departam: Todos
A38: Microred: MARITZA CAMPOS DIAZ | E38: Provincia: Todos
A39: Establec: PUESTO DE SALUD CIUDAD MUNICIPAL | E39: Distrito: Todos
A41: grupo_etareo | B41: TOTAL_atendidos | C41: atendidos_femenino | D41: atendidos_masculino | E41: TOTAL_atenciones | F41: atenciones_femenino | G41: atenciones_masculino
A42: <1 mes | B42: 24 | C42: 11 | D42: 12 | E42: 64 | F42: 37 | G42: 26
A43: 1 a 11 meses | B43: 17 | C43: 9 | D43: 8 | E43: 516 | F43: 242 | G43: 274
A44: 1 a 4 años | B44: 24 | C44: 10 | D44: 12 | E44: 543 | F44: 256 | G44: 280
A45: 5 a 11 años | B45: 48 | C45: 26 | D45: 21 | E45: 738 | F45: 380 | G45: 336
A46: 12 a 17 años | B46: 36 | C46: 13 | D46: 23 | E46: 474 | F46: 281 | G46: 179
A47: 18 a 29 años | B47: 147 | C47: 86 | D47: 54 | E47: 984 | F47: 822 | G47: 151
A48: 30 a 59 años | B48: 289 | C48: 134 | D48: 140 | E48: 2007 | F48: 1249 | G48: 725
A49: 60 a mas | B49: 80 | C49: 41 | D49: 33 | E49: 635 | F49: 353 | G49: 275
A54: REPORTE: Atendidos Atenciones | E54: Desde: 01/08/2026 | G54: Hasta: 31/08/2026
A55: Red: AREQUIPA CAYLLOMA | E55: Departam: Todos
A56: Microred: MARITZA CAMPOS DIAZ | E56: Provincia: Todos
A57: Establec: PUESTO DE SALUD NAZARENO | E57: Distrito: Todos
A59: grupo_etareo | B59: TOTAL_atendidos | C59: atendidos_femenino | D59: atendidos_masculino | E59: TOTAL_atenciones | F59: atenciones_femenino | G59: atenciones_masculino
A60: <1 mes | B60: 20 | C60: 8 | D60: 12 | E60: 61 | F60: 27 | G60: 34
A61: 1 a 11 meses | B61: 5 | C61: 3 | D61: 2 | E61: 392 | F61: 169 | G61: 223
A62: 1 a 4 años | B62: 43 | C62: 25 | D62: 18 | E62: 573 | F62: 274 | G62: 299
A63: 5 a 11 años | B63: 56 | C63: 29 | D63: 27 | E63: 862 | F63: 455 | G63: 407
A64: 12 a 17 años | B64: 37 | C64: 10 | D64: 27 | E64: 556 | F64: 301 | G64: 255
A65: 18 a 29 años | B65: 141 | C65: 69 | D65: 72 | E65: 908 | F65: 733 | G65: 175
A66: 30 a 59 años | B66: 179 | C66: 106 | D66: 73 | E66: 1380 | F66: 1120 | G66: 260
A67: 60 a mas | B67: 41 | C67: 21 | D67: 20 | E67: 327 | F67: 231 | G67: 96
A71: REPORTE: Atendidos Atenciones | E71: Desde: 01/08/2026 | G71: Hasta: 31/08/2026
A72: Red: AREQUIPA CAYLLOMA | E72: Departam: Todos
A73: Microred: MARITZA CAMPOS DIAZ | E73: Provincia: Todos
A74: Establec: PUESTO DE SALUD PERUARBO | E74: Distrito: Todos
A76: grupo_etareo | B76: TOTAL_atendidos | C76: atendidos_femenino | D76: atendidos_masculino | E76: TOTAL_atenciones | F76: atenciones_femenino | G76: atenciones_masculino
A77: <1 mes | B77: 26 | C77: 10 | D77: 15 | E77: 64 | F77: 27 | G77: 36
A78: 1 a 11 meses | B78: 13 | C78: 5 | D78: 8 | E78: 498 | F78: 238 | G78: 258
A79: 1 a 4 años | B79: 50 | C79: 23 | D79: 27 | E79: 658 | F79: 323 | G79: 335
A80: 5 a 11 años | B80: 77 | C80: 33 | D80: 44 | E80: 707 | F80: 340 | G80: 367
A81: 12 a 17 años | B81: 55 | C81: 14 | D81: 41 | E81: 796 | F81: 425 | G81: 371
A82: 18 a 29 años | B82: 121 | C82: 75 | D82: 45 | E82: 842 | F82: 657 | G82: 184
A83: 30 a 59 años | B83: 296 | C83: 220 | D83: 72 | E83: 1704 | F83: 1338 | G83: 361
A84: 60 a mas | B84: 62 | C84: 39 | D84: 23 | E84: 539 | F84: 341 | G84: 198

Sheet SETIEMBRE
A1: REPORTE: Atendidos Atenciones | E1: Desde: 01/09/2026 | G1: Hasta: 30/09/2026
A2: Red: AREQUIPA CAYLLOMA | E2: Departam: Todos
A3: Microred: MARITZA CAMPOS DIAZ | E3: Provincia: Todos
A4: Establec: Todos | E4: Distrito: Todos
A6: grupo_etareo | B6: TOTAL_atendidos | C6: atendidos_femenino | D6: atendidos_masculino | E6: TOTAL_atenciones | F6: atenciones_femenino | G6: atenciones_masculino
A7: <1 mes | B7: 149 | C7: 87 | D7: 62 | E7: 655 | F7: 371 | G7: 284
A8: 1 a 11 meses | B8: 74 | C8: 41 | D8: 33 | E8: 1611 | F8: 751 | G8: 860
A9: 1 a 4 años | B9: 170 | C9: 87 | D9: 83 | E9: 2311 | F9: 1155 | G9: 1156
A10: 5 a 11 años | B10: 285 | C10: 145 | D10: 140 | E10: 2481 | F10: 1296 | G10: 1185
A11: 12 a 17 años | B11: 157 | C11: 59 | D11: 98 | E11: 2674 | F11: 1491 | G11: 1183
A12: 18 a 29 años | B12: 749 | C12: 494 | D12: 255 | E12: 4972 | F12: 4018 | G12: 954
A13: 30 a 59 años | B13: 1376 | C13: 922 | D13: 454 | E13: 8789 | F13: 6720 | G13: 2069
A14: 60 a mas | B14: 363 | C14: 204 | D14: 159 | E14: 2830 | F14: 1701 | G14: 1129
B15: =SUM(B7:B14) -> 3323 | C15: =SUM(C7:C14) -> 2039 | D15: =SUM(D7:D14) -> 1284 | E15: =SUM(E7:E14) -> 26323 | F15: =SUM(F7:F14) -> 17503 | G15: =SUM(G7:G14) -> 8820
A20: REPORTE: Atendidos Atenciones | E20: Desde: 01/09/2026 | G20: Hasta: 30/09/2026
A21: Red: AREQUIPA CAYLLOMA | E21: Departam: Todos
A22: Microred: MARITZA CAMPOS DIAZ | E22: Provincia: Todos
A23: Establec: MARITZA CAMPOS DIAZ - ZAMACOLA | E23: Distrito: Todos
A25: grupo_etareo | B25: TOTAL_atendidos | C25: atendidos_femenino | D25: atendidos_masculino | E25: TOTAL_atenciones | F25: atenciones_femenino | G25: atenciones_masculino
A26: <1 mes | B26: 80 | C26: 45 | D26: 35 | E26: 419 | F26: 227 | G26: 192
A27: 1 a 11 meses | B27: 36 | C27: 19 | D27: 17 | E27: 382 | F27: 193 | G27: 189
A28: 1 a 4 años | B28: 87 | C28: 44 | D28: 43 | E28: 711 | F28: 361 | G28: 350
A29: 5 a 11 años | B29: 109 | C29: 58 | D29: 51 | E29: 734 | F29: 382 | G29: 352
A30: 12 a 17 años | B30: 60 | C30: 27 | D30: 33 | E30: 1129 | F30: 636 | G30: 493
A31: 18 a 29 años | B31: 383 | C31: 270 | D31: 113 | E31: 2363 | F31: 1842 | G31: 521
A32: 30 a 59 años | B32: 652 | C32: 429 | D32: 223 | E32: 3965 | F32: 2895 | G32: 1070
A33: 60 a mas | B33: 214 | C33: 127 | D33: 87 | E33: 1516 | F33: 943 | G33: 573
B34: =SUM(B26:B33) -> 1621 | C34: =SUM(C26:C33) -> 1019 | D34: =SUM(D26:D33) -> 602 | E34: =SUM(E26:E33) -> 11219 | F34: =SUM(F26:F33) -> 7479 | G34: =SUM(G26:G33) -> 3740
A40: REPORTE: Atendidos Atenciones | E40: Desde: 01/09/2026 | G40: Hasta: 30/09/2026
A41: Red: AREQUIPA CAYLLOMA | E41: Departam: Todos
A42: Microred: MARITZA CAMPOS DIAZ | E42: Provincia: Todos
A43: Establec: PUESTO DE SALUD CIUDAD MUNICIPAL | E43: Distrito: Todos
A45: grupo_etareo | B45: TOTAL_atendidos | C45: atendidos_femenino | D45: atendidos_masculino | E45: TOTAL_atenciones | F45: atenciones_femenino | G45: atenciones_masculino
A46: <1 mes | B46: 27 | C46: 12 | D46: 15 | E46: 92 | F46: 51 | G46: 41
A47: 1 a 11 meses | B47: 11 | C47: 6 | D47: 5 | E47: 404 | F47: 180 | G47: 224
A48: 1 a 4 años | B48: 20 | C48: 10 | D48: 10 | E48: 476 | F48: 247 | G48: 229
A49: 5 a 11 años | B49: 53 | C49: 25 | D49: 28 | E49: 581 | F49: 304 | G49: 277
A50: 12 a 17 años | B50: 17 | C50: 8 | D50: 9 | E50: 386 | F50: 239 | G50: 147
A51: 18 a 29 años | B51: 119 | C51: 82 | D51: 37 | E51: 993 | F51: 862 | G51: 131
A52: 30 a 59 años | B52: 230 | C52: 146 | D52: 84 | E52: 1726 | F52: 1319 | G52: 407
A53: 60 a mas | B53: 41 | C53: 25 | D53: 16 | E53: 398 | F53: 243 | G53: 155
B54: =SUM(B46:B53) -> 518 | C54: =SUM(C46:C53) -> 314 | D54: =SUM(D46:D53) -> 204 | E54: =SUM(E46:E53) -> 5056 | F54: =SUM(F46:F53) -> 3445 | G54: =SUM(G46:G53) -> 1611
A59: REPORTE: Atendidos Atenciones | E59: Desde: 01/09/2026 | G59: Hasta: 30/09/2026
A60: Red: AREQUIPA CAYLLOMA | E60: Departam: Todos
A61: Microred: MARITZA CAMPOS DIAZ | E61: Provincia: Todos
A62: Establec: PUESTO DE SALUD NAZARENO | E62: Distrito: Todos
A64: grupo_etareo | B64: TOTAL_atendidos | C64: atendidos_femenino | D64: atendidos_masculino | E64: TOTAL_atenciones | F64: atenciones_femenino | G64: atenciones_masculino
A65: <1 mes | B65: 26 | C65: 18 | D65: 8 | E65: 94 | F65: 59 | G65: 35
A66: 1 a 11 meses | B66: 11 | C66: 6 | D66: 5 | E66: 347 | F66: 158 | G66: 189
A67: 1 a 4 años | B67: 39 | C67: 21 | D67: 18 | E67: 566 | F67: 284 | G67: 282
A68: 5 a 11 años | B68: 69 | C68: 35 | D68: 34 | E68: 581 | F68: 304 | G68: 277
A69: 12 a 17 años | B69: 34 | C69: 11 | D69: 23 | E69: 506 | F69: 299 | G69: 207
A70: 18 a 29 años | B70: 111 | C70: 61 | D70: 50 | E70: 867 | F70: 741 | G70: 126
A71: 30 a 59 años | B71: 225 | C71: 172 | D71: 53 | E71: 1406 | F71: 1194 | G71: 212
A72: 60 a mas | B72: 52 | C72: 23 | D72: 29 | E72: 388 | F72: 218 | G72: 170
B73: =SUM(B65:B72) -> 567 | C73: =SUM(C65:C72) -> 347 | D73: =SUM(D65:D72) -> 220 | E73: =SUM(E65:E72) -> 4755 | F73: =SUM(F65:F72) -> 3257 | G73: =SUM(G65:G72) -> 1498
A79: REPORTE: Atendidos Atenciones | E79: Desde: 01/09/2026 | G79: Hasta: 30/09/2026
A80: Red: AREQUIPA CAYLLOMA | E80: Departam: Todos
A81: Microred: MARITZA CAMPOS DIAZ | E81: Provincia: Todos
A82: Establec: PUESTO DE SALUD PERUARBO | E82: Distrito: Todos
A84: grupo_etareo | B84: TOTAL_atendidos | C84: atendidos_femenino | D84: atendidos_masculino | E84: TOTAL_atenciones | F84: atenciones_femenino | G84: atenciones_masculino
A85: <1 mes | B85: 16 | C85: 12 | D85: 4 | E85: 50 | F85: 34 | G85: 16
A86: 1 a 11 meses | B86: 16 | C86: 10 | D86: 6 | E86: 478 | F86: 220 | G86: 258
A87: 1 a 4 años | B87: 24 | C87: 12 | D87: 12 | E87: 558 | F87: 263 | G87: 295
A88: 5 a 11 años | B88: 54 | C88: 27 | D88: 27 | E88: 585 | F88: 306 | G88: 279
A89: 12 a 17 años | B89: 46 | C89: 13 | D89: 33 | E89: 653 | F89: 317 | G89: 336
A90: 18 a 29 años | B90: 136 | C90: 81 | D90: 55 | E90: 749 | F90: 573 | G90: 176
A91: 30 a 59 años | B91: 269 | C91: 175 | D91: 94 | E91: 1692 | F91: 1312 | G91: 380
A92: 60 a mas | B92: 56 | C92: 29 | D92: 27 | E92: 528 | F92: 297 | G92: 231
B93: =SUM(B85:B92) -> 617 | C93: =SUM(C85:C92) -> 359 | D93: =SUM(D85:D92) -> 258 | E93: =SUM(E85:E92) -> 5293 | F93: =SUM(F85:F92) -> 3322 | G93: =SUM(G85:G92) -> 1971
