Workbook

Sheet Genera Atc y Atd
A3: NUMERO DE ATENDIDOS Y ATENCIONES AL ESTABLECIMIENTO POR SEXO
A5: Periodo: Enero - 2026
A6: Diresa/Red/M.Red/EE.SS: AREQUIPA/AREQUIPA CAYLLOMA/MARITZA CAMPOS DIAZ/TODOS LOS EE.SS
A9: 1. Según Etapa de Vida:
A11: GRUPO ETAREO | B11: ATENDIDOS | E11: ATENCIONES
B12: TOTAL | C12: F | D12: M | E12: TOTAL | F12: F | G12: M
A14: TOTAL GENERAL | B14: 11290 | C14: 7495 | D14: 3795 | E14: 21157 | F14: 14271 | G14: 6886
A15: < 01 mes | B15: 236 | C15: 108 | D15: 128 | E15: 870 | F15: 392 | G15: 478
A16: 01 a 11 meses | B16: 937 | C16: 460 | D16: 477 | E16: 1705 | F16: 828 | G16: 877
A17: 01 a 04 años | B17: 1401 | C17: 682 | D17: 719 | E17: 2204 | F17: 1088 | G17: 1116
A18: 05 a 11 años | B18: 669 | C18: 323 | D18: 346 | E18: 1095 | F18: 474 | G18: 621
A19: 12 a 17 años | B19: 634 | C19: 393 | D19: 241 | E19: 1208 | F19: 733 | G19: 475
A20: 18 a 29 años | B20: 2210 | C20: 1723 | D20: 487 | E20: 4414 | F20: 3588 | G20: 826
A21: 30 a 59 años | B21: 3961 | C21: 3025 | D21: 936 | E21: 7436 | F21: 5831 | G21: 1605
A22: 60 años a más | B22: 1242 | C22: 781 | D22: 461 | E22: 2225 | F22: 1337 | G22: 888
A29: NUMERO DE ATENDIDOS Y ATENCIONES AL ESTABLECIMIENTO POR SEXO
A31: Periodo: Enero - 2026
A32: Diresa/Red/M.Red/EE.SS: AREQUIPA/AREQUIPA CAYLLOMA/MARITZA CAMPOS DIAZ/I-4 - 000001237 - MARITZA CAMPOS DIAZ - ZAMACOLA
A35: 1. Según Etapa de Vida:
A37: GRUPO ETAREO | B37: ATENDIDOS | E37: ATENCIONES
B38: TOTAL | C38: F | D38: M | E38: TOTAL | F38: F | G38: M
A40: TOTAL GENERAL | B40: 4902 | C40: 3241 | D40: 1661 | E40: 9261 | F40: 6183 | G40: 3078
A41: < 01 mes | B41: 117 | C41: 52 | D41: 65 | E41: 543 | F41: 243 | G41: 300
A42: 01 a 11 meses | B42: 210 | C42: 119 | D42: 91 | E42: 390 | F42: 218 | G42: 172
A43: 01 a 04 años | B43: 425 | C43: 223 | D43: 202 | E43: 668 | F43: 376 | G43: 292
A44: 05 a 11 años | B44: 275 | C44: 148 | D44: 127 | E44: 443 | F44: 207 | G44: 236
A45: 12 a 17 años | B45: 300 | C45: 200 | D45: 100 | E45: 541 | F45: 320 | G45: 221
A46: 18 a 29 años | B46: 1078 | C46: 771 | D46: 307 | E46: 2171 | F46: 1644 | G46: 527
A47: 30 a 59 años | B47: 1845 | C47: 1316 | D47: 529 | E47: 3372 | F47: 2487 | G47: 885
A48: 60 años a más | B48: 652 | C48: 412 | D48: 240 | E48: 1133 | F48: 688 | G48: 445
A61: NUMERO DE ATENDIDOS Y ATENCIONES AL ESTABLECIMIENTO POR SEXO
A63: Periodo: Enero - 2026
A64: Diresa/Red/M.Red/EE.SS: AREQUIPA/AREQUIPA CAYLLOMA/MARITZA CAMPOS DIAZ/I-2 - 000001247 - PUESTO DE SALUD CIUDAD MUNICIPAL
A67: 1. Según Etapa de Vida:
A69: GRUPO ETAREO | B69: ATENDIDOS | E69: ATENCIONES
B70: TOTAL | C70: F | D70: M | E70: TOTAL | F70: F | G70: M
A72: TOTAL GENERAL | B72: 2992 | C72: 2034 | D72: 958 | E72: 5411 | F72: 3813 | G72: 1598
A73: < 01 mes | B73: 53 | C73: 29 | D73: 24 | E73: 154 | F73: 81 | G73: 73
A74: 01 a 11 meses | B74: 336 | C74: 171 | D74: 165 | E74: 610 | F74: 316 | G74: 294
A75: 01 a 04 años | B75: 417 | C75: 199 | D75: 218 | E75: 624 | F75: 289 | G75: 335
...

Sheet FEBRERO
A3: NUMERO DE ATENDIDOS Y ATENCIONES AL ESTABLECIMIENTO POR SEXO
A5: Periodo: Febrero - 2026
A6: Diresa/Red/M.Red/EE.SS: AREQUIPA/AREQUIPA CAYLLOMA/MARITZA CAMPOS DIAZ/TODOS LOS EE.SS
A9: 1. Según Etapa de Vida:
A11: GRUPO ETAREO | B11: ATENDIDOS | E11: ATENCIONES
B12: TOTAL | C12: F | D12: M | E12: TOTAL | F12: F | G12: M
A14: TOTAL GENERAL | B14: 5631 | C14: 3536 | D14: 2095 | E14: 18149 | F14: 12056 | G14: 6093
A15: < 01 mes | B15: 152 | C15: 79 | D15: 73 | E15: 627 | F15: 309 | G15: 318
A16: 01 a 11 meses | B16: 250 | C16: 109 | D16: 141 | E16: 1607 | F16: 751 | G16: 856
A17: 01 a 04 años | B17: 781 | C17: 336 | D17: 445 | E17: 1916 | F17: 883 | G17: 1033
A18: 05 a 11 años | B18: 375 | C18: 192 | D18: 183 | E18: 787 | F18: 379 | G18: 408
A19: 12 a 17 años | B19: 380 | C19: 215 | D19: 165 | E19: 1224 | F19: 706 | G19: 518
A20: 18 a 29 años | B20: 1067 | C20: 772 | D20: 295 | E20: 3852 | F20: 3152 | G20: 700
A21: 30 a 59 años | B21: 2128 | C21: 1548 | D21: 580 | E21: 6508 | F21: 4994 | G21: 1514
A22: 60 años a más | B22: 498 | C22: 285 | D22: 213 | E22: 1628 | F22: 882 | G22: 746
A25: NUMERO DE ATENDIDOS Y ATENCIONES AL ESTABLECIMIENTO POR SEXO
A27: Periodo: Febrero - 2026
A28: Diresa/Red/M.Red/EE.SS: AREQUIPA/AREQUIPA CAYLLOMA/MARITZA CAMPOS DIAZ/I-4 - 000001237 - MARITZA CAMPOS DIAZ - ZAMACOLA
A31: 1. Según Etapa de Vida:
A33: GRUPO ETAREO | B33: ATENDIDOS | E33: ATENCIONES
B34: TOTAL | C34: F | D34: M | E34: TOTAL | F34: F | G34: M
A36: TOTAL GENERAL | B36: 2627 | C36: 1604 | D36: 1023 | E36: 8044 | F36: 5127 | G36: 2917
A37: < 01 mes | B37: 75 | C37: 40 | D37: 35 | E37: 326 | F37: 160 | G37: 166
A38: 01 a 11 meses | B38: 88 | C38: 36 | D38: 52 | E38: 385 | F38: 184 | G38: 201
A39: 01 a 04 años | B39: 228 | C39: 91 | D39: 137 | E39: 520 | F39: 236 | G39: 284
A40: 05 a 11 años | B40: 151 | C40: 67 | D40: 84 | E40: 325 | F40: 154 | G40: 171
A41: 12 a 17 años | B41: 162 | C41: 92 | D41: 70 | E41: 615 | F41: 341 | G41: 274
A42: 18 a 29 años | B42: 540 | C42: 362 | D42: 178 | E42: 1875 | F42: 1423 | G42: 452
A43: 30 a 59 años | B43: 1119 | C43: 782 | D43: 337 | E43: 3104 | F43: 2191 | G43: 913
A44: 60 años a más | B44: 264 | C44: 134 | D44: 130 | E44: 894 | F44: 438 | G44: 456
A50: NUMERO DE ATENDIDOS Y ATENCIONES AL ESTABLECIMIENTO POR SEXO
A52: Periodo: Febrero - 2026
A53: Diresa/Red/M.Red/EE.SS: AREQUIPA/AREQUIPA CAYLLOMA/MARITZA CAMPOS DIAZ/I-2 - 000001247 - PUESTO DE SALUD CIUDAD MUNICIPAL
A56: 1. Según Etapa de Vida:
A58: GRUPO ETAREO | B58: ATENDIDOS | E58: ATENCIONES
B59: TOTAL | C59: F | D59: M | E59: TOTAL | F59: F | G59: M
A61: TOTAL GENERAL | B61: 1219 | C61: 802 | D61: 417 | E61: 4161 | F61: 2925 | G61: 1236
A62: < 01 mes | B62: 30 | C62: 13 | D62: 17 | E62: 116 | F62: 58 | G62: 58
A63: 01 a 11 meses | B63: 80 | C63: 36 | D63: 44 | E63: 560 | F63: 286 | G63: 274
A64: 01 a 04 años | B64: 194 | C64: 79 | D64: 115 | E64: 532 | F64: 235 | G64: 297
...

Sheet MARZO
A3: NUMERO DE ATENDIDOS Y ATENCIONES AL ESTABLECIMIENTO POR SEXO
A5: Periodo: Marzo - 2026
A6: Diresa/Red/M.Red/EE.SS: AREQUIPA/AREQUIPA CAYLLOMA/MARITZA CAMPOS DIAZ/TODOS LOS EE.SS
A9: 1. Según Etapa de Vida:
A11: GRUPO ETAREO | B11: ATENDIDOS | E11: ATENCIONES
B12: TOTAL | C12: F | D12: M | E12: TOTAL | F12: F | G12: M
A14: TOTAL GENERAL | B14: 5910 | C14: 3726 | D14: 2184 | E14: 22150 | F14: 14844 | G14: 7306
A15: < 01 mes | B15: 196 | C15: 79 | D15: 117 | E15: 857 | F15: 340 | G15: 517
A16: 01 a 11 meses | B16: 143 | C16: 56 | D16: 87 | E16: 1851 | F16: 890 | G16: 961
A17: 01 a 04 años | B17: 619 | C17: 295 | D17: 324 | E17: 2131 | F17: 1033 | G17: 1098
A18: 05 a 11 años | B18: 457 | C18: 214 | D18: 243 | E18: 1052 | F18: 515 | G18: 537
A19: 12 a 17 años | B19: 367 | C19: 209 | D19: 158 | E19: 1200 | F19: 725 | G19: 475
A20: 18 a 29 años | B20: 1215 | C20: 855 | D20: 360 | E20: 4602 | F20: 3694 | G20: 908
A21: 30 a 59 años | B21: 2259 | C21: 1635 | D21: 624 | E21: 8002 | F21: 6213 | G21: 1789
A22: 60 años a más | B22: 654 | C22: 383 | D22: 271 | E22: 2455 | F22: 1434 | G22: 1021
A24: NUMERO DE ATENDIDOS Y ATENCIONES AL ESTABLECIMIENTO POR SEXO
A26: Periodo: Marzo - 2026
A27: Diresa/Red/M.Red/EE.SS: AREQUIPA/AREQUIPA CAYLLOMA/MARITZA CAMPOS DIAZ/I-4 - 000001237 - MARITZA CAMPOS DIAZ - ZAMACOLA
A30: 1. Según Etapa de Vida:
A32: GRUPO ETAREO | B32: ATENDIDOS | E32: ATENCIONES
B33: TOTAL | C33: F | D33: M | E33: TOTAL | F33: F | G33: M
A35: TOTAL GENERAL | B35: 2895 | C35: 1785 | D35: 1110 | E35: 10133 | F35: 6612 | G35: 3521
A36: < 01 mes | B36: 109 | C36: 42 | D36: 67 | E36: 547 | F36: 202 | G36: 345
A37: 01 a 11 meses | B37: 74 | C37: 27 | D37: 47 | E37: 411 | F37: 198 | G37: 213
A38: 01 a 04 años | B38: 211 | C38: 110 | D38: 101 | E38: 621 | F38: 303 | G38: 318
A39: 05 a 11 años | B39: 195 | C39: 86 | D39: 109 | E39: 464 | F39: 207 | G39: 257
A40: 12 a 17 años | B40: 196 | C40: 113 | D40: 83 | E40: 687 | F40: 400 | G40: 287
A41: 18 a 29 años | B41: 691 | C41: 474 | D41: 217 | E41: 2460 | F41: 1900 | G41: 560
A42: 30 a 59 años | B42: 1096 | C42: 743 | D42: 353 | E42: 3655 | F42: 2649 | G42: 1006
A43: 60 años a más | B43: 323 | C43: 190 | D43: 133 | E43: 1288 | F43: 753 | G43: 535
A48: NUMERO DE ATENDIDOS Y ATENCIONES AL ESTABLECIMIENTO POR SEXO
A50: Periodo: Marzo - 2026
A51: Diresa/Red/M.Red/EE.SS: AREQUIPA/AREQUIPA CAYLLOMA/MARITZA CAMPOS DIAZ/I-2 - 000001247 - PUESTO DE SALUD CIUDAD MUNICIPAL
A54: 1. Según Etapa de Vida:
A56: GRUPO ETAREO | B56: ATENDIDOS | E56: ATENCIONES
B57: TOTAL | C57: F | D57: M | E57: TOTAL | F57: F | G57: M
A59: TOTAL GENERAL | B59: 1141 | C59: 752 | D59: 389 | E59: 4647 | F59: 3233 | G59: 1414
A60: < 01 mes | B60: 38 | C60: 16 | D60: 22 | E60: 139 | F60: 52 | G60: 87
A61: 01 a 11 meses | B61: 36 | C61: 15 | D61: 21 | E61: 626 | F61: 317 | G61: 309
A62: 01 a 04 años | B62: 148 | C62: 80 | D62: 68 | E62: 531 | F62: 284 | G62: 247
...

Sheet 1er  tri
A3: NUMERO DE ATENDIDOS Y ATENCIONES AL ESTABLECIMIENTO POR SEXO
A5: Periodo: Enero - marzo 2026
A6: Diresa/Red/M.Red/EE.SS: AREQUIPA/AREQUIPA CAYLLOMA/MARITZA CAMPOS DIAZ/TODOS LOS EE.SS
L7: REPORTE: Atendidos Atenciones | P7: Desde: 01/01/2026 | R7: Hasta: 31/03/2026
L8: Red: AREQUIPA CAYLLOMA | P8: Departam: Todos
A9: 1. Según Etapa de Vida: | L9: Microred: MARITZA CAMPOS DIAZ | P9: Provincia: Todos
L10: Establec: Todos | P10: Distrito: Todos
A11: GRUPO ETAREO | B11: ATENDIDOS | E11: ATENCIONES
B12: TOTAL | C12: F | D12: M | E12: TOTAL | F12: F | G12: M | L12: grupo_etareo | M12: TOTAL_atendidos | N12: atendidos_femenino | O12: atendidos_masculino | P12: TOTAL_atenciones | Q12: atenciones_femenino | R12: atenciones_masculino
L13: <1 mes | M13: 556 | N13: 250 | O13: 306 | P13: 2389 | Q13: 1056 | R13: 1333
A14: TOTAL GENERAL | B14: =+'Genera Atc y Atd'!B14+FEBRERO!B14+MARZO!B14 -> 22831 | C14: =+'Genera Atc y Atd'!C14+FEBRERO!C14+MARZO!C14 -> 14757 | D14: =+'Genera Atc y Atd'!D14+FEBRERO!D14+MARZO!D14 -> 8074 | E14: =+'Genera Atc y Atd'!E14+FEBRERO!E14+MARZO!E14 -> 61456 | F14: =+'Genera Atc y Atd'!F14+FEBRERO!F14+MARZO!F14 -> 41171 | G14: =+'Genera Atc y Atd'!G14+FEBRERO!G14+MARZO!G14 -> 20285 | L14: 1 a 11 meses | M14: 1305 | N14: 613 | O14: 692 | P14: 5344 | Q14: 2550 | R14: 2794
A15: < 01 mes | B15: =+'Genera Atc y Atd'!B15+FEBRERO!B15+MARZO!B15 -> 584 | C15: =+'Genera Atc y Atd'!C15+FEBRERO!C15+MARZO!C15 -> 266 | D15: =+'Genera Atc y Atd'!D15+FEBRERO!D15+MARZO!D15 -> 318 | E15: =+'Genera Atc y Atd'!E15+FEBRERO!E15+MARZO!E15 -> 2354 | F15: =+'Genera Atc y Atd'!F15+FEBRERO!F15+MARZO!F15 -> 1041 | G15: =+'Genera Atc y Atd'!G15+FEBRERO!G15+MARZO!G15 -> 1313 | L15: 1 a 4 años | M15: 2790 | N15: 1309 | O15: 1481 | P15: 6377 | Q15: 3069 | R15: 3308
A16: 01 a 11 meses | B16: =+'Genera Atc y Atd'!B16+FEBRERO!B16+MARZO!B16 -> 1330 | C16: =+'Genera Atc y Atd'!C16+FEBRERO!C16+MARZO!C16 -> 625 | D16: =+'Genera Atc y Atd'!D16+FEBRERO!D16+MARZO!D16 -> 705 | E16: =+'Genera Atc y Atd'!E16+FEBRERO!E16+MARZO!E16 -> 5163 | F16: =+'Genera Atc y Atd'!F16+FEBRERO!F16+MARZO!F16 -> 2469 | G16: =+'Genera Atc y Atd'!G16+FEBRERO!G16+MARZO!G16 -> 2694 | L16: 5 a 11 años | M16: 1513 | N16: 732 | O16: 781 | P16: 2954 | Q16: 1377 | R16: 1577
A17: 01 a 04 años | B17: =+'Genera Atc y Atd'!B17+FEBRERO!B17+MARZO!B17 -> 2801 | C17: =+'Genera Atc y Atd'!C17+FEBRERO!C17+MARZO!C17 -> 1313 | D17: =+'Genera Atc y Atd'!D17+FEBRERO!D17+MARZO!D17 -> 1488 | E17: =+'Genera Atc y Atd'!E17+FEBRERO!E17+MARZO!E17 -> 6251 | F17: =+'Genera Atc y Atd'!F17+FEBRERO!F17+MARZO!F17 -> 3004 | G17: =+'Genera Atc y Atd'!G17+FEBRERO!G17+MARZO!G17 -> 3247 | L17: 12 a 17 años | M17: 1367 | N17: 807 | O17: 560 | P17: 3664 | Q17: 2184 | R17: 1480
A18: 05 a 11 años | B18: =+'Genera Atc y Atd'!B18+FEBRERO!B18+MARZO!B18 -> 1501 | C18: =+'Genera Atc y Atd'!C18+FEBRERO!C18+MARZO!C18 -> 729 | D18: =+'Genera Atc y Atd'!D18+FEBRERO!D18+MARZO!D18 -> 772 | E18: =+'Genera Atc y Atd'!E18+FEBRERO!E18+MARZO!E18 -> 2934 | F18: =+'Genera Atc y Atd'!F18+FEBRERO!F18+MARZO!F18 -> 1368 | G18: =+'Genera Atc y Atd'!G18+FEBRERO!G18+MARZO!G18 -> 1566 | L18: 18 a 29 años | M18: 4530 | N18: 3380 | O18: 1150 | P18: 13001 | Q18: 10557 | R18: 2444
A19: 12 a 17 años | B19: =+'Genera Atc y Atd'!B19+FEBRERO!B19+MARZO!B19 -> 1381 | C19: =+'Genera Atc y Atd'!C19+FEBRERO!C19+MARZO!C19 -> 817 | D19: =+'Genera Atc y Atd'!D19+FEBRERO!D19+MARZO!D19 -> 564 | E19: =+'Genera Atc y Atd'!E19+FEBRERO!E19+MARZO!E19 -> 3632 | F19: =+'Genera Atc y Atd'!F19+FEBRERO!F19+MARZO!F19 -> 2164 | G19: =+'Genera Atc y Atd'!G19+FEBRERO!G19+MARZO!G19 -> 1468 | L19: 30 a 59 años | M19: 8439 | N19: 6278 | O19: 2161 | P19: 22202 | Q19: 17246 | R19: 4956
A20: 18 a 29 años | B20: =+'Genera Atc y Atd'!B20+FEBRERO!B20+MARZO!B20 -> 4492 | C20: =+'Genera Atc y Atd'!C20+FEBRERO!C20+MARZO!C20 -> 3350 | D20: =+'Genera Atc y Atd'!D20+FEBRERO!D20+MARZO!D20 -> 1142 | E20: =+'Genera Atc y Atd'!E20+FEBRERO!E20+MARZO!E20 -> 12868 | F20: =+'Genera Atc y Atd'!F20+FEBRERO!F20+MARZO!F20 -> 10434 | G20: =+'Genera Atc y Atd'!G20+FEBRERO!G20+MARZO!G20 -> 2434 | L20: 60 a mas | M20: 2412 | N20: 1460 | O20: 952 | P20: 6353 | Q20: 3683 | R20: 2670
A21: 30 a 59 años | B21: =+'Genera Atc y Atd'!B21+FEBRERO!B21+MARZO!B21 -> 8348 | C21: =+'Genera Atc y Atd'!C21+FEBRERO!C21+MARZO!C21 -> 6208 | D21: =+'Genera Atc y Atd'!D21+FEBRERO!D21+MARZO!D21 -> 2140 | E21: =+'Genera Atc y Atd'!E21+FEBRERO!E21+MARZO!E21 -> 21946 | F21: =+'Genera Atc y Atd'!F21+FEBRERO!F21+MARZO!F21 -> 17038 | G21: =+'Genera Atc y Atd'!G21+FEBRERO!G21+MARZO!G21 -> 4908 | L21: TOTAL | M21: =SUM(M13:M20) -> 22912 | N21: =SUM(N13:N20) -> 14829 | O21: =SUM(O13:O20) -> 8083 | P21: =SUM(P13:P20) -> 62284 | Q21: =SUM(Q13:Q20) -> 41722 | R21: =SUM(R13:R20) -> 20562
A22: 60 años a más | B22: =+'Genera Atc y Atd'!B22+FEBRERO!B22+MARZO!B22 -> 2394 | C22: =+'Genera Atc y Atd'!C22+FEBRERO!C22+MARZO!C22 -> 1449 | D22: =+'Genera Atc y Atd'!D22+FEBRERO!D22+MARZO!D22 -> 945 | E22: =+'Genera Atc y Atd'!E22+FEBRERO!E22+MARZO!E22 -> 6308 | F22: =+'Genera Atc y Atd'!F22+FEBRERO!F22+MARZO!F22 -> 3653 | G22: =+'Genera Atc y Atd'!G22+FEBRERO!G22+MARZO!G22 -> 2655
A29: NUMERO DE ATENDIDOS Y ATENCIONES AL ESTABLECIMIENTO POR SEXO
A31: Periodo: Enero - 2026
A32: Diresa/Red/M.Red/EE.SS: AREQUIPA/AREQUIPA CAYLLOMA/MARITZA CAMPOS DIAZ/I-4 - 000001237 - MARITZA CAMPOS DIAZ - ZAMACOLA
A35: 1. Según Etapa de Vida:
A37: GRUPO ETAREO | B37: ATENDIDOS | E37: ATENCIONES
B38: TOTAL | C38: F | D38: M | E38: TOTAL | F38: F | G38: M
A40: TOTAL GENERAL | B40: =+'Genera Atc y Atd'!B40+FEBRERO!B36+MARZO!B35 -> 10424 | C40: =+'Genera Atc y Atd'!C40+FEBRERO!C36+MARZO!C35 -> 6630 | D40: =+'Genera Atc y Atd'!D40+FEBRERO!D36+MARZO!D35 -> 3794 | E40: =+'Genera Atc y Atd'!E40+FEBRERO!E36+MARZO!E35 -> 27438 | F40: =+'Genera Atc y Atd'!F40+FEBRERO!F36+MARZO!F35 -> 17922 | G40: =+'Genera Atc y Atd'!G40+FEBRERO!G36+MARZO!G35 -> 9516
A41: < 01 mes | B41: =+'Genera Atc y Atd'!B41+FEBRERO!B37+MARZO!B36 -> 301 | C41: =+'Genera Atc y Atd'!C41+FEBRERO!C37+MARZO!C36 -> 134 | D41: =+'Genera Atc y Atd'!D41+FEBRERO!D37+MARZO!D36 -> 167 | E41: =+'Genera Atc y Atd'!E41+FEBRERO!E37+MARZO!E36 -> 1416 | F41: =+'Genera Atc y Atd'!F41+FEBRERO!F37+MARZO!F36 -> 605 | G41: =+'Genera Atc y Atd'!G41+FEBRERO!G37+MARZO!G36 -> 811
A42: 01 a 11 meses | B42: =+'Genera Atc y Atd'!B42+FEBRERO!B38+MARZO!B37 -> 372 | C42: =+'Genera Atc y Atd'!C42+FEBRERO!C38+MARZO!C37 -> 182 | D42: =+'Genera Atc y Atd'!D42+FEBRERO!D38+MARZO!D37 -> 190 | E42: =+'Genera Atc y Atd'!E42+FEBRERO!E38+MARZO!E37 -> 1186 | F42: =+'Genera Atc y Atd'!F42+FEBRERO!F38+MARZO!F37 -> 600 | G42: =+'Genera Atc y Atd'!G42+FEBRERO!G38+MARZO!G37 -> 586
A43: 01 a 04 años | B43: =+'Genera Atc y Atd'!B43+FEBRERO!B39+MARZO!B38 -> 864 | C43: =+'Genera Atc y Atd'!C43+FEBRERO!C39+MARZO!C38 -> 424 | D43: =+'Genera Atc y Atd'!D43+FEBRERO!D39+MARZO!D38 -> 440 | E43: =+'Genera Atc y Atd'!E43+FEBRERO!E39+MARZO!E38 -> 1809 | F43: =+'Genera Atc y Atd'!F43+FEBRERO!F39+MARZO!F38 -> 915 | G43: =+'Genera Atc y Atd'!G43+FEBRERO!G39+MARZO!G38 -> 894
A44: 05 a 11 años | B44: =+'Genera Atc y Atd'!B44+FEBRERO!B40+MARZO!B39 -> 621 | C44: =+'Genera Atc y Atd'!C44+FEBRERO!C40+MARZO!C39 -> 301 | D44: =+'Genera Atc y Atd'!D44+FEBRERO!D40+MARZO!D39 -> 320 | E44: =+'Genera Atc y Atd'!E44+FEBRERO!E40+MARZO!E39 -> 1232 | F44: =+'Genera Atc y Atd'!F44+FEBRERO!F40+MARZO!F39 -> 568 | G44: =+'Genera Atc y Atd'!G44+FEBRERO!G40+MARZO!G39 -> 664
A45: 12 a 17 años | B45: =+'Genera Atc y Atd'!B45+FEBRERO!B41+MARZO!B40 -> 658 | C45: =+'Genera Atc y Atd'!C45+FEBRERO!C41+MARZO!C40 -> 405 | D45: =+'Genera Atc y Atd'!D45+FEBRERO!D41+MARZO!D40 -> 253 | E45: =+'Genera Atc y Atd'!E45+FEBRERO!E41+MARZO!E40 -> 1843 | F45: =+'Genera Atc y Atd'!F45+FEBRERO!F41+MARZO!F40 -> 1061 | G45: =+'Genera Atc y Atd'!G45+FEBRERO!G41+MARZO!G40 -> 782
A46: 18 a 29 años | B46: =+'Genera Atc y Atd'!B46+FEBRERO!B42+MARZO!B41 -> 2309 | C46: =+'Genera Atc y Atd'!C46+FEBRERO!C42+MARZO!C41 -> 1607 | D46: =+'Genera Atc y Atd'!D46+FEBRERO!D42+MARZO!D41 -> 702 | E46: =+'Genera Atc y Atd'!E46+FEBRERO!E42+MARZO!E41 -> 6506 | F46: =+'Genera Atc y Atd'!F46+FEBRERO!F42+MARZO!F41 -> 4967 | G46: =+'Genera Atc y Atd'!G46+FEBRERO!G42+MARZO!G41 -> 1539
A47: 30 a 59 años | B47: =+'Genera Atc y Atd'!B47+FEBRERO!B43+MARZO!B42 -> 4060 | C47: =+'Genera Atc y Atd'!C47+FEBRERO!C43+MARZO!C42 -> 2841 | D47: =+'Genera Atc y Atd'!D47+FEBRERO!D43+MARZO!D42 -> 1219 | E47: =+'Genera Atc y Atd'!E47+FEBRERO!E43+MARZO!E42 -> 10131 | F47: =+'Genera Atc y Atd'!F47+FEBRERO!F43+MARZO!F42 -> 7327 | G47: =+'Genera Atc y Atd'!G47+FEBRERO!G43+MARZO!G42 -> 2804
A48: 60 años a más | B48: =+'Genera Atc y Atd'!B48+FEBRERO!B44+MARZO!B43 -> 1239 | C48: =+'Genera Atc y Atd'!C48+FEBRERO!C44+MARZO!C43 -> 736 | D48: =+'Genera Atc y Atd'!D48+FEBRERO!D44+MARZO!D43 -> 503 | E48: =+'Genera Atc y Atd'!E48+FEBRERO!E44+MARZO!E43 -> 3315 | F48: =+'Genera Atc y Atd'!F48+FEBRERO!F44+MARZO!F43 -> 1879 | G48: =+'Genera Atc y Atd'!G48+FEBRERO!G44+MARZO!G43 -> 1436
A61: NUMERO DE ATENDIDOS Y ATENCIONES AL ESTABLECIMIENTO POR SEXO
A63: Periodo: Enero - 2026
A64: Diresa/Red/M.Red/EE.SS: AREQUIPA/AREQUIPA CAYLLOMA/MARITZA CAMPOS DIAZ/I-2 - 000001247 - PUESTO DE SALUD CIUDAD MUNICIPAL
A67: 1. Según Etapa de Vida:
A69: GRUPO ETAREO | B69: ATENDIDOS | E69: ATENCIONES
B70: TOTAL | C70: F | D70: M | E70: TOTAL | F70: F | G70: M
...

Sheet ABRIL
A1: REPORTE: Atendidos Atenciones | E1: Desde: 01/04/2026 | G1: Hasta: 30/04/2026
A2: Red: AREQUIPA CAYLLOMA | E2: Departam: Todos
A3: Microred: MARITZA CAMPOS DIAZ | E3: Provincia: Todos
A4: Establec: Todos | E4: Distrito: Todos
A6: grupo_etareo | B6: TOTAL_atendidos | C6: atendidos_femenino | D6: atendidos_masculino | E6: TOTAL_atenciones | F6: atenciones_femenino | G6: atenciones_masculino
A7: <1 mes | B7: 160 | C7: 73 | D7: 87 | E7: 711 | F7: 310 | G7: 401
A8: 1 a 11 meses | B8: 116 | C8: 51 | D8: 65 | E8: 1842 | F8: 835 | G8: 1006
A9: 1 a 4 años | B9: 496 | C9: 236 | D9: 259 | E9: 2668 | F9: 1282 | G9: 1385
A10: 5 a 11 años | B10: 622 | C10: 280 | D10: 342 | E10: 2056 | F10: 976 | G10: 1080
A11: 12 a 17 años | B11: 390 | C11: 186 | D11: 204 | E11: 1790 | F11: 924 | G11: 866
A12: 18 a 29 años | B12: 1242 | C12: 856 | D12: 386 | E12: 5584 | F12: 4494 | G12: 1087
A13: 30 a 59 años | B13: 2208 | C13: 1515 | D13: 693 | E13: 9303 | F13: 6957 | G13: 2343
A14: 60 a mas | B14: 611 | C14: 341 | D14: 270 | E14: 2522 | F14: 1409 | G14: 1113
A15: TOTAL | B15: 5845 | C15: 3538 | D15: 2306 | E15: 26476 | F15: 17187 | G15: 9281
A19: REPORTE: Atendidos Atenciones | E19: Desde: 01/04/2026 | G19: Hasta: 30/04/2026
A20: Red: AREQUIPA CAYLLOMA | E20: Departam: Todos
A21: Microred: MARITZA CAMPOS DIAZ | E21: Provincia: Todos
A22: Establec: MARITZA CAMPOS DIAZ - ZAMACOLA | E22: Distrito: Todos
A24: grupo_etareo | B24: TOTAL_atendidos | C24: atendidos_femenino | D24: atendidos_masculino | E24: TOTAL_atenciones | F24: atenciones_femenino | G24: atenciones_masculino
A25: <1 mes | B25: 93 | C25: 45 | D25: 48 | E25: 430 | F25: 198 | G25: 232
A26: 1 a 11 meses | B26: 68 | C26: 31 | D26: 37 | E26: 412 | F26: 195 | G26: 216
A27: 1 a 4 años | B27: 245 | C27: 108 | D27: 136 | E27: 768 | F27: 374 | G27: 393
A28: 5 a 11 años | B28: 289 | C28: 140 | D28: 149 | E28: 824 | F28: 410 | G28: 414
A29: 12 a 17 años | B29: 179 | C29: 90 | D29: 89 | E29: 859 | F29: 434 | G29: 425
A30: 18 a 29 años | B30: 688 | C30: 455 | D30: 233 | E30: 2638 | F30: 2022 | G30: 616
A31: 30 a 59 años | B31: 1188 | C31: 784 | D31: 404 | E31: 4119 | F31: 2955 | G31: 1164
A32: 60 a mas | B32: 374 | C32: 209 | D32: 165 | E32: 1285 | F32: 730 | G32: 555
A33: TOTAL | B33: 3124 | C33: 1862 | D33: 1261 | E33: 11335 | F33: 7318 | G33: 4015
A38: REPORTE: Atendidos Atenciones | E38: Desde: 01/04/2026 | G38: Hasta: 30/04/2026
A39: Red: AREQUIPA CAYLLOMA | E39: Departam: Todos
A40: Microred: MARITZA CAMPOS DIAZ | E40: Provincia: Todos
A41: Establec: PUESTO DE SALUD CIUDAD MUNICIPAL | E41: Distrito: Todos
A43: grupo_etareo | B43: TOTAL_atendidos | C43: atendidos_femenino | D43: atendidos_masculino | E43: TOTAL_atenciones | F43: atenciones_femenino | G43: atenciones_masculino
A44: <1 mes | B44: 28 | C44: 11 | D44: 17 | E44: 111 | F44: 43 | G44: 68
A45: 1 a 11 meses | B45: 23 | C45: 9 | D45: 14 | E45: 612 | F45: 284 | G45: 328
A46: 1 a 4 años | B46: 102 | C46: 46 | D46: 56 | E46: 715 | F46: 351 | G46: 364
A47: 5 a 11 años | B47: 166 | C47: 74 | D47: 92 | E47: 357 | F47: 163 | G47: 194
A48: 12 a 17 años | B48: 57 | C48: 22 | D48: 35 | E48: 275 | F48: 146 | G48: 129
A49: 18 a 29 años | B49: 245 | C49: 194 | D49: 51 | E49: 1160 | F49: 1028 | G49: 132
A50: 30 a 59 años | B50: 469 | C50: 346 | D50: 123 | E50: 2106 | F50: 1635 | G50: 471
...

Sheet MAYO
A1: REPORTE: Atendidos Atenciones | E1: Desde: 01/05/2026 | G1: Hasta: 31/05/2026
A2: Red: AREQUIPA CAYLLOMA | E2: Departam: Todos
A3: Microred: MARITZA CAMPOS DIAZ | E3: Provincia: Todos
A4: Establec: Todos | E4: Distrito: Todos
A6: grupo_etareo | B6: TOTAL_atendidos | C6: atendidos_femenino | D6: atendidos_masculino | E6: TOTAL_atenciones | F6: atenciones_femenino | G6: atenciones_masculino
A7: <1 mes | B7: 156 | C7: 34 | D7: 44 | E7: 688 | F7: 181 | G7: 245
A8: 1 a 11 meses | B8: 117 | C8: 15 | D8: 37 | E8: 1929 | F8: 817 | G8: 1010
A9: 1 a 4 años | B9: 520 | C9: 196 | D9: 200 | E9: 2622 | F9: 1186 | G9: 1236
A10: 5 a 11 años | B10: 875 | C10: 392 | D10: 345 | E10: 2833 | F10: 1284 | G10: 1225
A11: 12 a 17 años | B11: 444 | C11: 180 | D11: 175 | E11: 1617 | F11: 774 | G11: 590
A12: 18 a 29 años | B12: 1203 | C12: 593 | D12: 247 | E12: 5461 | F12: 4052 | G12: 764
A13: 30 a 59 años | B13: 2016 | C13: 1031 | D13: 485 | E13: 8877 | F13: 6114 | G13: 1829
A14: 60 a mas | B14: 544 | C14: 232 | D14: 198 | E14: 2605 | F14: 1423 | G14: 971
A15: TOTAL | B15: =SUM(B7:B14) -> 5875 | C15: =SUM(C7:C14) -> 2673 | D15: =SUM(D7:D14) -> 1731 | E15: =SUM(E7:E14) -> 26632 | F15: =SUM(F7:F14) -> 15831 | G15: =SUM(G7:G14) -> 7870
A18: REPORTE: Atendidos Atenciones | E18: Desde: 01/05/2026 | G18: Hasta: 31/05/2026
A19: Red: AREQUIPA CAYLLOMA | E19: Departam: Todos
A20: Microred: MARITZA CAMPOS DIAZ | E20: Provincia: Todos
A21: Establec: MARITZA CAMPOS DIAZ - ZAMACOLA | E21: Distrito: Todos
A23: grupo_etareo | B23: TOTAL_atendidos | C23: atendidos_femenino | D23: atendidos_masculino | E23: TOTAL_atenciones | F23: atenciones_femenino | G23: atenciones_masculino
A24: <1 mes | B24: 76 | C24: 21 | D24: 25 | E24: 413 | F24: 120 | G24: 134
A25: 1 a 11 meses | B25: 63 | C25: 9 | D25: 20 | E25: 424 | F25: 178 | G25: 201
A26: 1 a 4 años | B26: 257 | C26: 82 | D26: 103 | E26: 779 | F26: 316 | G26: 365
A27: 5 a 11 años | B27: 336 | C27: 135 | D27: 118 | E27: 907 | F27: 363 | G27: 379
A28: 12 a 17 años | B28: 257 | C28: 106 | D28: 93 | E28: 716 | F28: 317 | G28: 233
A29: 18 a 29 años | B29: 700 | C29: 340 | D29: 143 | E29: 2847 | F29: 2021 | G29: 432
A30: 30 a 59 años | B30: 1103 | C30: 545 | D30: 265 | E30: 3956 | F30: 2513 | G30: 949
A31: 60 a mas | B31: 341 | C31: 142 | D31: 118 | E31: 1354 | F31: 717 | G31: 512
A32: TOTAL | B32: =SUM(B24:B31) -> 3133 | C32: =SUM(C24:C31) -> 1380 | D32: =SUM(D24:D31) -> 885 | E32: =SUM(E24:E31) -> 11396 | F32: =SUM(F24:F31) -> 6545 | G32: =SUM(G24:G31) -> 3205
A37: REPORTE: Atendidos Atenciones | E37: Desde: 01/05/2026 | G37: Hasta: 31/05/2026
A38: Red: AREQUIPA CAYLLOMA | E38: Departam: Todos
A39: Microred: MARITZA CAMPOS DIAZ | E39: Provincia: Todos
A40: Establec: PUESTO DE SALUD CIUDAD MUNICIPAL | E40: Distrito: Todos
A42: grupo_etareo | B42: TOTAL_atendidos | C42: atendidos_femenino | D42: atendidos_masculino | E42: TOTAL_atenciones | F42: atenciones_femenino | G42: atenciones_masculino
A43: <1 mes | B43: 25 | C43: 2 | D43: 7 | E43: 84 | F43: 14 | G43: 45
A44: 1 a 11 meses | B44: 26 | C44: 3 | D44: 6 | E44: 569 | F44: 253 | G44: 290
A45: 1 a 4 años | B45: 97 | C45: 35 | D45: 37 | E45: 688 | F45: 301 | G45: 342
A46: 5 a 11 años | B46: 186 | C46: 82 | D46: 81 | E46: 834 | F46: 380 | G46: 381
A47: 12 a 17 años | B47: 47 | C47: 20 | D47: 21 | E47: 297 | F47: 159 | G47: 112
A48: 18 a 29 años | B48: 215 | C48: 106 | D48: 35 | E48: 1149 | F48: 915 | G48: 107
A49: 30 a 59 años | B49: 344 | C49: 174 | D49: 74 | E49: 2093 | F49: 1527 | G49: 343
...

Sheet JUNIO
A1: REPORTE: Atendidos Atenciones | E1: Desde: 01/06/2026 | G1: Hasta: 30/06/2026
A2: Red: AREQUIPA CAYLLOMA | E2: Departam: Todos
A3: Microred: MARITZA CAMPOS DIAZ | E3: Provincia: Todos
A4: Establec: Todos | E4: Distrito: Todos
A6: grupo_etareo | B6: TOTAL_atendidos | C6: atendidos_femenino | D6: atendidos_masculino | E6: TOTAL_atenciones | F6: atenciones_femenino | G6: atenciones_masculino
A7: <1 mes | B7: 147 | C7: 72 | D7: 75 | E7: 640 | F7: 333 | G7: 307
A8: 1 a 11 meses | B8: 100 | C8: 46 | D8: 54 | E8: 1755 | F8: 816 | G8: 939
A9: 1 a 4 años | B9: 392 | C9: 187 | D9: 205 | E9: 2848 | F9: 1378 | G9: 1470
A10: 5 a 11 años | B10: 686 | C10: 311 | D10: 375 | E10: 3172 | F10: 1528 | G10: 1644
A11: 12 a 17 años | B11: 385 | C11: 183 | D11: 202 | E11: 2007 | F11: 1048 | G11: 959
A12: 18 a 29 años | B12: 1040 | C12: 686 | D12: 354 | E12: 5057 | F12: 4082 | G12: 975
A13: 30 a 59 años | B13: 1738 | C13: 1186 | D13: 552 | E13: 8593 | F13: 6611 | G13: 1982
A14: 60 a mas | B14: 437 | C14: 242 | D14: 195 | E14: 2439 | F14: 1419 | G14: 1020
A15: TOTAL | B15: =SUM(B7:B14) -> 4925 | C15: =SUM(C7:C14) -> 2913 | D15: =SUM(D7:D14) -> 2012 | E15: =SUM(E7:E14) -> 26511 | F15: =SUM(F7:F14) -> 17215 | G15: =SUM(G7:G14) -> 9296
A21: REPORTE: Atendidos Atenciones | E21: Desde: 01/06/2026 | G21: Hasta: 30/06/2026
A22: Red: AREQUIPA CAYLLOMA | E22: Departam: Todos
A23: Microred: MARITZA CAMPOS DIAZ | E23: Provincia: Todos
A24: Establec: MARITZA CAMPOS DIAZ - ZAMACOLA | E24: Distrito: Todos
A26: grupo_etareo | B26: TOTAL_atendidos | C26: atendidos_femenino | D26: atendidos_masculino | E26: TOTAL_atenciones | F26: atenciones_femenino | G26: atenciones_masculino
A27: <1 mes | B27: 81 | C27: 43 | D27: 38 | E27: 395 | F27: 219 | G27: 176
A28: 1 a 11 meses | B28: 64 | C28: 27 | D28: 37 | E28: 461 | F28: 215 | G28: 246
A29: 1 a 4 años | B29: 189 | C29: 93 | D29: 96 | E29: 758 | F29: 371 | G29: 387
A30: 5 a 11 años | B30: 306 | C30: 135 | D30: 171 | E30: 834 | F30: 363 | G30: 471
A31: 12 a 17 años | B31: 193 | C31: 96 | D31: 97 | E31: 707 | F31: 385 | G31: 322
A32: 18 a 29 años | B32: 570 | C32: 370 | D32: 200 | E32: 2409 | F32: 1840 | G32: 569
A33: 30 a 59 años | B33: 929 | C33: 618 | D33: 311 | E33: 3655 | F33: 2600 | G33: 1055
A34: 60 a mas | B34: 260 | C34: 140 | D34: 120 | E34: 1222 | F34: 712 | G34: 510
A35: TOTAL | B35: =SUM(B27:B34) -> 2592 | C35: =SUM(C27:C34) -> 1522 | D35: =SUM(D27:D34) -> 1070 | E35: =SUM(E27:E34) -> 10441 | F35: =SUM(F27:F34) -> 6705 | G35: =SUM(G27:G34) -> 3736
A40: REPORTE: Atendidos Atenciones | E40: Desde: 01/06/2026 | G40: Hasta: 30/06/2026
A41: Red: AREQUIPA CAYLLOMA | E41: Departam: Todos
A42: Microred: MARITZA CAMPOS DIAZ | E42: Provincia: Todos
A43: Establec: PUESTO DE SALUD CIUDAD MUNICIPAL | E43: Distrito: Todos
A45: grupo_etareo | B45: TOTAL_atendidos | C45: atendidos_femenino | D45: atendidos_masculino | E45: TOTAL_atenciones | F45: atenciones_femenino | G45: atenciones_masculino
A46: <1 mes | B46: 19 | C46: 4 | D46: 15 | E46: 74 | F46: 27 | G46: 47
A47: 1 a 11 meses | B47: 18 | C47: 8 | D47: 10 | E47: 479 | F47: 222 | G47: 257
A48: 1 a 4 años | B48: 92 | C48: 43 | D48: 49 | E48: 683 | F48: 327 | G48: 356
A49: 5 a 11 años | B49: 144 | C49: 64 | D49: 80 | E49: 1037 | F49: 538 | G49: 499
A50: 12 a 17 años | B50: 63 | C50: 31 | D50: 32 | E50: 527 | F50: 270 | G50: 257
A51: 18 a 29 años | B51: 170 | C51: 120 | D51: 50 | E51: 1003 | F51: 864 | G51: 139
A52: 30 a 59 años | B52: 281 | C52: 185 | D52: 96 | E52: 1877 | F52: 1519 | G52: 358
...

Sheet 2DO TRI
A1: REPORTE: Atendidos Atenciones | E1: Desde: 01/04/2026 | G1: Hasta: 30/06/2026
A2: Red: AREQUIPA CAYLLOMA | E2: Departam: Todos
A3: Microred: MARITZA CAMPOS DIAZ | E3: Provincia: Todos
A4: Establec: Todos | E4: Distrito: Todos
A6: grupo_etareo | B6: TOTAL_atendidos | C6: atendidos_femenino | D6: atendidos_masculino | E6: TOTAL_atenciones | F6: atenciones_femenino | G6: atenciones_masculino
A7: <1 mes | B7: =+ABRIL!B7+MAYO!B7+JUNIO!B7 -> 463 | C7: =+ABRIL!C7+MAYO!C7+JUNIO!C7 -> 179 | D7: =+ABRIL!D7+MAYO!D7+JUNIO!D7 -> 206 | E7: =+ABRIL!E7+MAYO!E7+JUNIO!E7 -> 2039 | F7: =+ABRIL!F7+MAYO!F7+JUNIO!F7 -> 824 | G7: =+ABRIL!G7+MAYO!G7+JUNIO!G7 -> 953
A8: 1 a 11 meses | B8: =+ABRIL!B8+MAYO!B8+JUNIO!B8 -> 333 | C8: =+ABRIL!C8+MAYO!C8+JUNIO!C8 -> 112 | D8: =+ABRIL!D8+MAYO!D8+JUNIO!D8 -> 156 | E8: =+ABRIL!E8+MAYO!E8+JUNIO!E8 -> 5526 | F8: =+ABRIL!F8+MAYO!F8+JUNIO!F8 -> 2468 | G8: =+ABRIL!G8+MAYO!G8+JUNIO!G8 -> 2955
A9: 1 a 4 años | B9: =+ABRIL!B9+MAYO!B9+JUNIO!B9 -> 1408 | C9: =+ABRIL!C9+MAYO!C9+JUNIO!C9 -> 619 | D9: =+ABRIL!D9+MAYO!D9+JUNIO!D9 -> 664 | E9: =+ABRIL!E9+MAYO!E9+JUNIO!E9 -> 8138 | F9: =+ABRIL!F9+MAYO!F9+JUNIO!F9 -> 3846 | G9: =+ABRIL!G9+MAYO!G9+JUNIO!G9 -> 4091
A10: 5 a 11 años | B10: =+ABRIL!B10+MAYO!B10+JUNIO!B10 -> 2183 | C10: =+ABRIL!C10+MAYO!C10+JUNIO!C10 -> 983 | D10: =+ABRIL!D10+MAYO!D10+JUNIO!D10 -> 1062 | E10: =+ABRIL!E10+MAYO!E10+JUNIO!E10 -> 8061 | F10: =+ABRIL!F10+MAYO!F10+JUNIO!F10 -> 3788 | G10: =+ABRIL!G10+MAYO!G10+JUNIO!G10 -> 3949
A11: 12 a 17 años | B11: =+ABRIL!B11+MAYO!B11+JUNIO!B11 -> 1219 | C11: =+ABRIL!C11+MAYO!C11+JUNIO!C11 -> 549 | D11: =+ABRIL!D11+MAYO!D11+JUNIO!D11 -> 581 | E11: =+ABRIL!E11+MAYO!E11+JUNIO!E11 -> 5414 | F11: =+ABRIL!F11+MAYO!F11+JUNIO!F11 -> 2746 | G11: =+ABRIL!G11+MAYO!G11+JUNIO!G11 -> 2415
A12: 18 a 29 años | B12: =+ABRIL!B12+MAYO!B12+JUNIO!B12 -> 3485 | C12: =+ABRIL!C12+MAYO!C12+JUNIO!C12 -> 2135 | D12: =+ABRIL!D12+MAYO!D12+JUNIO!D12 -> 987 | E12: =+ABRIL!E12+MAYO!E12+JUNIO!E12 -> 16102 | F12: =+ABRIL!F12+MAYO!F12+JUNIO!F12 -> 12628 | G12: =+ABRIL!G12+MAYO!G12+JUNIO!G12 -> 2826
A13: 30 a 59 años | B13: =+ABRIL!B13+MAYO!B13+JUNIO!B13 -> 5962 | C13: =+ABRIL!C13+MAYO!C13+JUNIO!C13 -> 3732 | D13: =+ABRIL!D13+MAYO!D13+JUNIO!D13 -> 1730 | E13: =+ABRIL!E13+MAYO!E13+JUNIO!E13 -> 26773 | F13: =+ABRIL!F13+MAYO!F13+JUNIO!F13 -> 19682 | G13: =+ABRIL!G13+MAYO!G13+JUNIO!G13 -> 6154
A14: 60 a mas | B14: =+ABRIL!B14+MAYO!B14+JUNIO!B14 -> 1592 | C14: =+ABRIL!C14+MAYO!C14+JUNIO!C14 -> 815 | D14: =+ABRIL!D14+MAYO!D14+JUNIO!D14 -> 663 | E14: =+ABRIL!E14+MAYO!E14+JUNIO!E14 -> 7566 | F14: =+ABRIL!F14+MAYO!F14+JUNIO!F14 -> 4251 | G14: =+ABRIL!G14+MAYO!G14+JUNIO!G14 -> 3104
A15: TOTAL | B15: =SUM(B7:B14) -> 16645 | C15: =SUM(C7:C14) -> 9124 | D15: =SUM(D7:D14) -> 6049 | E15: =SUM(E7:E14) -> 79619 | F15: =SUM(F7:F14) -> 50233 | G15: =SUM(G7:G14) -> 26447
A21: REPORTE: Atendidos Atenciones | E21: Desde: 01/04/2026 | G21: Hasta: 30/06/2026
A22: Red: AREQUIPA CAYLLOMA | E22: Departam: Todos
A23: Microred: MARITZA CAMPOS DIAZ | E23: Provincia: Todos
A24: Establec: MARITZA CAMPOS DIAZ - ZAMACOLA | E24: Distrito: Todos
A26: grupo_etareo | B26: TOTAL_atendidos | C26: atendidos_femenino | D26: atendidos_masculino | E26: TOTAL_atenciones | F26: atenciones_femenino | G26: atenciones_masculino
A27: <1 mes | B27: =+ABRIL!B25+MAYO!B24+JUNIO!B27 -> 250 | C27: =+ABRIL!C25+MAYO!C24+JUNIO!C27 -> 109 | D27: =+ABRIL!D25+MAYO!D24+JUNIO!D27 -> 111 | E27: =+ABRIL!E25+MAYO!E24+JUNIO!E27 -> 1238 | F27: =+ABRIL!F25+MAYO!F24+JUNIO!F27 -> 537 | G27: =+ABRIL!G25+MAYO!G24+JUNIO!G27 -> 542
A28: 1 a 11 meses | B28: =+ABRIL!B26+MAYO!B25+JUNIO!B28 -> 195 | C28: =+ABRIL!C26+MAYO!C25+JUNIO!C28 -> 67 | D28: =+ABRIL!D26+MAYO!D25+JUNIO!D28 -> 94 | E28: =+ABRIL!E26+MAYO!E25+JUNIO!E28 -> 1297 | F28: =+ABRIL!F26+MAYO!F25+JUNIO!F28 -> 588 | G28: =+ABRIL!G26+MAYO!G25+JUNIO!G28 -> 663
A29: 1 a 4 años | B29: =+ABRIL!B27+MAYO!B26+JUNIO!B29 -> 691 | C29: =+ABRIL!C27+MAYO!C26+JUNIO!C29 -> 283 | D29: =+ABRIL!D27+MAYO!D26+JUNIO!D29 -> 335 | E29: =+ABRIL!E27+MAYO!E26+JUNIO!E29 -> 2305 | F29: =+ABRIL!F27+MAYO!F26+JUNIO!F29 -> 1061 | G29: =+ABRIL!G27+MAYO!G26+JUNIO!G29 -> 1145
A30: 5 a 11 años | B30: =+ABRIL!B28+MAYO!B27+JUNIO!B30 -> 931 | C30: =+ABRIL!C28+MAYO!C27+JUNIO!C30 -> 410 | D30: =+ABRIL!D28+MAYO!D27+JUNIO!D30 -> 438 | E30: =+ABRIL!E28+MAYO!E27+JUNIO!E30 -> 2565 | F30: =+ABRIL!F28+MAYO!F27+JUNIO!F30 -> 1136 | G30: =+ABRIL!G28+MAYO!G27+JUNIO!G30 -> 1264
A31: 12 a 17 años | B31: =+ABRIL!B29+MAYO!B28+JUNIO!B31 -> 629 | C31: =+ABRIL!C29+MAYO!C28+JUNIO!C31 -> 292 | D31: =+ABRIL!D29+MAYO!D28+JUNIO!D31 -> 279 | E31: =+ABRIL!E29+MAYO!E28+JUNIO!E31 -> 2282 | F31: =+ABRIL!F29+MAYO!F28+JUNIO!F31 -> 1136 | G31: =+ABRIL!G29+MAYO!G28+JUNIO!G31 -> 980
A32: 18 a 29 años | B32: =+ABRIL!B30+MAYO!B29+JUNIO!B32 -> 1958 | C32: =+ABRIL!C30+MAYO!C29+JUNIO!C32 -> 1165 | D32: =+ABRIL!D30+MAYO!D29+JUNIO!D32 -> 576 | E32: =+ABRIL!E30+MAYO!E29+JUNIO!E32 -> 7894 | F32: =+ABRIL!F30+MAYO!F29+JUNIO!F32 -> 5883 | G32: =+ABRIL!G30+MAYO!G29+JUNIO!G32 -> 1617
A33: 30 a 59 años | B33: =+ABRIL!B31+MAYO!B30+JUNIO!B33 -> 3220 | C33: =+ABRIL!C31+MAYO!C30+JUNIO!C33 -> 1947 | D33: =+ABRIL!D31+MAYO!D30+JUNIO!D33 -> 980 | E33: =+ABRIL!E31+MAYO!E30+JUNIO!E33 -> 11730 | F33: =+ABRIL!F31+MAYO!F30+JUNIO!F33 -> 8068 | G33: =+ABRIL!G31+MAYO!G30+JUNIO!G33 -> 3168
A34: 60 a mas | B34: =+ABRIL!B32+MAYO!B31+JUNIO!B34 -> 975 | C34: =+ABRIL!C32+MAYO!C31+JUNIO!C34 -> 491 | D34: =+ABRIL!D32+MAYO!D31+JUNIO!D34 -> 403 | E34: =+ABRIL!E32+MAYO!E31+JUNIO!E34 -> 3861 | F34: =+ABRIL!F32+MAYO!F31+JUNIO!F34 -> 2159 | G34: =+ABRIL!G32+MAYO!G31+JUNIO!G34 -> 1577
A35: TOTAL | B35: =SUM(B27:B34) -> 8849 | C35: =SUM(C27:C34) -> 4764 | D35: =SUM(D27:D34) -> 3216 | E35: =SUM(E27:E34) -> 33172 | F35: =SUM(F27:F34) -> 20568 | G35: =SUM(G27:G34) -> 10956
A40: REPORTE: Atendidos Atenciones | E40: Desde: 01/04/2026 | G40: Hasta: 30/06/2026
A41: Red: AREQUIPA CAYLLOMA | E41: Departam: Todos
A42: Microred: MARITZA CAMPOS DIAZ | E42: Provincia: Todos
A43: Establec: PUESTO DE SALUD CIUDAD MUNICIPAL | E43: Distrito: Todos
A45: grupo_etareo | B45: TOTAL_atendidos | C45: atendidos_femenino | D45: atendidos_masculino | E45: TOTAL_atenciones | F45: atenciones_femenino | G45: atenciones_masculino
A46: <1 mes | B46: =+ABRIL!B44+MAYO!B43+JUNIO!B46 -> 72 | C46: =+ABRIL!C44+MAYO!C43+JUNIO!C46 -> 17 | D46: =+ABRIL!D44+MAYO!D43+JUNIO!D46 -> 39 | E46: =+ABRIL!E44+MAYO!E43+JUNIO!E46 -> 269 | F46: =+ABRIL!F44+MAYO!F43+JUNIO!F46 -> 84 | G46: =+ABRIL!G44+MAYO!G43+JUNIO!G46 -> 160
A47: 1 a 11 meses | B47: =+ABRIL!B45+MAYO!B44+JUNIO!B47 -> 67 | C47: =+ABRIL!C45+MAYO!C44+JUNIO!C47 -> 20 | D47: =+ABRIL!D45+MAYO!D44+JUNIO!D47 -> 30 | E47: =+ABRIL!E45+MAYO!E44+JUNIO!E47 -> 1660 | F47: =+ABRIL!F45+MAYO!F44+JUNIO!F47 -> 759 | G47: =+ABRIL!G45+MAYO!G44+JUNIO!G47 -> 875
A48: 1 a 4 años | B48: =+ABRIL!B46+MAYO!B45+JUNIO!B48 -> 291 | C48: =+ABRIL!C46+MAYO!C45+JUNIO!C48 -> 124 | D48: =+ABRIL!D46+MAYO!D45+JUNIO!D48 -> 142 | E48: =+ABRIL!E46+MAYO!E45+JUNIO!E48 -> 2086 | F48: =+ABRIL!F46+MAYO!F45+JUNIO!F48 -> 979 | G48: =+ABRIL!G46+MAYO!G45+JUNIO!G48 -> 1062
A49: 5 a 11 años | B49: =+ABRIL!B47+MAYO!B46+JUNIO!B49 -> 496 | C49: =+ABRIL!C47+MAYO!C46+JUNIO!C49 -> 220 | D49: =+ABRIL!D47+MAYO!D46+JUNIO!D49 -> 253 | E49: =+ABRIL!E47+MAYO!E46+JUNIO!E49 -> 2228 | F49: =+ABRIL!F47+MAYO!F46+JUNIO!F49 -> 1081 | G49: =+ABRIL!G47+MAYO!G46+JUNIO!G49 -> 1074
A50: 12 a 17 años | B50: =+ABRIL!B48+MAYO!B47+JUNIO!B50 -> 167 | C50: =+ABRIL!C48+MAYO!C47+JUNIO!C50 -> 73 | D50: =+ABRIL!D48+MAYO!D47+JUNIO!D50 -> 88 | E50: =+ABRIL!E48+MAYO!E47+JUNIO!E50 -> 1099 | F50: =+ABRIL!F48+MAYO!F47+JUNIO!F50 -> 575 | G50: =+ABRIL!G48+MAYO!G47+JUNIO!G50 -> 498
A51: 18 a 29 años | B51: =+ABRIL!B49+MAYO!B48+JUNIO!B51 -> 630 | C51: =+ABRIL!C49+MAYO!C48+JUNIO!C51 -> 420 | D51: =+ABRIL!D49+MAYO!D48+JUNIO!D51 -> 136 | E51: =+ABRIL!E49+MAYO!E48+JUNIO!E51 -> 3312 | F51: =+ABRIL!F49+MAYO!F48+JUNIO!F51 -> 2807 | G51: =+ABRIL!G49+MAYO!G48+JUNIO!G51 -> 378
A52: 30 a 59 años | B52: =+ABRIL!B50+MAYO!B49+JUNIO!B52 -> 1094 | C52: =+ABRIL!C50+MAYO!C49+JUNIO!C52 -> 705 | D52: =+ABRIL!D50+MAYO!D49+JUNIO!D52 -> 293 | E52: =+ABRIL!E50+MAYO!E49+JUNIO!E52 -> 6076 | F52: =+ABRIL!F50+MAYO!F49+JUNIO!F52 -> 4681 | G52: =+ABRIL!G50+MAYO!G49+JUNIO!G52 -> 1172
...

Sheet 1ER SEM
A1: REPORTE: Atendidos Atenciones | E1: Desde: 01/01/2026 | G1: Hasta: 30/06/2026
A2: Red: AREQUIPA CAYLLOMA | E2: Departam: Todos
A3: Microred: MARITZA CAMPOS DIAZ | E3: Provincia: Todos
A4: Establec: Todos | E4: Distrito: Todos
A6: grupo_etareo | B6: TOTAL_atendidos | C6: atendidos_femenino | D6: atendidos_masculino | E6: TOTAL_atenciones | F6: atenciones_femenino | G6: atenciones_masculino
A7: <1 mes | B7: 1015 | C7: 473 | D7: 542 | E7: 4433 | F7: 2035 | G7: 2398
A8: 1 a 11 meses | B8: 1638 | C8: 751 | D8: 887 | E8: 10888 | F8: 5065 | G8: 5823
A9: 1 a 4 años | B9: 4198 | C9: 1994 | D9: 2204 | E9: 14525 | F9: 7009 | G9: 7516
A10: 5 a 11 años | B10: 3696 | C10: 1783 | D10: 1913 | E10: 11015 | F10: 5313 | G10: 5702
A11: 12 a 17 años | B11: 2586 | C11: 1402 | D11: 1184 | E11: 9078 | F11: 5058 | G11: 4020
A12: 18 a 29 años | B12: 8013 | C12: 5716 | D12: 2297 | E12: 29110 | F12: 23582 | G12: 5528
A13: 30 a 59 años | B13: 14403 | C13: 10273 | D13: 4130 | E13: 48990 | F13: 37450 | G13: 11540
A14: 60 a mas | B14: 4004 | C14: 2330 | D14: 1674 | E14: 13914 | F14: 8034 | G14: 5880
A15: TOTAL | B15: =SUM(B7:B14) -> 39553 | C15: =SUM(C7:C14) -> 24722 | D15: =SUM(D7:D14) -> 14831 | E15: =SUM(E7:E14) -> 141953 | F15: =SUM(F7:F14) -> 93546 | G15: =SUM(G7:G14) -> 48407
A18: REPORTE: Atendidos Atenciones | E18: Desde: 01/01/2026 | G18: Hasta: 30/06/2026
A19: Red: AREQUIPA CAYLLOMA | E19: Departam: Todos
A20: Microred: MARITZA CAMPOS DIAZ | E20: Provincia: Todos
A21: Establec: MARITZA CAMPOS DIAZ - ZAMACOLA | E21: Distrito: Todos
A23: grupo_etareo | B23: TOTAL_atendidos | C23: atendidos_femenino | D23: atendidos_masculino | E23: TOTAL_atenciones | F23: atenciones_femenino | G23: atenciones_masculino
A24: <1 mes | B24: 541 | C24: 254 | D24: 287 | E24: 2663 | F24: 1235 | G24: 1428
A25: 1 a 11 meses | B25: 564 | C25: 260 | D25: 304 | E25: 2494 | F25: 1212 | G25: 1282
A26: 1 a 4 años | B26: 1555 | C26: 746 | D26: 809 | E26: 4127 | F26: 2025 | G26: 2102
A27: 5 a 11 años | B27: 1550 | C27: 747 | D27: 803 | E27: 3798 | F27: 1773 | G27: 2025
A28: 12 a 17 años | B28: 1262 | C28: 707 | D28: 555 | E28: 4125 | F28: 2281 | G28: 1844
A29: 18 a 29 años | B29: 4265 | C29: 2899 | D29: 1366 | E29: 14420 | F29: 11113 | G29: 3307
A30: 30 a 59 años | B30: 7278 | C30: 4936 | D30: 2342 | E30: 21883 | F30: 15667 | G30: 6216
A31: 60 a mas | B31: 2214 | C31: 1268 | D31: 946 | E31: 7174 | F31: 4100 | G31: 3074
A32: TOTAL | B32: =SUM(B24:B31) -> 19229 | C32: =SUM(C24:C31) -> 11817 | D32: =SUM(D24:D31) -> 7412 | E32: =SUM(E24:E31) -> 60684 | F32: =SUM(F24:F31) -> 39406 | G32: =SUM(G24:G31) -> 21278
A36: REPORTE: Atendidos Atenciones | E36: Desde: 01/01/2026 | G36: Hasta: 30/06/2026
A37: Red: AREQUIPA CAYLLOMA | E37: Departam: Todos
A38: Microred: MARITZA CAMPOS DIAZ | E38: Provincia: Todos
A39: Establec: PUESTO DE SALUD CIUDAD MUNICIPAL | E39: Distrito: Todos
A41: grupo_etareo | B41: TOTAL_atendidos | C41: atendidos_femenino | D41: atendidos_masculino | E41: TOTAL_atenciones | F41: atenciones_femenino | G41: atenciones_masculino
A42: <1 mes | B42: 188 | C42: 83 | D42: 105 | E42: 681 | F42: 297 | G42: 384
A43: 1 a 11 meses | B43: 511 | C43: 245 | D43: 266 | E43: 3469 | F43: 1690 | G43: 1779
A44: 1 a 4 años | B44: 1048 | C44: 493 | D44: 555 | E44: 3788 | F44: 1818 | G44: 1970
A45: 5 a 11 años | B45: 851 | C45: 409 | D45: 442 | E45: 2855 | F45: 1418 | G45: 1437
A46: 12 a 17 años | B46: 448 | C46: 222 | D46: 226 | E46: 1783 | F46: 996 | G46: 787
A47: 18 a 29 años | B47: 1608 | C47: 1266 | D47: 342 | E47: 6081 | F47: 5308 | G47: 773
A48: 30 a 59 años | B48: 2942 | C48: 2233 | D48: 709 | E48: 11018 | F48: 8970 | G48: 2048
...

Sheet JULIO
A2: REPORTE: Atendidos Atenciones | E2: Desde: 01/07/2026 | G2: Hasta: 31/07/2026
A3: Red: AREQUIPA CAYLLOMA | E3: Departam: Todos
A4: Microred: MARITZA CAMPOS DIAZ | E4: Provincia: Todos
A5: Establec: Todos | E5: Distrito: Todos
A7: grupo_etareo | B7: TOTAL_atendidos | C7: atendidos_femenino | D7: atendidos_masculino | E7: TOTAL_atenciones | F7: atenciones_femenino | G7: atenciones_masculino
A8: <1 mes | B8: 137 | C8: 64 | D8: 73 | E8: 553 | F8: 261 | G8: 292
A9: 1 a 11 meses | B9: 86 | C9: 38 | D9: 48 | E9: 1792 | F9: 822 | G9: 970
A10: 1 a 4 años | B10: 398 | C10: 190 | D10: 208 | E10: 2579 | F10: 1213 | G10: 1366
A11: 5 a 11 años | B11: 544 | C11: 284 | D11: 260 | E11: 3819 | F11: 2013 | G11: 1806
A12: 12 a 17 años | B12: 442 | C12: 249 | D12: 193 | E12: 3458 | F12: 1986 | G12: 1472
A13: 18 a 29 años | B13: 1074 | C13: 678 | D13: 396 | E13: 5413 | F13: 4288 | G13: 1125
A14: 30 a 59 años | B14: 1778 | C14: 1156 | D14: 622 | E14: 8601 | F14: 6573 | G14: 2028
A15: 60 a mas | B15: 466 | C15: 253 | D15: 213 | E15: 2457 | F15: 1443 | G15: 1014
A16: TOTAL | B16: =SUM(B8:B15) -> 4925 | C16: =SUM(C8:C15) -> 2912 | D16: =SUM(D8:D15) -> 2013 | E16: =SUM(E8:E15) -> 28672 | F16: =SUM(F8:F15) -> 18599 | G16: =SUM(G8:G15) -> 10073
A21: REPORTE: Atendidos Atenciones | E21: Desde: 01/07/2026 | G21: Hasta: 31/07/2026
A22: Red: AREQUIPA CAYLLOMA | E22: Departam: Todos
A23: Microred: MARITZA CAMPOS DIAZ | E23: Provincia: Todos
A24: Establec: MARITZA CAMPOS DIAZ - ZAMACOLA | E24: Distrito: Todos
A26: grupo_etareo | B26: TOTAL_atendidos | C26: atendidos_femenino | D26: atendidos_masculino | E26: TOTAL_atenciones | F26: atenciones_femenino | G26: atenciones_masculino
A27: <1 mes | B27: 71 | C27: 32 | D27: 39 | E27: 324 | F27: 155 | G27: 169
A28: 1 a 11 meses | B28: 36 | C28: 15 | D28: 21 | E28: 388 | F28: 189 | G28: 199
A29: 1 a 4 años | B29: 285 | C29: 138 | D29: 147 | E29: 916 | F29: 422 | G29: 494
A30: 5 a 11 años | B30: 292 | C30: 161 | D30: 131 | E30: 927 | F30: 498 | G30: 429
A31: 12 a 17 años | B31: 293 | C31: 162 | D31: 131 | E31: 1281 | F31: 740 | G31: 541
A32: 18 a 29 años | B32: 694 | C32: 426 | D32: 268 | E32: 2660 | F32: 1970 | G32: 690
A33: 30 a 59 años | B33: 1008 | C33: 634 | D33: 374 | E33: 3859 | F33: 2744 | G33: 1115
A34: 60 a mas | B34: 280 | C34: 162 | D34: 118 | E34: 1279 | F34: 774 | G34: 505
A35: TOTAL | B35: =SUM(B27:B34) -> 2959 | C35: =SUM(C27:C34) -> 1730 | D35: =SUM(D27:D34) -> 1229 | E35: =SUM(E27:E34) -> 11634 | F35: =SUM(F27:F34) -> 7492 | G35: =SUM(G27:G34) -> 4142
A39: REPORTE: Atendidos Atenciones | E39: Desde: 01/07/2026 | G39: Hasta: 31/07/2026
A40: Red: AREQUIPA CAYLLOMA | E40: Departam: Todos
A41: Microred: MARITZA CAMPOS DIAZ | E41: Provincia: Todos
A42: Establec: PUESTO DE SALUD CIUDAD MUNICIPAL | E42: Distrito: Todos
A44: grupo_etareo | B44: TOTAL_atendidos | C44: atendidos_femenino | D44: atendidos_masculino | E44: TOTAL_atenciones | F44: atenciones_femenino | G44: atenciones_masculino
A45: <1 mes | B45: 29 | C45: 16 | D45: 13 | E45: 89 | F45: 38 | G45: 51
A46: 1 a 11 meses | B46: 25 | C46: 11 | D46: 14 | E46: 515 | F46: 228 | G46: 287
A47: 1 a 4 años | B47: 25 | C47: 5 | D47: 20 | E47: 562 | F47: 249 | G47: 313
A48: 5 a 11 años | B48: 104 | C48: 52 | D48: 52 | E48: 1292 | F48: 675 | G48: 617
A49: 12 a 17 años | B49: 51 | C49: 24 | D49: 27 | E49: 969 | F49: 544 | G49: 425
A50: 18 a 29 años | B50: 145 | C50: 98 | D50: 47 | E50: 1154 | F50: 1003 | G50: 151
A51: 30 a 59 años | B51: 283 | C51: 183 | D51: 100 | E51: 1746 | F51: 1384 | G51: 362
...

Sheet AGOSTO
A1: REPORTE: Atendidos Atenciones | E1: Desde: 01/08/2026 | G1: Hasta: 31/08/2026
A2: Red: AREQUIPA CAYLLOMA | E2: Departam: Todos
A3: Microred: MARITZA CAMPOS DIAZ | E3: Provincia: Todos
A4: Establec: Todos | E4: Distrito: Todos
A6: grupo_etareo | B6: TOTAL_atendidos | C6: atendidos_femenino | D6: atendidos_masculino | E6: TOTAL_atenciones | F6: atenciones_femenino | G6: atenciones_masculino
A7: <1 mes | B7: 142 | C7: 62 | D7: 78 | E7: 500 | F7: 251 | G7: 247
A8: 1 a 11 meses | B8: 65 | C8: 30 | D8: 35 | E8: 1737 | F8: 822 | G8: 913
A9: 1 a 4 años | B9: 250 | C9: 113 | D9: 130 | E9: 2418 | F9: 1175 | G9: 1231
A10: 5 a 11 años | B10: 344 | C10: 162 | D10: 178 | E10: 2863 | F10: 1445 | G10: 1392
A11: 12 a 17 años | B11: 193 | C11: 73 | D11: 119 | E11: 2448 | F11: 1343 | G11: 1087
A12: 18 a 29 años | B12: 985 | C12: 609 | D12: 355 | E12: 5198 | F12: 4032 | G12: 1134
A13: 30 a 59 años | B13: 1579 | C13: 954 | D13: 585 | E13: 8606 | F13: 6167 | G13: 2379
A14: 60 a mas | B14: 375 | C14: 210 | D14: 156 | E14: 2554 | F14: 1580 | G14: 964
A18: REPORTE: Atendidos Atenciones | E18: Desde: 01/08/2026 | G18: Hasta: 31/08/2026
A19: Red: AREQUIPA CAYLLOMA | E19: Departam: Todos
A20: Microred: MARITZA CAMPOS DIAZ | E20: Provincia: Todos
A21: Establec: MARITZA CAMPOS DIAZ - ZAMACOLA | E21: Distrito: Todos
A23: grupo_etareo | B23: TOTAL_atendidos | C23: atendidos_femenino | D23: atendidos_masculino | E23: TOTAL_atenciones | F23: atenciones_femenino | G23: atenciones_masculino
A24: <1 mes | B24: 72 | C24: 33 | D24: 39 | E24: 311 | F24: 160 | G24: 151
A25: 1 a 11 meses | B25: 30 | C25: 13 | D25: 17 | E25: 331 | F25: 173 | G25: 158
A26: 1 a 4 años | B26: 133 | C26: 55 | D26: 73 | E26: 644 | F26: 322 | G26: 317
A27: 5 a 11 años | B27: 163 | C27: 74 | D27: 86 | E27: 556 | F27: 270 | G27: 282
A28: 12 a 17 años | B28: 65 | C28: 36 | D28: 28 | E28: 622 | F28: 336 | G28: 282
A29: 18 a 29 años | B29: 576 | C29: 379 | D29: 184 | E29: 2464 | F29: 1820 | G29: 624
A30: 30 a 59 años | B30: 815 | C30: 494 | D30: 300 | E30: 3515 | F30: 2460 | G30: 1033
A31: 60 a mas | B31: 192 | C31: 109 | D31: 80 | E31: 1053 | F31: 655 | G31: 395
A36: REPORTE: Atendidos Atenciones | E36: Desde: 01/08/2026 | G36: Hasta: 31/08/2026
A37: Red: AREQUIPA CAYLLOMA | E37: Departam: Todos
A38: Microred: MARITZA CAMPOS DIAZ | E38: Provincia: Todos
A39: Establec: PUESTO DE SALUD CIUDAD MUNICIPAL | E39: Distrito: Todos
A41: grupo_etareo | B41: TOTAL_atendidos | C41: atendidos_femenino | D41: atendidos_masculino | E41: TOTAL_atenciones | F41: atenciones_femenino | G41: atenciones_masculino
A42: <1 mes | B42: 24 | C42: 11 | D42: 12 | E42: 64 | F42: 37 | G42: 26
A43: 1 a 11 meses | B43: 17 | C43: 9 | D43: 8 | E43: 516 | F43: 242 | G43: 274
A44: 1 a 4 años | B44: 24 | C44: 10 | D44: 12 | E44: 543 | F44: 256 | G44: 280
A45: 5 a 11 años | B45: 48 | C45: 26 | D45: 21 | E45: 738 | F45: 380 | G45: 336
A46: 12 a 17 años | B46: 36 | C46: 13 | D46: 23 | E46: 474 | F46: 281 | G46: 179
A47: 18 a 29 años | B47: 147 | C47: 86 | D47: 54 | E47: 984 | F47: 822 | G47: 151
A48: 30 a 59 años | B48: 289 | C48: 134 | D48: 140 | E48: 2007 | F48: 1249 | G48: 725
A49: 60 a mas | B49: 80 | C49: 41 | D49: 33 | E49: 635 | F49: 353 | G49: 275
A54: REPORTE: Atendidos Atenciones | E54: Desde: 01/08/2026 | G54: Hasta: 31/08/2026
...

Sheet SETIEMBRE
A1: REPORTE: Atendidos Atenciones | E1: Desde: 01/09/2026 | G1: Hasta: 30/09/2026
A2: Red: AREQUIPA CAYLLOMA | E2: Departam: Todos
A3: Microred: MARITZA CAMPOS DIAZ | E3: Provincia: Todos
A4: Establec: Todos | E4: Distrito: Todos
A6: grupo_etareo | B6: TOTAL_atendidos | C6: atendidos_femenino | D6: atendidos_masculino | E6: TOTAL_atenciones | F6: atenciones_femenino | G6: atenciones_masculino
A7: <1 mes | B7: 149 | C7: 87 | D7: 62 | E7: 655 | F7: 371 | G7: 284
A8: 1 a 11 meses | B8: 74 | C8: 41 | D8: 33 | E8: 1611 | F8: 751 | G8: 860
A9: 1 a 4 años | B9: 170 | C9: 87 | D9: 83 | E9: 2311 | F9: 1155 | G9: 1156
A10: 5 a 11 años | B10: 285 | C10: 145 | D10: 140 | E10: 2481 | F10: 1296 | G10: 1185
A11: 12 a 17 años | B11: 157 | C11: 59 | D11: 98 | E11: 2674 | F11: 1491 | G11: 1183
A12: 18 a 29 años | B12: 749 | C12: 494 | D12: 255 | E12: 4972 | F12: 4018 | G12: 954
A13: 30 a 59 años | B13: 1376 | C13: 922 | D13: 454 | E13: 8789 | F13: 6720 | G13: 2069
A14: 60 a mas | B14: 363 | C14: 204 | D14: 159 | E14: 2830 | F14: 1701 | G14: 1129
B15: =SUM(B7:B14) -> 3323 | C15: =SUM(C7:C14) -> 2039 | D15: =SUM(D7:D14) -> 1284 | E15: =SUM(E7:E14) -> 26323 | F15: =SUM(F7:F14) -> 17503 | G15: =SUM(G7:G14) -> 8820
A20: REPORTE: Atendidos Atenciones | E20: Desde: 01/09/2026 | G20: Hasta: 30/09/2026
A21: Red: AREQUIPA CAYLLOMA | E21: Departam: Todos
A22: Microred: MARITZA CAMPOS DIAZ | E22: Provincia: Todos
A23: Establec: MARITZA CAMPOS DIAZ - ZAMACOLA | E23: Distrito: Todos
A25: grupo_etareo | B25: TOTAL_atendidos | C25: atendidos_femenino | D25: atendidos_masculino | E25: TOTAL_atenciones | F25: atenciones_femenino | G25: atenciones_masculino
A26: <1 mes | B26: 80 | C26: 45 | D26: 35 | E26: 419 | F26: 227 | G26: 192
A27: 1 a 11 meses | B27: 36 | C27: 19 | D27: 17 | E27: 382 | F27: 193 | G27: 189
A28: 1 a 4 años | B28: 87 | C28: 44 | D28: 43 | E28: 711 | F28: 361 | G28: 350
A29: 5 a 11 años | B29: 109 | C29: 58 | D29: 51 | E29: 734 | F29: 382 | G29: 352
A30: 12 a 17 años | B30: 60 | C30: 27 | D30: 33 | E30: 1129 | F30: 636 | G30: 493
A31: 18 a 29 años | B31: 383 | C31: 270 | D31: 113 | E31: 2363 | F31: 1842 | G31: 521
A32: 30 a 59 años | B32: 652 | C32: 429 | D32: 223 | E32: 3965 | F32: 2895 | G32: 1070
A33: 60 a mas | B33: 214 | C33: 127 | D33: 87 | E33: 1516 | F33: 943 | G33: 573
B34: =SUM(B26:B33) -> 1621 | C34: =SUM(C26:C33) -> 1019 | D34: =SUM(D26:D33) -> 602 | E34: =SUM(E26:E33) -> 11219 | F34: =SUM(F26:F33) -> 7479 | G34: =SUM(G26:G33) -> 3740
A40: REPORTE: Atendidos Atenciones | E40: Desde: 01/09/2026 | G40: Hasta: 30/09/2026
A41: Red: AREQUIPA CAYLLOMA | E41: Departam: Todos
A42: Microred: MARITZA CAMPOS DIAZ | E42: Provincia: Todos
A43: Establec: PUESTO DE SALUD CIUDAD MUNICIPAL | E43: Distrito: Todos
A45: grupo_etareo | B45: TOTAL_atendidos | C45: atendidos_femenino | D45: atendidos_masculino | E45: TOTAL_atenciones | F45: atenciones_femenino | G45: atenciones_masculino
A46: <1 mes | B46: 27 | C46: 12 | D46: 15 | E46: 92 | F46: 51 | G46: 41
A47: 1 a 11 meses | B47: 11 | C47: 6 | D47: 5 | E47: 404 | F47: 180 | G47: 224
A48: 1 a 4 años | B48: 20 | C48: 10 | D48: 10 | E48: 476 | F48: 247 | G48: 229
A49: 5 a 11 años | B49: 53 | C49: 25 | D49: 28 | E49: 581 | F49: 304 | G49: 277
A50: 12 a 17 años | B50: 17 | C50: 8 | D50: 9 | E50: 386 | F50: 239 | G50: 147
A51: 18 a 29 años | B51: 119 | C51: 82 | D51: 37 | E51: 993 | F51: 862 | G51: 131
A52: 30 a 59 años | B52: 230 | C52: 146 | D52: 84 | E52: 1726 | F52: 1319 | G52: 407
...
